BEGIN:VCALENDAR
VERSION:2.0
PRODID:-//Tilton Library - ECPv6.15.3//NONSGML v1.0//EN
CALSCALE:GREGORIAN
METHOD:PUBLISH
X-WR-CALNAME:Tilton Library
X-ORIGINAL-URL:https://www.tiltonlibrary.org
X-WR-CALDESC:Events for Tilton Library
REFRESH-INTERVAL;VALUE=DURATION:PT1H
X-Robots-Tag:noindex
X-PUBLISHED-TTL:PT1H
BEGIN:VTIMEZONE
TZID:America/New_York
BEGIN:DAYLIGHT
TZOFFSETFROM:-0500
TZOFFSETTO:-0400
TZNAME:EDT
DTSTART:20240310T070000
END:DAYLIGHT
BEGIN:STANDARD
TZOFFSETFROM:-0400
TZOFFSETTO:-0500
TZNAME:EST
DTSTART:20241103T060000
END:STANDARD
END:VTIMEZONE
BEGIN:VEVENT
DTSTART;TZID=America/New_York:20241204T100000
DTEND;TZID=America/New_York:20241204T110000
DTSTAMP:20260424T045417
CREATED:20241015T194717Z
LAST-MODIFIED:20241015T194718Z
UID:10005321-1733306400-1733310000@www.tiltonlibrary.org
SUMMARY:Tot-Time Tilton Library Playgroup
DESCRIPTION:
URL:https://www.tiltonlibrary.org/event/tot-time-tilton-library-playgroup-2/2024-12-04/
LOCATION:Tilton Library\, 75 North Main Street\, South Deerfield\, MA\, 01373\, United States
CATEGORIES:Kids Room
ATTACH;FMTTYPE=image/jpeg:https://www.tiltonlibrary.org/wp-content/uploads/2024/08/TIltonTotTimePlaygroup-1-e1724958076480.jpg
END:VEVENT
BEGIN:VEVENT
DTSTART;TZID=America/New_York:20241211T100000
DTEND;TZID=America/New_York:20241211T110000
DTSTAMP:20260424T045417
CREATED:20241015T194717Z
LAST-MODIFIED:20241015T194718Z
UID:10005322-1733911200-1733914800@www.tiltonlibrary.org
SUMMARY:Tot-Time Tilton Library Playgroup
DESCRIPTION:
URL:https://www.tiltonlibrary.org/event/tot-time-tilton-library-playgroup-2/2024-12-11/
LOCATION:Tilton Library\, 75 North Main Street\, South Deerfield\, MA\, 01373\, United States
CATEGORIES:Kids Room
ATTACH;FMTTYPE=image/jpeg:https://www.tiltonlibrary.org/wp-content/uploads/2024/08/TIltonTotTimePlaygroup-1-e1724958076480.jpg
END:VEVENT
BEGIN:VEVENT
DTSTART;TZID=America/New_York:20241218T100000
DTEND;TZID=America/New_York:20241218T110000
DTSTAMP:20260424T045417
CREATED:20241015T194717Z
LAST-MODIFIED:20241015T194718Z
UID:10005323-1734516000-1734519600@www.tiltonlibrary.org
SUMMARY:Tot-Time Tilton Library Playgroup
DESCRIPTION:
URL:https://www.tiltonlibrary.org/event/tot-time-tilton-library-playgroup-2/2024-12-18/
LOCATION:Tilton Library\, 75 North Main Street\, South Deerfield\, MA\, 01373\, United States
CATEGORIES:Kids Room
ATTACH;FMTTYPE=image/jpeg:https://www.tiltonlibrary.org/wp-content/uploads/2024/08/TIltonTotTimePlaygroup-1-e1724958076480.jpg
END:VEVENT
BEGIN:VEVENT
DTSTART;TZID=America/New_York:20241225T100000
DTEND;TZID=America/New_York:20241225T110000
DTSTAMP:20260424T045417
CREATED:20241015T194717Z
LAST-MODIFIED:20241015T194718Z
UID:10005324-1735120800-1735124400@www.tiltonlibrary.org
SUMMARY:Tot-Time Tilton Library Playgroup
DESCRIPTION:
URL:https://www.tiltonlibrary.org/event/tot-time-tilton-library-playgroup-2/2024-12-25/
LOCATION:Tilton Library\, 75 North Main Street\, South Deerfield\, MA\, 01373\, United States
CATEGORIES:Kids Room
ATTACH;FMTTYPE=image/jpeg:https://www.tiltonlibrary.org/wp-content/uploads/2024/08/TIltonTotTimePlaygroup-1-e1724958076480.jpg
END:VEVENT
BEGIN:VEVENT
DTSTART;TZID=America/New_York:20241231T100000
DTEND;TZID=America/New_York:20241231T120000
DTSTAMP:20260424T045417
CREATED:20241205T204355Z
LAST-MODIFIED:20241205T204355Z
UID:10005385-1735639200-1735646400@www.tiltonlibrary.org
SUMMARY:New Year's Eve Celebration
DESCRIPTION:Join us in the Tilton children’s area for a Family New Year’s Eve Celebration! While the library is closed\, we’ll have stories\, crafts\, and treats. \nTilton is open 1-4pm on 12/31
URL:https://www.tiltonlibrary.org/event/new-years-eve-celebration/
LOCATION:Tilton Library\, 75 North Main Street\, South Deerfield\, MA\, 01373\, United States
CATEGORIES:Kids Room
ATTACH;FMTTYPE=image/png:https://www.tiltonlibrary.org/wp-content/uploads/2024/12/facebook-new-years-eve-1920-x-1080-px-e1733431398533.png
END:VEVENT
END:VCALENDAR