BEGIN:VCALENDAR
VERSION:2.0
PRODID:-//Tilton Library - ECPv6.15.3//NONSGML v1.0//EN
CALSCALE:GREGORIAN
METHOD:PUBLISH
X-WR-CALNAME:Tilton Library
X-ORIGINAL-URL:https://www.tiltonlibrary.org
X-WR-CALDESC:Events for Tilton Library
REFRESH-INTERVAL;VALUE=DURATION:PT1H
X-Robots-Tag:noindex
X-PUBLISHED-TTL:PT1H
BEGIN:VTIMEZONE
TZID:America/New_York
BEGIN:DAYLIGHT
TZOFFSETFROM:-0500
TZOFFSETTO:-0400
TZNAME:EDT
DTSTART:20250309T070000
END:DAYLIGHT
BEGIN:STANDARD
TZOFFSETFROM:-0400
TZOFFSETTO:-0500
TZNAME:EST
DTSTART:20251102T060000
END:STANDARD
END:VTIMEZONE
BEGIN:VEVENT
DTSTART;TZID=America/New_York:20250910T100000
DTEND;TZID=America/New_York:20250910T110000
DTSTAMP:20260423T045017
CREATED:20250827T142610Z
LAST-MODIFIED:20250827T142610Z
UID:10005437-1757498400-1757502000@www.tiltonlibrary.org
SUMMARY:Outdoor Wednesday Playtime at the Tilton
DESCRIPTION:
URL:https://www.tiltonlibrary.org/event/outdoor-wednesday-playtime-at-the-tilton/2025-09-10/
LOCATION:MA
CATEGORIES:Kids Room
ATTACH;FMTTYPE=image/jpeg:https://www.tiltonlibrary.org/wp-content/uploads/2025/08/union-38-outdoor-play-time-e1756304598119.jpg
END:VEVENT
BEGIN:VEVENT
DTSTART;TZID=America/New_York:20250917T100000
DTEND;TZID=America/New_York:20250917T110000
DTSTAMP:20260423T045018
CREATED:20250827T142610Z
LAST-MODIFIED:20250827T142610Z
UID:10005438-1758103200-1758106800@www.tiltonlibrary.org
SUMMARY:Outdoor Wednesday Playtime at the Tilton
DESCRIPTION:
URL:https://www.tiltonlibrary.org/event/outdoor-wednesday-playtime-at-the-tilton/2025-09-17/
LOCATION:MA
CATEGORIES:Kids Room
ATTACH;FMTTYPE=image/jpeg:https://www.tiltonlibrary.org/wp-content/uploads/2025/08/union-38-outdoor-play-time-e1756304598119.jpg
END:VEVENT
BEGIN:VEVENT
DTSTART;TZID=America/New_York:20250924T100000
DTEND;TZID=America/New_York:20250924T110000
DTSTAMP:20260423T045018
CREATED:20250827T142610Z
LAST-MODIFIED:20250827T142610Z
UID:10005439-1758708000-1758711600@www.tiltonlibrary.org
SUMMARY:Outdoor Wednesday Playtime at the Tilton
DESCRIPTION:
URL:https://www.tiltonlibrary.org/event/outdoor-wednesday-playtime-at-the-tilton/2025-09-24/
LOCATION:MA
CATEGORIES:Kids Room
ATTACH;FMTTYPE=image/jpeg:https://www.tiltonlibrary.org/wp-content/uploads/2025/08/union-38-outdoor-play-time-e1756304598119.jpg
END:VEVENT
END:VCALENDAR