BEGIN:VCALENDAR
VERSION:2.0
PRODID:-//Tilton Library - ECPv6.15.3//NONSGML v1.0//EN
CALSCALE:GREGORIAN
METHOD:PUBLISH
X-ORIGINAL-URL:https://www.tiltonlibrary.org
X-WR-CALDESC:Events for Tilton Library
REFRESH-INTERVAL;VALUE=DURATION:PT1H
X-Robots-Tag:noindex
X-PUBLISHED-TTL:PT1H
BEGIN:VTIMEZONE
TZID:America/New_York
BEGIN:DAYLIGHT
TZOFFSETFROM:-0500
TZOFFSETTO:-0400
TZNAME:EDT
DTSTART:20240310T070000
END:DAYLIGHT
BEGIN:STANDARD
TZOFFSETFROM:-0400
TZOFFSETTO:-0500
TZNAME:EST
DTSTART:20241103T060000
END:STANDARD
END:VTIMEZONE
BEGIN:VEVENT
DTSTART;TZID=America/New_York:20240326T150000
DTEND;TZID=America/New_York:20240326T160000
DTSTAMP:20260425T201420
CREATED:20240229T193613Z
LAST-MODIFIED:20240312T173652Z
UID:10004638-1711465200-1711468800@www.tiltonlibrary.org
SUMMARY:Visit with J-lo
DESCRIPTION:J-lo is a trained therapy dog. Stop by  the Tilton Library’s children’s room to read her a story or just give her some love!
URL:https://www.tiltonlibrary.org/event/visit-with-j-lo-5/2024-03-26/
LOCATION:Tilton Library\, 75 North Main Street\, South Deerfield\, MA\, 01373\, United States
CATEGORIES:Kids Room
ATTACH;FMTTYPE=image/png:https://www.tiltonlibrary.org/wp-content/uploads/2023/08/FBWEB-page-Visit-with-J-Lo-1920-×-1080-px-e1692111836260.png
END:VEVENT
END:VCALENDAR