BEGIN:VCALENDAR
VERSION:2.0
PRODID:-//Tilton Library - ECPv6.15.3//NONSGML v1.0//EN
CALSCALE:GREGORIAN
METHOD:PUBLISH
X-WR-CALNAME:Tilton Library
X-ORIGINAL-URL:https://www.tiltonlibrary.org
X-WR-CALDESC:Events for Tilton Library
REFRESH-INTERVAL;VALUE=DURATION:PT1H
X-Robots-Tag:noindex
X-PUBLISHED-TTL:PT1H
BEGIN:VTIMEZONE
TZID:America/New_York
BEGIN:DAYLIGHT
TZOFFSETFROM:-0500
TZOFFSETTO:-0400
TZNAME:EDT
DTSTART:20250309T070000
END:DAYLIGHT
BEGIN:STANDARD
TZOFFSETFROM:-0400
TZOFFSETTO:-0500
TZNAME:EST
DTSTART:20251102T060000
END:STANDARD
END:VTIMEZONE
BEGIN:VEVENT
DTSTART;TZID=America/New_York:20250621T103000
DTEND;TZID=America/New_York:20250621T113000
DTSTAMP:20260423T163747
CREATED:20250513T171320Z
LAST-MODIFIED:20250605T194553Z
UID:10005407-1750501800-1750505400@www.tiltonlibrary.org
SUMMARY:Playful Engineers: Artful Mechanisms!
DESCRIPTION:Join us at the pavilion behind Deerfield Elementary School for a Makerspace Build-Along Workshop! Free for all ages. \nTo make sure we have enough supplies\, please use the link or call the library to reserve your spot today! \nhttps://www.eventbrite.com/e/playful-engineers-artful-mechanisms-tickets-1364312357989?aff=oddtdtcreator \nTo request accommodations contact Holly Johnson at 413-665-4683 or hjohnson@cwmars.org Please allow at least three days to arrange accommodation. \nRain Location: Deerfield Town Hall \nFunded by the Friends of Tilton Library and the Deerfield Cultural Council
URL:https://www.tiltonlibrary.org/event/playful-engineers-artful-mechanisms-3/
LOCATION:Deerfield Elementary School Grounds\, 21 Pleasant St\, South Deerfield\, MA\, 1373\, United States
CATEGORIES:Activity,Kids Room,Summer Library Program
ATTACH;FMTTYPE=image/png:https://www.tiltonlibrary.org/wp-content/uploads/2025/05/FBWEB-Playful-ENGINEERS-1920-x-1080-px-2-e1747156224951.png
END:VEVENT
END:VCALENDAR