BEGIN:VCALENDAR
VERSION:2.0
PRODID:-//Tilton Library - ECPv6.15.3//NONSGML v1.0//EN
CALSCALE:GREGORIAN
METHOD:PUBLISH
X-ORIGINAL-URL:https://www.tiltonlibrary.org
X-WR-CALDESC:Events for Tilton Library
REFRESH-INTERVAL;VALUE=DURATION:PT1H
X-Robots-Tag:noindex
X-PUBLISHED-TTL:PT1H
BEGIN:VTIMEZONE
TZID:America/New_York
BEGIN:DAYLIGHT
TZOFFSETFROM:-0500
TZOFFSETTO:-0400
TZNAME:EDT
DTSTART:20220313T070000
END:DAYLIGHT
BEGIN:STANDARD
TZOFFSETFROM:-0400
TZOFFSETTO:-0500
TZNAME:EST
DTSTART:20221106T060000
END:STANDARD
END:VTIMEZONE
BEGIN:VEVENT
DTSTART;TZID=America/New_York:20221029T100000
DTEND;TZID=America/New_York:20221029T140000
DTSTAMP:20260425T231525
CREATED:20220929T183224Z
LAST-MODIFIED:20220929T183224Z
UID:10004363-1667037600-1667052000@www.tiltonlibrary.org
SUMMARY:Halloween Party
DESCRIPTION:Hosted by Tilton Library and the Atlas Farm Store \nPumpkin decorating & Apple Tasting! There will be candy\, crafts\, & games for all ages and a special treat for coming in costume! \nRain date is 10/30 at 10-2pm
URL:https://www.tiltonlibrary.org/event/halloween-party/
LOCATION:Tilton Library\, 75 North Main Street\, South Deerfield\, MA\, 01373\, United States
CATEGORIES:Party
ATTACH;FMTTYPE=image/jpeg:https://www.tiltonlibrary.org/wp-content/uploads/2022/09/Halloween-Party-Flyer-Tilton-Website-e1664476301429.jpg
END:VEVENT
END:VCALENDAR