BEGIN:VCALENDAR
VERSION:2.0
PRODID:-//Tilton Library - ECPv6.15.3//NONSGML v1.0//EN
CALSCALE:GREGORIAN
METHOD:PUBLISH
X-ORIGINAL-URL:https://www.tiltonlibrary.org
X-WR-CALDESC:Events for Tilton Library
REFRESH-INTERVAL;VALUE=DURATION:PT1H
X-Robots-Tag:noindex
X-PUBLISHED-TTL:PT1H
BEGIN:VTIMEZONE
TZID:America/New_York
BEGIN:DAYLIGHT
TZOFFSETFROM:-0500
TZOFFSETTO:-0400
TZNAME:EDT
DTSTART:20220313T070000
END:DAYLIGHT
BEGIN:STANDARD
TZOFFSETFROM:-0400
TZOFFSETTO:-0500
TZNAME:EST
DTSTART:20221106T060000
END:STANDARD
END:VTIMEZONE
BEGIN:VEVENT
DTSTART;TZID=America/New_York:20220801T103000
DTEND;TZID=America/New_York:20220801T233000
DTSTAMP:20260421T125227
CREATED:20210112T133006Z
LAST-MODIFIED:20210114T225915Z
UID:10003816-1659349800-1659396600@www.tiltonlibrary.org
SUMMARY:VIRTUAL WEEKLY CLASS: Qigong for Adults
DESCRIPTION:TILTON IS CO-HOSTING THIS FREE WEEKLY CLASS\, SPONSORED BY SUNDERLAND LIBRARY. \nDvora Eisenstein leads this free weekly Qigong class on Zoom. Qigong is an ancient Chinese health care system integrating slow movements\, breathing techniques\, and focused intention. Qigong calms your mind\, improves your balance\, and enhances health. This practice is suitable for all levels of ability and ages. Anyone may join this free class at any time. \nTO JOIN\, CLICK THIS ZOOM LINK:\nhttps://zoom.us/j/117278043
URL:https://www.tiltonlibrary.org/event/virtual-weekly-class-qigong-for-adults-10/2022-08-01/
CATEGORIES:Activity,Workshop
ATTACH;FMTTYPE=image/png:https://www.tiltonlibrary.org/wp-content/uploads/2021/01/Power-of-QI-e1610457620188.png
END:VEVENT
BEGIN:VEVENT
DTSTART;TZID=America/New_York:20220801T190000
DTEND;TZID=America/New_York:20220801T200000
DTSTAMP:20260421T125227
CREATED:20220606T135109Z
LAST-MODIFIED:20220719T145809Z
UID:10004289-1659380400-1659384000@www.tiltonlibrary.org
SUMMARY:Monday Night Music series
DESCRIPTION:Mark your calendars!\nMonday Night Music returns to Tilton Library at 7 pm \nFrom July 11th through August 15th\nFree for everyone! Outside on our lawn.Bring a chair and a friend. We’ll move inside in case\nof inclement weather.
URL:https://www.tiltonlibrary.org/event/monday-night-music-series/2022-08-01/
CATEGORIES:Music,Summer Library Program
END:VEVENT
BEGIN:VEVENT
DTSTART;TZID=America/New_York:20220804T180000
DTEND;TZID=America/New_York:20220804T193000
DTSTAMP:20260421T125227
CREATED:20220802T173717Z
LAST-MODIFIED:20220802T173717Z
UID:10003266-1659636000-1659641400@www.tiltonlibrary.org
SUMMARY:Wildcat O'Halloran Concert
DESCRIPTION:
URL:https://www.tiltonlibrary.org/event/wildcat-ohalloran-concert/
CATEGORIES:Music
END:VEVENT
BEGIN:VEVENT
DTSTART;TZID=America/New_York:20220808T103000
DTEND;TZID=America/New_York:20220808T233000
DTSTAMP:20260421T125227
CREATED:20210112T133006Z
LAST-MODIFIED:20210114T225915Z
UID:10003817-1659954600-1660001400@www.tiltonlibrary.org
SUMMARY:VIRTUAL WEEKLY CLASS: Qigong for Adults
DESCRIPTION:TILTON IS CO-HOSTING THIS FREE WEEKLY CLASS\, SPONSORED BY SUNDERLAND LIBRARY. \nDvora Eisenstein leads this free weekly Qigong class on Zoom. Qigong is an ancient Chinese health care system integrating slow movements\, breathing techniques\, and focused intention. Qigong calms your mind\, improves your balance\, and enhances health. This practice is suitable for all levels of ability and ages. Anyone may join this free class at any time. \nTO JOIN\, CLICK THIS ZOOM LINK:\nhttps://zoom.us/j/117278043
URL:https://www.tiltonlibrary.org/event/virtual-weekly-class-qigong-for-adults-10/2022-08-08/
CATEGORIES:Activity,Workshop
ATTACH;FMTTYPE=image/png:https://www.tiltonlibrary.org/wp-content/uploads/2021/01/Power-of-QI-e1610457620188.png
END:VEVENT
BEGIN:VEVENT
DTSTART;TZID=America/New_York:20220808T190000
DTEND;TZID=America/New_York:20220808T200000
DTSTAMP:20260421T125227
CREATED:20220606T135109Z
LAST-MODIFIED:20220719T145809Z
UID:10004290-1659985200-1659988800@www.tiltonlibrary.org
SUMMARY:Monday Night Music series
DESCRIPTION:Mark your calendars!\nMonday Night Music returns to Tilton Library at 7 pm \nFrom July 11th through August 15th\nFree for everyone! Outside on our lawn.Bring a chair and a friend. We’ll move inside in case\nof inclement weather.
URL:https://www.tiltonlibrary.org/event/monday-night-music-series/2022-08-08/
CATEGORIES:Music,Summer Library Program
END:VEVENT
BEGIN:VEVENT
DTSTART;TZID=America/New_York:20220809T103000
DTEND;TZID=America/New_York:20220809T113000
DTSTAMP:20260421T125227
CREATED:20220708T130808Z
LAST-MODIFIED:20221212T203844Z
UID:10004297-1660041000-1660044600@www.tiltonlibrary.org
SUMMARY:Story Time with Holly
DESCRIPTION:All ages and abilities welcome! Drop in for a relaxed story hour\, listen to books\, play\, make a seasonal craft\, and chat with other grown ups!\nMasks encouraged
URL:https://www.tiltonlibrary.org/event/story-time-with-holly-2/2022-08-09/
LOCATION:Tilton Library\, 75 North Main Street\, South Deerfield\, MA\, 01373\, United States
CATEGORIES:Activity,Kids Room,Story Time
ATTACH;FMTTYPE=image/jpeg:https://www.tiltonlibrary.org/wp-content/uploads/2022/11/new-story-time-flyer-92022-1920-×-1080-px-e1668630353756.jpg
END:VEVENT
BEGIN:VEVENT
DTSTART;TZID=America/New_York:20220815T103000
DTEND;TZID=America/New_York:20220815T233000
DTSTAMP:20260421T125227
CREATED:20210112T133006Z
LAST-MODIFIED:20210114T225915Z
UID:10003818-1660559400-1660606200@www.tiltonlibrary.org
SUMMARY:VIRTUAL WEEKLY CLASS: Qigong for Adults
DESCRIPTION:TILTON IS CO-HOSTING THIS FREE WEEKLY CLASS\, SPONSORED BY SUNDERLAND LIBRARY. \nDvora Eisenstein leads this free weekly Qigong class on Zoom. Qigong is an ancient Chinese health care system integrating slow movements\, breathing techniques\, and focused intention. Qigong calms your mind\, improves your balance\, and enhances health. This practice is suitable for all levels of ability and ages. Anyone may join this free class at any time. \nTO JOIN\, CLICK THIS ZOOM LINK:\nhttps://zoom.us/j/117278043
URL:https://www.tiltonlibrary.org/event/virtual-weekly-class-qigong-for-adults-10/2022-08-15/
CATEGORIES:Activity,Workshop
ATTACH;FMTTYPE=image/png:https://www.tiltonlibrary.org/wp-content/uploads/2021/01/Power-of-QI-e1610457620188.png
END:VEVENT
BEGIN:VEVENT
DTSTART;TZID=America/New_York:20220815T190000
DTEND;TZID=America/New_York:20220815T200000
DTSTAMP:20260421T125227
CREATED:20220808T225756Z
LAST-MODIFIED:20220808T225756Z
UID:10003267-1660590000-1660593600@www.tiltonlibrary.org
SUMMARY:Masala Jazz - Monday Night Music Finale
DESCRIPTION:
URL:https://www.tiltonlibrary.org/event/masala-jazz-monday-night-music-finale/
CATEGORIES:Music
END:VEVENT
BEGIN:VEVENT
DTSTART;TZID=America/New_York:20220816T103000
DTEND;TZID=America/New_York:20220816T113000
DTSTAMP:20260421T125227
CREATED:20220708T130808Z
LAST-MODIFIED:20221212T203844Z
UID:10004298-1660645800-1660649400@www.tiltonlibrary.org
SUMMARY:Story Time with Holly
DESCRIPTION:All ages and abilities welcome! Drop in for a relaxed story hour\, listen to books\, play\, make a seasonal craft\, and chat with other grown ups!\nMasks encouraged
URL:https://www.tiltonlibrary.org/event/story-time-with-holly-2/2022-08-16/
LOCATION:Tilton Library\, 75 North Main Street\, South Deerfield\, MA\, 01373\, United States
CATEGORIES:Activity,Kids Room,Story Time
ATTACH;FMTTYPE=image/jpeg:https://www.tiltonlibrary.org/wp-content/uploads/2022/11/new-story-time-flyer-92022-1920-×-1080-px-e1668630353756.jpg
END:VEVENT
BEGIN:VEVENT
DTSTART;TZID=America/New_York:20220817T183000
DTEND;TZID=America/New_York:20220817T193000
DTSTAMP:20260421T125227
CREATED:20220721T161454Z
LAST-MODIFIED:20220816T173059Z
UID:10004344-1660761000-1660764600@www.tiltonlibrary.org
SUMMARY:CANCELLED: Big Destiny
DESCRIPTION:CANCELLED DUE TO WEATHER…SORRY!!\nGrab your chance\, and your camping chairs\, for a front row seat to a popular local band. Transcendent in their mix of eclectic genres\, Big Destiny keeps audience members on their toes–and on the dance floor! Enjoy free refreshments and party favors (temporary tattoos\, coloring pages) on us. \n 
URL:https://www.tiltonlibrary.org/event/big-destiny-rescheduled/
LOCATION:Tilton Library\, 75 North Main Street\, South Deerfield\, MA\, 01373\, United States
CATEGORIES:Music
ATTACH;FMTTYPE=image/png:https://www.tiltonlibrary.org/wp-content/uploads/2022/07/Teen-Live-Show-2022-Flyer-e1658419861276.png
END:VEVENT
BEGIN:VEVENT
DTSTART;TZID=America/New_York:20220822T103000
DTEND;TZID=America/New_York:20220822T233000
DTSTAMP:20260421T125227
CREATED:20210112T133006Z
LAST-MODIFIED:20210114T225915Z
UID:10003819-1661164200-1661211000@www.tiltonlibrary.org
SUMMARY:VIRTUAL WEEKLY CLASS: Qigong for Adults
DESCRIPTION:TILTON IS CO-HOSTING THIS FREE WEEKLY CLASS\, SPONSORED BY SUNDERLAND LIBRARY. \nDvora Eisenstein leads this free weekly Qigong class on Zoom. Qigong is an ancient Chinese health care system integrating slow movements\, breathing techniques\, and focused intention. Qigong calms your mind\, improves your balance\, and enhances health. This practice is suitable for all levels of ability and ages. Anyone may join this free class at any time. \nTO JOIN\, CLICK THIS ZOOM LINK:\nhttps://zoom.us/j/117278043
URL:https://www.tiltonlibrary.org/event/virtual-weekly-class-qigong-for-adults-10/2022-08-22/
CATEGORIES:Activity,Workshop
ATTACH;FMTTYPE=image/png:https://www.tiltonlibrary.org/wp-content/uploads/2021/01/Power-of-QI-e1610457620188.png
END:VEVENT
BEGIN:VEVENT
DTSTART;TZID=America/New_York:20220823T103000
DTEND;TZID=America/New_York:20220823T113000
DTSTAMP:20260421T125227
CREATED:20220708T130808Z
LAST-MODIFIED:20221212T203844Z
UID:10004299-1661250600-1661254200@www.tiltonlibrary.org
SUMMARY:Story Time with Holly
DESCRIPTION:All ages and abilities welcome! Drop in for a relaxed story hour\, listen to books\, play\, make a seasonal craft\, and chat with other grown ups!\nMasks encouraged
URL:https://www.tiltonlibrary.org/event/story-time-with-holly-2/2022-08-23/
LOCATION:Tilton Library\, 75 North Main Street\, South Deerfield\, MA\, 01373\, United States
CATEGORIES:Activity,Kids Room,Story Time
ATTACH;FMTTYPE=image/jpeg:https://www.tiltonlibrary.org/wp-content/uploads/2022/11/new-story-time-flyer-92022-1920-×-1080-px-e1668630353756.jpg
END:VEVENT
BEGIN:VEVENT
DTSTART;TZID=America/New_York:20220829T103000
DTEND;TZID=America/New_York:20220829T233000
DTSTAMP:20260421T125227
CREATED:20210112T133006Z
LAST-MODIFIED:20210114T225915Z
UID:10003820-1661769000-1661815800@www.tiltonlibrary.org
SUMMARY:VIRTUAL WEEKLY CLASS: Qigong for Adults
DESCRIPTION:TILTON IS CO-HOSTING THIS FREE WEEKLY CLASS\, SPONSORED BY SUNDERLAND LIBRARY. \nDvora Eisenstein leads this free weekly Qigong class on Zoom. Qigong is an ancient Chinese health care system integrating slow movements\, breathing techniques\, and focused intention. Qigong calms your mind\, improves your balance\, and enhances health. This practice is suitable for all levels of ability and ages. Anyone may join this free class at any time. \nTO JOIN\, CLICK THIS ZOOM LINK:\nhttps://zoom.us/j/117278043
URL:https://www.tiltonlibrary.org/event/virtual-weekly-class-qigong-for-adults-10/2022-08-29/
CATEGORIES:Activity,Workshop
ATTACH;FMTTYPE=image/png:https://www.tiltonlibrary.org/wp-content/uploads/2021/01/Power-of-QI-e1610457620188.png
END:VEVENT
BEGIN:VEVENT
DTSTART;TZID=America/New_York:20220830T103000
DTEND;TZID=America/New_York:20220830T113000
DTSTAMP:20260421T125227
CREATED:20220708T130808Z
LAST-MODIFIED:20221212T203844Z
UID:10004300-1661855400-1661859000@www.tiltonlibrary.org
SUMMARY:Story Time with Holly
DESCRIPTION:All ages and abilities welcome! Drop in for a relaxed story hour\, listen to books\, play\, make a seasonal craft\, and chat with other grown ups!\nMasks encouraged
URL:https://www.tiltonlibrary.org/event/story-time-with-holly-2/2022-08-30/
LOCATION:Tilton Library\, 75 North Main Street\, South Deerfield\, MA\, 01373\, United States
CATEGORIES:Activity,Kids Room,Story Time
ATTACH;FMTTYPE=image/jpeg:https://www.tiltonlibrary.org/wp-content/uploads/2022/11/new-story-time-flyer-92022-1920-×-1080-px-e1668630353756.jpg
END:VEVENT
END:VCALENDAR