BEGIN:VCALENDAR
VERSION:2.0
PRODID:-//Tilton Library - ECPv6.15.3//NONSGML v1.0//EN
CALSCALE:GREGORIAN
METHOD:PUBLISH
X-WR-CALNAME:Tilton Library
X-ORIGINAL-URL:https://www.tiltonlibrary.org
X-WR-CALDESC:Events for Tilton Library
REFRESH-INTERVAL;VALUE=DURATION:PT1H
X-Robots-Tag:noindex
X-PUBLISHED-TTL:PT1H
BEGIN:VTIMEZONE
TZID:America/New_York
BEGIN:DAYLIGHT
TZOFFSETFROM:-0500
TZOFFSETTO:-0400
TZNAME:EDT
DTSTART:20250309T070000
END:DAYLIGHT
BEGIN:STANDARD
TZOFFSETFROM:-0400
TZOFFSETTO:-0500
TZNAME:EST
DTSTART:20251102T060000
END:STANDARD
END:VTIMEZONE
BEGIN:VEVENT
DTSTART;TZID=America/New_York:20250303T103000
DTEND;TZID=America/New_York:20250303T233000
DTSTAMP:20260422T051343
CREATED:20210112T133006Z
LAST-MODIFIED:20210114T225915Z
UID:10003951-1740997800-1741044600@www.tiltonlibrary.org
SUMMARY:VIRTUAL WEEKLY CLASS: Qigong for Adults
DESCRIPTION:TILTON IS CO-HOSTING THIS FREE WEEKLY CLASS\, SPONSORED BY SUNDERLAND LIBRARY. \nDvora Eisenstein leads this free weekly Qigong class on Zoom. Qigong is an ancient Chinese health care system integrating slow movements\, breathing techniques\, and focused intention. Qigong calms your mind\, improves your balance\, and enhances health. This practice is suitable for all levels of ability and ages. Anyone may join this free class at any time. \nTO JOIN\, CLICK THIS ZOOM LINK:\nhttps://zoom.us/j/117278043
URL:https://www.tiltonlibrary.org/event/virtual-weekly-class-qigong-for-adults-10/2025-03-03/
CATEGORIES:Activity,Workshop
ATTACH;FMTTYPE=image/png:https://www.tiltonlibrary.org/wp-content/uploads/2021/01/Power-of-QI-e1610457620188.png
END:VEVENT
BEGIN:VEVENT
DTSTART;TZID=America/New_York:20250304T103000
DTEND;TZID=America/New_York:20250304T113000
DTSTAMP:20260422T051343
CREATED:20230620T182412Z
LAST-MODIFIED:20260318T192342Z
UID:10004557-1741084200-1741087800@www.tiltonlibrary.org
SUMMARY:Story Time
DESCRIPTION:All ages & abilities welcome!  Drop in the children’s room for a relaxed story hour\, listen to books\, play\, make crafts\, and visit our bearded dragon! To request accommodations contact Holly Johnson at 413-665-4683 or hjohnson@cwmars.org. Please allow at least three days to arrange accommodation. \nThe library is closed on Tuesdays at 10:30\, but our door will be open for Story time families.
URL:https://www.tiltonlibrary.org/event/story-time-34/2025-03-04/
LOCATION:Tilton Library\, 75 North Main Street\, South Deerfield\, MA\, 01373\, United States
CATEGORIES:Story Time
ATTACH;FMTTYPE=image/png:https://www.tiltonlibrary.org/wp-content/uploads/2023/06/Copy-of-31826-Story-time-1920-x-1080-px-1-1-e1773861791549.png
END:VEVENT
BEGIN:VEVENT
DTSTART;TZID=America/New_York:20250305T100000
DTEND;TZID=America/New_York:20250305T110000
DTSTAMP:20260422T051343
CREATED:20241231T195812Z
LAST-MODIFIED:20250211T181639Z
UID:10005334-1741168800-1741172400@www.tiltonlibrary.org
SUMMARY:Tot-Time Tilton Library Playgroup
DESCRIPTION:
URL:https://www.tiltonlibrary.org/event/tot-time-tilton-library-playgroup-2-2/2025-03-05/
LOCATION:Tilton Library\, 75 North Main Street\, South Deerfield\, MA\, 01373\, United States
CATEGORIES:Kids Room
ATTACH;FMTTYPE=image/jpeg:https://www.tiltonlibrary.org/wp-content/uploads/2024/08/TIltonTotTimePlaygroup-1-e1724958076480.jpg
END:VEVENT
BEGIN:VEVENT
DTSTART;TZID=America/New_York:20250310T103000
DTEND;TZID=America/New_York:20250310T233000
DTSTAMP:20260422T051343
CREATED:20210112T133006Z
LAST-MODIFIED:20210114T225915Z
UID:10003952-1741602600-1741649400@www.tiltonlibrary.org
SUMMARY:VIRTUAL WEEKLY CLASS: Qigong for Adults
DESCRIPTION:TILTON IS CO-HOSTING THIS FREE WEEKLY CLASS\, SPONSORED BY SUNDERLAND LIBRARY. \nDvora Eisenstein leads this free weekly Qigong class on Zoom. Qigong is an ancient Chinese health care system integrating slow movements\, breathing techniques\, and focused intention. Qigong calms your mind\, improves your balance\, and enhances health. This practice is suitable for all levels of ability and ages. Anyone may join this free class at any time. \nTO JOIN\, CLICK THIS ZOOM LINK:\nhttps://zoom.us/j/117278043
URL:https://www.tiltonlibrary.org/event/virtual-weekly-class-qigong-for-adults-10/2025-03-10/
CATEGORIES:Activity,Workshop
ATTACH;FMTTYPE=image/png:https://www.tiltonlibrary.org/wp-content/uploads/2021/01/Power-of-QI-e1610457620188.png
END:VEVENT
BEGIN:VEVENT
DTSTART;TZID=America/New_York:20250311T103000
DTEND;TZID=America/New_York:20250311T113000
DTSTAMP:20260422T051343
CREATED:20230620T182412Z
LAST-MODIFIED:20260318T192342Z
UID:10004558-1741689000-1741692600@www.tiltonlibrary.org
SUMMARY:Story Time
DESCRIPTION:All ages & abilities welcome!  Drop in the children’s room for a relaxed story hour\, listen to books\, play\, make crafts\, and visit our bearded dragon! To request accommodations contact Holly Johnson at 413-665-4683 or hjohnson@cwmars.org. Please allow at least three days to arrange accommodation. \nThe library is closed on Tuesdays at 10:30\, but our door will be open for Story time families.
URL:https://www.tiltonlibrary.org/event/story-time-34/2025-03-11/
LOCATION:Tilton Library\, 75 North Main Street\, South Deerfield\, MA\, 01373\, United States
CATEGORIES:Story Time
ATTACH;FMTTYPE=image/png:https://www.tiltonlibrary.org/wp-content/uploads/2023/06/Copy-of-31826-Story-time-1920-x-1080-px-1-1-e1773861791549.png
END:VEVENT
BEGIN:VEVENT
DTSTART;TZID=America/New_York:20250312T100000
DTEND;TZID=America/New_York:20250312T110000
DTSTAMP:20260422T051343
CREATED:20241231T195812Z
LAST-MODIFIED:20250211T181639Z
UID:10005335-1741773600-1741777200@www.tiltonlibrary.org
SUMMARY:Tot-Time Tilton Library Playgroup
DESCRIPTION:
URL:https://www.tiltonlibrary.org/event/tot-time-tilton-library-playgroup-2-2/2025-03-12/
LOCATION:Tilton Library\, 75 North Main Street\, South Deerfield\, MA\, 01373\, United States
CATEGORIES:Kids Room
ATTACH;FMTTYPE=image/jpeg:https://www.tiltonlibrary.org/wp-content/uploads/2024/08/TIltonTotTimePlaygroup-1-e1724958076480.jpg
END:VEVENT
BEGIN:VEVENT
DTSTART;TZID=America/New_York:20250312T180000
DTEND;TZID=America/New_York:20250312T190000
DTSTAMP:20260422T051343
CREATED:20250104T012500Z
LAST-MODIFIED:20250307T211533Z
UID:10005386-1741802400-1741806000@www.tiltonlibrary.org
SUMMARY:CANCELLED: Fire Cider Workshop
DESCRIPTION:Tilton Library is sorry to announce that the Fire Cider Workshop scheduled for Wed March 12 has been CANCELLED due to a family emergency with the workshop instructors. Due to the time needed for this emergency the workshop will be rescheduled for sometime in Fall 2025 in the NEW Expanded Tilton Library. We apologize for the inconvenience and please stay tuned to Tilton Library programs in the future. Thank you.
URL:https://www.tiltonlibrary.org/event/fire-cider-workshop/
CATEGORIES:Workshop
ATTACH;FMTTYPE=image/jpeg:https://www.tiltonlibrary.org/wp-content/uploads/2025/03/Fire-Cider-new-1920-x-1080-px-2.jpg
END:VEVENT
BEGIN:VEVENT
DTSTART;TZID=America/New_York:20250317T103000
DTEND;TZID=America/New_York:20250317T233000
DTSTAMP:20260422T051343
CREATED:20210112T133006Z
LAST-MODIFIED:20210114T225915Z
UID:10003953-1742207400-1742254200@www.tiltonlibrary.org
SUMMARY:VIRTUAL WEEKLY CLASS: Qigong for Adults
DESCRIPTION:TILTON IS CO-HOSTING THIS FREE WEEKLY CLASS\, SPONSORED BY SUNDERLAND LIBRARY. \nDvora Eisenstein leads this free weekly Qigong class on Zoom. Qigong is an ancient Chinese health care system integrating slow movements\, breathing techniques\, and focused intention. Qigong calms your mind\, improves your balance\, and enhances health. This practice is suitable for all levels of ability and ages. Anyone may join this free class at any time. \nTO JOIN\, CLICK THIS ZOOM LINK:\nhttps://zoom.us/j/117278043
URL:https://www.tiltonlibrary.org/event/virtual-weekly-class-qigong-for-adults-10/2025-03-17/
CATEGORIES:Activity,Workshop
ATTACH;FMTTYPE=image/png:https://www.tiltonlibrary.org/wp-content/uploads/2021/01/Power-of-QI-e1610457620188.png
END:VEVENT
BEGIN:VEVENT
DTSTART;TZID=America/New_York:20250318T103000
DTEND;TZID=America/New_York:20250318T113000
DTSTAMP:20260422T051343
CREATED:20230620T182412Z
LAST-MODIFIED:20260318T192342Z
UID:10004559-1742293800-1742297400@www.tiltonlibrary.org
SUMMARY:Story Time
DESCRIPTION:All ages & abilities welcome!  Drop in the children’s room for a relaxed story hour\, listen to books\, play\, make crafts\, and visit our bearded dragon! To request accommodations contact Holly Johnson at 413-665-4683 or hjohnson@cwmars.org. Please allow at least three days to arrange accommodation. \nThe library is closed on Tuesdays at 10:30\, but our door will be open for Story time families.
URL:https://www.tiltonlibrary.org/event/story-time-34/2025-03-18/
LOCATION:Tilton Library\, 75 North Main Street\, South Deerfield\, MA\, 01373\, United States
CATEGORIES:Story Time
ATTACH;FMTTYPE=image/png:https://www.tiltonlibrary.org/wp-content/uploads/2023/06/Copy-of-31826-Story-time-1920-x-1080-px-1-1-e1773861791549.png
END:VEVENT
BEGIN:VEVENT
DTSTART;TZID=America/New_York:20250319T100000
DTEND;TZID=America/New_York:20250319T110000
DTSTAMP:20260422T051343
CREATED:20241231T195812Z
LAST-MODIFIED:20250211T181639Z
UID:10005336-1742378400-1742382000@www.tiltonlibrary.org
SUMMARY:Tot-Time Tilton Library Playgroup
DESCRIPTION:
URL:https://www.tiltonlibrary.org/event/tot-time-tilton-library-playgroup-2-2/2025-03-19/
LOCATION:Tilton Library\, 75 North Main Street\, South Deerfield\, MA\, 01373\, United States
CATEGORIES:Kids Room
ATTACH;FMTTYPE=image/jpeg:https://www.tiltonlibrary.org/wp-content/uploads/2024/08/TIltonTotTimePlaygroup-1-e1724958076480.jpg
END:VEVENT
BEGIN:VEVENT
DTSTART;TZID=America/New_York:20250319T170000
DTEND;TZID=America/New_York:20250319T180000
DTSTAMP:20260422T051343
CREATED:20250212T022815Z
LAST-MODIFIED:20250317T175329Z
UID:10005401-1742403600-1742407200@www.tiltonlibrary.org
SUMMARY:CANCELLED: Talk With Superior Court Judge Tracy Duncan
DESCRIPTION:WE ARE SORRY TO ANNOUNCE THAT THIS TALK WITH A SUPERIOR COURT JUDGE HAS BEEN CANCELLED\, DUE TO A SCHEDULING CONFLICT ON THE JUDGE’S CALENDAR. WE APOLOGIZE FOR ANY CONVENIENCE.\n 
URL:https://www.tiltonlibrary.org/event/talk-with-superior-court-judge-tracy-duncan/
CATEGORIES:Presentation
END:VEVENT
BEGIN:VEVENT
DTSTART;TZID=America/New_York:20250324T103000
DTEND;TZID=America/New_York:20250324T233000
DTSTAMP:20260422T051343
CREATED:20210112T133006Z
LAST-MODIFIED:20210114T225915Z
UID:10003954-1742812200-1742859000@www.tiltonlibrary.org
SUMMARY:VIRTUAL WEEKLY CLASS: Qigong for Adults
DESCRIPTION:TILTON IS CO-HOSTING THIS FREE WEEKLY CLASS\, SPONSORED BY SUNDERLAND LIBRARY. \nDvora Eisenstein leads this free weekly Qigong class on Zoom. Qigong is an ancient Chinese health care system integrating slow movements\, breathing techniques\, and focused intention. Qigong calms your mind\, improves your balance\, and enhances health. This practice is suitable for all levels of ability and ages. Anyone may join this free class at any time. \nTO JOIN\, CLICK THIS ZOOM LINK:\nhttps://zoom.us/j/117278043
URL:https://www.tiltonlibrary.org/event/virtual-weekly-class-qigong-for-adults-10/2025-03-24/
CATEGORIES:Activity,Workshop
ATTACH;FMTTYPE=image/png:https://www.tiltonlibrary.org/wp-content/uploads/2021/01/Power-of-QI-e1610457620188.png
END:VEVENT
BEGIN:VEVENT
DTSTART;TZID=America/New_York:20250325T103000
DTEND;TZID=America/New_York:20250325T113000
DTSTAMP:20260422T051343
CREATED:20230620T182412Z
LAST-MODIFIED:20260318T192342Z
UID:10004560-1742898600-1742902200@www.tiltonlibrary.org
SUMMARY:Story Time
DESCRIPTION:All ages & abilities welcome!  Drop in the children’s room for a relaxed story hour\, listen to books\, play\, make crafts\, and visit our bearded dragon! To request accommodations contact Holly Johnson at 413-665-4683 or hjohnson@cwmars.org. Please allow at least three days to arrange accommodation. \nThe library is closed on Tuesdays at 10:30\, but our door will be open for Story time families.
URL:https://www.tiltonlibrary.org/event/story-time-34/2025-03-25/
LOCATION:Tilton Library\, 75 North Main Street\, South Deerfield\, MA\, 01373\, United States
CATEGORIES:Story Time
ATTACH;FMTTYPE=image/png:https://www.tiltonlibrary.org/wp-content/uploads/2023/06/Copy-of-31826-Story-time-1920-x-1080-px-1-1-e1773861791549.png
END:VEVENT
BEGIN:VEVENT
DTSTART;TZID=America/New_York:20250326T100000
DTEND;TZID=America/New_York:20250326T110000
DTSTAMP:20260422T051343
CREATED:20241231T195812Z
LAST-MODIFIED:20250211T181639Z
UID:10005337-1742983200-1742986800@www.tiltonlibrary.org
SUMMARY:Tot-Time Tilton Library Playgroup
DESCRIPTION:
URL:https://www.tiltonlibrary.org/event/tot-time-tilton-library-playgroup-2-2/2025-03-26/
LOCATION:Tilton Library\, 75 North Main Street\, South Deerfield\, MA\, 01373\, United States
CATEGORIES:Kids Room
ATTACH;FMTTYPE=image/jpeg:https://www.tiltonlibrary.org/wp-content/uploads/2024/08/TIltonTotTimePlaygroup-1-e1724958076480.jpg
END:VEVENT
BEGIN:VEVENT
DTSTART;TZID=America/New_York:20250326T180000
DTEND;TZID=America/New_York:20250326T190000
DTSTAMP:20260422T051343
CREATED:20250104T012807Z
LAST-MODIFIED:20250310T161458Z
UID:10005387-1743012000-1743015600@www.tiltonlibrary.org
SUMMARY:WORKSHOP FULL: SOUND BATH MEDITATION
DESCRIPTION:WORKSHOP IS FULL.\n  \nSound Bath Mediation with Brandy Lefsyk: \nA sound bath is the practice of being enveloped by sound\, which sends vibrations through our body\, that can activate and stimulate us at a cellular level. This allows for the possibility of profound relaxation\, insight and healing. With the use of singing bowls\, chimes\, drums and voice activation participants can enjoy a sound bath. No experience needed. \nBring a yoga mat or blanket for comfort. FREE.\n  \nFUNDED BY THE FRIENDS OF TILTON LIBRARY. \n 
URL:https://www.tiltonlibrary.org/event/sound-bath-meditation/
CATEGORIES:Workshop
ATTACH;FMTTYPE=image/jpeg:https://www.tiltonlibrary.org/wp-content/uploads/2025/01/sound-bath-new-1920-x-1080-px-3.jpg
END:VEVENT
BEGIN:VEVENT
DTSTART;TZID=America/New_York:20250330T150000
DTEND;TZID=America/New_York:20250330T170000
DTSTAMP:20260422T051343
CREATED:20250114T145604Z
LAST-MODIFIED:20250318T021254Z
UID:10005388-1743346800-1743354000@www.tiltonlibrary.org
SUMMARY:Benefit Concert: Steven Santoro and String Quartet
DESCRIPTION:THIS EVENT HAS BEEN CANCELLED. WE APOLOGIZE FOR THE INCONVENIENCE. THANK YOU.\n  \n \n\n\nTHIS EVENT HAS BEEN CANCELLED. WE APOLOGIZE FOR THE INCONVENIENCE. THANK YOU.\n\nBenefit Concert for an Expanded Tilton Library\nSteven Santoro & string quartet: here. gone.\n“here. gone.” is a modern\, eclectic song cycle for voice and string quartet filled with a sense of deep love and humor\, imbued with inflections of Jazz\, Disco\, Rock\, Blues\, Film music as well as other contemporary styles. A moving story of life and death. \nSunday 3/30\, 3pm | Tickets $40 – see details below \nTree House Brewing Company\, 1 Community Place\, South Deerfield\, MA \n 
URL:https://www.tiltonlibrary.org/event/benefit-concert-steven-santoro-and-string-quartet/
LOCATION:Tree House Brewing Company\, 1 Community Place\, South Deerfield\, 01373\, United States
CATEGORIES:Library Fundraising Event,Music
END:VEVENT
BEGIN:VEVENT
DTSTART;TZID=America/New_York:20250331T103000
DTEND;TZID=America/New_York:20250331T233000
DTSTAMP:20260422T051343
CREATED:20210112T133006Z
LAST-MODIFIED:20210114T225915Z
UID:10003955-1743417000-1743463800@www.tiltonlibrary.org
SUMMARY:VIRTUAL WEEKLY CLASS: Qigong for Adults
DESCRIPTION:TILTON IS CO-HOSTING THIS FREE WEEKLY CLASS\, SPONSORED BY SUNDERLAND LIBRARY. \nDvora Eisenstein leads this free weekly Qigong class on Zoom. Qigong is an ancient Chinese health care system integrating slow movements\, breathing techniques\, and focused intention. Qigong calms your mind\, improves your balance\, and enhances health. This practice is suitable for all levels of ability and ages. Anyone may join this free class at any time. \nTO JOIN\, CLICK THIS ZOOM LINK:\nhttps://zoom.us/j/117278043
URL:https://www.tiltonlibrary.org/event/virtual-weekly-class-qigong-for-adults-10/2025-03-31/
CATEGORIES:Activity,Workshop
ATTACH;FMTTYPE=image/png:https://www.tiltonlibrary.org/wp-content/uploads/2021/01/Power-of-QI-e1610457620188.png
END:VEVENT
END:VCALENDAR