BEGIN:VCALENDAR
VERSION:2.0
PRODID:-//Tilton Library - ECPv6.15.3//NONSGML v1.0//EN
CALSCALE:GREGORIAN
METHOD:PUBLISH
X-WR-CALNAME:Tilton Library
X-ORIGINAL-URL:https://www.tiltonlibrary.org
X-WR-CALDESC:Events for Tilton Library
REFRESH-INTERVAL;VALUE=DURATION:PT1H
X-Robots-Tag:noindex
X-PUBLISHED-TTL:PT1H
BEGIN:VTIMEZONE
TZID:America/New_York
BEGIN:DAYLIGHT
TZOFFSETFROM:-0500
TZOFFSETTO:-0400
TZNAME:EDT
DTSTART:20250309T070000
END:DAYLIGHT
BEGIN:STANDARD
TZOFFSETFROM:-0400
TZOFFSETTO:-0500
TZNAME:EST
DTSTART:20251102T060000
END:STANDARD
END:VTIMEZONE
BEGIN:VEVENT
DTSTART;TZID=America/New_York:20250505T103000
DTEND;TZID=America/New_York:20250505T233000
DTSTAMP:20260421T092035
CREATED:20210112T133006Z
LAST-MODIFIED:20210114T225915Z
UID:10003960-1746441000-1746487800@www.tiltonlibrary.org
SUMMARY:VIRTUAL WEEKLY CLASS: Qigong for Adults
DESCRIPTION:TILTON IS CO-HOSTING THIS FREE WEEKLY CLASS\, SPONSORED BY SUNDERLAND LIBRARY. \nDvora Eisenstein leads this free weekly Qigong class on Zoom. Qigong is an ancient Chinese health care system integrating slow movements\, breathing techniques\, and focused intention. Qigong calms your mind\, improves your balance\, and enhances health. This practice is suitable for all levels of ability and ages. Anyone may join this free class at any time. \nTO JOIN\, CLICK THIS ZOOM LINK:\nhttps://zoom.us/j/117278043
URL:https://www.tiltonlibrary.org/event/virtual-weekly-class-qigong-for-adults-10/2025-05-05/
CATEGORIES:Activity,Workshop
ATTACH;FMTTYPE=image/png:https://www.tiltonlibrary.org/wp-content/uploads/2021/01/Power-of-QI-e1610457620188.png
END:VEVENT
BEGIN:VEVENT
DTSTART;TZID=America/New_York:20250506T103000
DTEND;TZID=America/New_York:20250506T113000
DTSTAMP:20260421T092035
CREATED:20230620T182412Z
LAST-MODIFIED:20260318T192342Z
UID:10004566-1746527400-1746531000@www.tiltonlibrary.org
SUMMARY:Story Time
DESCRIPTION:All ages & abilities welcome!  Drop in the children’s room for a relaxed story hour\, listen to books\, play\, make crafts\, and visit our bearded dragon! To request accommodations contact Holly Johnson at 413-665-4683 or hjohnson@cwmars.org. Please allow at least three days to arrange accommodation. \nThe library is closed on Tuesdays at 10:30\, but our door will be open for Story time families.
URL:https://www.tiltonlibrary.org/event/story-time-34/2025-05-06/
LOCATION:Tilton Library\, 75 North Main Street\, South Deerfield\, MA\, 01373\, United States
CATEGORIES:Story Time
ATTACH;FMTTYPE=image/png:https://www.tiltonlibrary.org/wp-content/uploads/2023/06/Copy-of-31826-Story-time-1920-x-1080-px-1-1-e1773861791549.png
END:VEVENT
BEGIN:VEVENT
DTSTART;TZID=America/New_York:20250507T100000
DTEND;TZID=America/New_York:20250507T110000
DTSTAMP:20260421T092035
CREATED:20241231T195812Z
LAST-MODIFIED:20250211T181639Z
UID:10005343-1746612000-1746615600@www.tiltonlibrary.org
SUMMARY:Tot-Time Tilton Library Playgroup
DESCRIPTION:
URL:https://www.tiltonlibrary.org/event/tot-time-tilton-library-playgroup-2-2/2025-05-07/
LOCATION:Tilton Library\, 75 North Main Street\, South Deerfield\, MA\, 01373\, United States
CATEGORIES:Kids Room
ATTACH;FMTTYPE=image/jpeg:https://www.tiltonlibrary.org/wp-content/uploads/2024/08/TIltonTotTimePlaygroup-1-e1724958076480.jpg
END:VEVENT
BEGIN:VEVENT
DTSTART;TZID=America/New_York:20250512T103000
DTEND;TZID=America/New_York:20250512T233000
DTSTAMP:20260421T092035
CREATED:20210112T133006Z
LAST-MODIFIED:20210114T225915Z
UID:10003961-1747045800-1747092600@www.tiltonlibrary.org
SUMMARY:VIRTUAL WEEKLY CLASS: Qigong for Adults
DESCRIPTION:TILTON IS CO-HOSTING THIS FREE WEEKLY CLASS\, SPONSORED BY SUNDERLAND LIBRARY. \nDvora Eisenstein leads this free weekly Qigong class on Zoom. Qigong is an ancient Chinese health care system integrating slow movements\, breathing techniques\, and focused intention. Qigong calms your mind\, improves your balance\, and enhances health. This practice is suitable for all levels of ability and ages. Anyone may join this free class at any time. \nTO JOIN\, CLICK THIS ZOOM LINK:\nhttps://zoom.us/j/117278043
URL:https://www.tiltonlibrary.org/event/virtual-weekly-class-qigong-for-adults-10/2025-05-12/
CATEGORIES:Activity,Workshop
ATTACH;FMTTYPE=image/png:https://www.tiltonlibrary.org/wp-content/uploads/2021/01/Power-of-QI-e1610457620188.png
END:VEVENT
BEGIN:VEVENT
DTSTART;TZID=America/New_York:20250513T103000
DTEND;TZID=America/New_York:20250513T113000
DTSTAMP:20260421T092035
CREATED:20230620T182412Z
LAST-MODIFIED:20260318T192342Z
UID:10004567-1747132200-1747135800@www.tiltonlibrary.org
SUMMARY:Story Time
DESCRIPTION:All ages & abilities welcome!  Drop in the children’s room for a relaxed story hour\, listen to books\, play\, make crafts\, and visit our bearded dragon! To request accommodations contact Holly Johnson at 413-665-4683 or hjohnson@cwmars.org. Please allow at least three days to arrange accommodation. \nThe library is closed on Tuesdays at 10:30\, but our door will be open for Story time families.
URL:https://www.tiltonlibrary.org/event/story-time-34/2025-05-13/
LOCATION:Tilton Library\, 75 North Main Street\, South Deerfield\, MA\, 01373\, United States
CATEGORIES:Story Time
ATTACH;FMTTYPE=image/png:https://www.tiltonlibrary.org/wp-content/uploads/2023/06/Copy-of-31826-Story-time-1920-x-1080-px-1-1-e1773861791549.png
END:VEVENT
BEGIN:VEVENT
DTSTART;TZID=America/New_York:20250514T100000
DTEND;TZID=America/New_York:20250514T110000
DTSTAMP:20260421T092035
CREATED:20241231T195812Z
LAST-MODIFIED:20250211T181639Z
UID:10005344-1747216800-1747220400@www.tiltonlibrary.org
SUMMARY:Tot-Time Tilton Library Playgroup
DESCRIPTION:
URL:https://www.tiltonlibrary.org/event/tot-time-tilton-library-playgroup-2-2/2025-05-14/
LOCATION:Tilton Library\, 75 North Main Street\, South Deerfield\, MA\, 01373\, United States
CATEGORIES:Kids Room
ATTACH;FMTTYPE=image/jpeg:https://www.tiltonlibrary.org/wp-content/uploads/2024/08/TIltonTotTimePlaygroup-1-e1724958076480.jpg
END:VEVENT
BEGIN:VEVENT
DTSTART;TZID=America/New_York:20250517T100000
DTEND;TZID=America/New_York:20250517T130000
DTSTAMP:20260421T092035
CREATED:20250430T172100Z
LAST-MODIFIED:20250430T172100Z
UID:10005404-1747476000-1747486800@www.tiltonlibrary.org
SUMMARY:Adopt a Puppy
DESCRIPTION:Stop by Tilton Library and pick a stuffed puppy to adopt! Then fill out the adoption certificate and make your new puppy a collar. Free while supplies last \nThank you to the Friends of Tilton Library and the Giving Circle Thrift Shop.
URL:https://www.tiltonlibrary.org/event/adopt-a-puppy/
LOCATION:Tilton Library\, 75 North Main Street\, South Deerfield\, MA\, 01373\, United States
CATEGORIES:Kids Room
ATTACH;FMTTYPE=image/png:https://www.tiltonlibrary.org/wp-content/uploads/2025/04/adopt-a-puppy-1080-x-1080-px-1920-x-1080-px-1-e1746033231413.png
END:VEVENT
BEGIN:VEVENT
DTSTART;TZID=America/New_York:20250519T103000
DTEND;TZID=America/New_York:20250519T233000
DTSTAMP:20260421T092035
CREATED:20210112T133006Z
LAST-MODIFIED:20210114T225915Z
UID:10003962-1747650600-1747697400@www.tiltonlibrary.org
SUMMARY:VIRTUAL WEEKLY CLASS: Qigong for Adults
DESCRIPTION:TILTON IS CO-HOSTING THIS FREE WEEKLY CLASS\, SPONSORED BY SUNDERLAND LIBRARY. \nDvora Eisenstein leads this free weekly Qigong class on Zoom. Qigong is an ancient Chinese health care system integrating slow movements\, breathing techniques\, and focused intention. Qigong calms your mind\, improves your balance\, and enhances health. This practice is suitable for all levels of ability and ages. Anyone may join this free class at any time. \nTO JOIN\, CLICK THIS ZOOM LINK:\nhttps://zoom.us/j/117278043
URL:https://www.tiltonlibrary.org/event/virtual-weekly-class-qigong-for-adults-10/2025-05-19/
CATEGORIES:Activity,Workshop
ATTACH;FMTTYPE=image/png:https://www.tiltonlibrary.org/wp-content/uploads/2021/01/Power-of-QI-e1610457620188.png
END:VEVENT
BEGIN:VEVENT
DTSTART;TZID=America/New_York:20250520T103000
DTEND;TZID=America/New_York:20250520T113000
DTSTAMP:20260421T092035
CREATED:20230620T182412Z
LAST-MODIFIED:20260318T192342Z
UID:10004568-1747737000-1747740600@www.tiltonlibrary.org
SUMMARY:Story Time
DESCRIPTION:All ages & abilities welcome!  Drop in the children’s room for a relaxed story hour\, listen to books\, play\, make crafts\, and visit our bearded dragon! To request accommodations contact Holly Johnson at 413-665-4683 or hjohnson@cwmars.org. Please allow at least three days to arrange accommodation. \nThe library is closed on Tuesdays at 10:30\, but our door will be open for Story time families.
URL:https://www.tiltonlibrary.org/event/story-time-34/2025-05-20/
LOCATION:Tilton Library\, 75 North Main Street\, South Deerfield\, MA\, 01373\, United States
CATEGORIES:Story Time
ATTACH;FMTTYPE=image/png:https://www.tiltonlibrary.org/wp-content/uploads/2023/06/Copy-of-31826-Story-time-1920-x-1080-px-1-1-e1773861791549.png
END:VEVENT
BEGIN:VEVENT
DTSTART;TZID=America/New_York:20250521T100000
DTEND;TZID=America/New_York:20250521T110000
DTSTAMP:20260421T092035
CREATED:20241231T195812Z
LAST-MODIFIED:20250211T181639Z
UID:10005345-1747821600-1747825200@www.tiltonlibrary.org
SUMMARY:Tot-Time Tilton Library Playgroup
DESCRIPTION:
URL:https://www.tiltonlibrary.org/event/tot-time-tilton-library-playgroup-2-2/2025-05-21/
LOCATION:Tilton Library\, 75 North Main Street\, South Deerfield\, MA\, 01373\, United States
CATEGORIES:Kids Room
ATTACH;FMTTYPE=image/jpeg:https://www.tiltonlibrary.org/wp-content/uploads/2024/08/TIltonTotTimePlaygroup-1-e1724958076480.jpg
END:VEVENT
BEGIN:VEVENT
DTSTART;TZID=America/New_York:20250524T110000
DTEND;TZID=America/New_York:20250524T120000
DTSTAMP:20260421T092035
CREATED:20250428T192004Z
LAST-MODIFIED:20250428T192023Z
UID:10005403-1748084400-1748088000@www.tiltonlibrary.org
SUMMARY:The Flying Jackrabbits Fiddle Concert
DESCRIPTION:
URL:https://www.tiltonlibrary.org/event/the-flying-jackrabbits-fiddle-concert-2/
CATEGORIES:Music
END:VEVENT
BEGIN:VEVENT
DTSTART;TZID=America/New_York:20250526T103000
DTEND;TZID=America/New_York:20250526T233000
DTSTAMP:20260421T092035
CREATED:20210112T133006Z
LAST-MODIFIED:20210114T225915Z
UID:10003963-1748255400-1748302200@www.tiltonlibrary.org
SUMMARY:VIRTUAL WEEKLY CLASS: Qigong for Adults
DESCRIPTION:TILTON IS CO-HOSTING THIS FREE WEEKLY CLASS\, SPONSORED BY SUNDERLAND LIBRARY. \nDvora Eisenstein leads this free weekly Qigong class on Zoom. Qigong is an ancient Chinese health care system integrating slow movements\, breathing techniques\, and focused intention. Qigong calms your mind\, improves your balance\, and enhances health. This practice is suitable for all levels of ability and ages. Anyone may join this free class at any time. \nTO JOIN\, CLICK THIS ZOOM LINK:\nhttps://zoom.us/j/117278043
URL:https://www.tiltonlibrary.org/event/virtual-weekly-class-qigong-for-adults-10/2025-05-26/
CATEGORIES:Activity,Workshop
ATTACH;FMTTYPE=image/png:https://www.tiltonlibrary.org/wp-content/uploads/2021/01/Power-of-QI-e1610457620188.png
END:VEVENT
BEGIN:VEVENT
DTSTART;TZID=America/New_York:20250527T103000
DTEND;TZID=America/New_York:20250527T113000
DTSTAMP:20260421T092035
CREATED:20230620T182412Z
LAST-MODIFIED:20260318T192342Z
UID:10004569-1748341800-1748345400@www.tiltonlibrary.org
SUMMARY:Story Time
DESCRIPTION:All ages & abilities welcome!  Drop in the children’s room for a relaxed story hour\, listen to books\, play\, make crafts\, and visit our bearded dragon! To request accommodations contact Holly Johnson at 413-665-4683 or hjohnson@cwmars.org. Please allow at least three days to arrange accommodation. \nThe library is closed on Tuesdays at 10:30\, but our door will be open for Story time families.
URL:https://www.tiltonlibrary.org/event/story-time-34/2025-05-27/
LOCATION:Tilton Library\, 75 North Main Street\, South Deerfield\, MA\, 01373\, United States
CATEGORIES:Story Time
ATTACH;FMTTYPE=image/png:https://www.tiltonlibrary.org/wp-content/uploads/2023/06/Copy-of-31826-Story-time-1920-x-1080-px-1-1-e1773861791549.png
END:VEVENT
BEGIN:VEVENT
DTSTART;TZID=America/New_York:20250528T100000
DTEND;TZID=America/New_York:20250528T110000
DTSTAMP:20260421T092035
CREATED:20241231T195812Z
LAST-MODIFIED:20250211T181639Z
UID:10005346-1748426400-1748430000@www.tiltonlibrary.org
SUMMARY:Tot-Time Tilton Library Playgroup
DESCRIPTION:
URL:https://www.tiltonlibrary.org/event/tot-time-tilton-library-playgroup-2-2/2025-05-28/
LOCATION:Tilton Library\, 75 North Main Street\, South Deerfield\, MA\, 01373\, United States
CATEGORIES:Kids Room
ATTACH;FMTTYPE=image/jpeg:https://www.tiltonlibrary.org/wp-content/uploads/2024/08/TIltonTotTimePlaygroup-1-e1724958076480.jpg
END:VEVENT
BEGIN:VEVENT
DTSTART;TZID=America/New_York:20250528T180000
DTEND;TZID=America/New_York:20250528T190000
DTSTAMP:20260421T092035
CREATED:20250508T173437Z
LAST-MODIFIED:20250508T173437Z
UID:10005405-1748455200-1748458800@www.tiltonlibrary.org
SUMMARY:Community Conversation: Sensory Spaces in Public Libraries
DESCRIPTION:Tilton library received a $10\,000 grant to make our library more accessible for neurodivergent youth. Currently we are planning a sensory room and we need your help to create an accessible space that feels safe and welcoming for everyone. \nJoin us at the Tilton Library’s temporary location for pizza and an informal conversation. All ages welcome\, we want to hear from kids and adults! We’ll talk about sensory equipment\, accessible seating\, lighting\, and more. Can’t make the meeting\, but you want to share your thoughts? Use the contact information below. \nTo request accommodations contact Holly Johnson at 413-665-4683 or hjohnson@cwmars.org Please allow at least three days to arrange accommodation.
URL:https://www.tiltonlibrary.org/event/community-conversation-sensory-spaces-in-public-libraries/
LOCATION:Tilton Library\, 75 North Main Street\, South Deerfield\, MA\, 01373\, United States
CATEGORIES:Meeting
ATTACH;FMTTYPE=image/png:https://www.tiltonlibrary.org/wp-content/uploads/2025/05/Copy-of-grant-convo-1920-x-1080-px-e1746725617996.png
END:VEVENT
END:VCALENDAR