BEGIN:VCALENDAR
VERSION:2.0
PRODID:-//Tilton Library - ECPv6.15.3//NONSGML v1.0//EN
CALSCALE:GREGORIAN
METHOD:PUBLISH
X-WR-CALNAME:Tilton Library
X-ORIGINAL-URL:https://www.tiltonlibrary.org
X-WR-CALDESC:Events for Tilton Library
REFRESH-INTERVAL;VALUE=DURATION:PT1H
X-Robots-Tag:noindex
X-PUBLISHED-TTL:PT1H
BEGIN:VTIMEZONE
TZID:America/New_York
BEGIN:DAYLIGHT
TZOFFSETFROM:-0500
TZOFFSETTO:-0400
TZNAME:EDT
DTSTART:20250309T070000
END:DAYLIGHT
BEGIN:STANDARD
TZOFFSETFROM:-0400
TZOFFSETTO:-0500
TZNAME:EST
DTSTART:20251102T060000
END:STANDARD
END:VTIMEZONE
BEGIN:VEVENT
DTSTART;TZID=America/New_York:20250701T103000
DTEND;TZID=America/New_York:20250701T113000
DTSTAMP:20260421T092035
CREATED:20230620T182412Z
LAST-MODIFIED:20260318T192342Z
UID:10004574-1751365800-1751369400@www.tiltonlibrary.org
SUMMARY:Story Time
DESCRIPTION:All ages & abilities welcome!  Drop in the children’s room for a relaxed story hour\, listen to books\, play\, make crafts\, and visit our bearded dragon! To request accommodations contact Holly Johnson at 413-665-4683 or hjohnson@cwmars.org. Please allow at least three days to arrange accommodation. \nThe library is closed on Tuesdays at 10:30\, but our door will be open for Story time families.
URL:https://www.tiltonlibrary.org/event/story-time-34/2025-07-01/
LOCATION:Tilton Library\, 75 North Main Street\, South Deerfield\, MA\, 01373\, United States
CATEGORIES:Story Time
ATTACH;FMTTYPE=image/png:https://www.tiltonlibrary.org/wp-content/uploads/2023/06/Copy-of-31826-Story-time-1920-x-1080-px-1-1-e1773861791549.png
END:VEVENT
BEGIN:VEVENT
DTSTART;TZID=America/New_York:20250705T103000
DTEND;TZID=America/New_York:20250705T113000
DTSTAMP:20260421T092035
CREATED:20250513T171758Z
LAST-MODIFIED:20250602T175346Z
UID:10005408-1751711400-1751715000@www.tiltonlibrary.org
SUMMARY:Musical Storytelling Folk Songs by Eli Elkus
DESCRIPTION:Join us at the pavilion behind the Deerfield Elementary School for original and passed down songs & stories with some interactive folk game songs in support of the summer reading program theme ‘Level Up At Your Library’. Eli Elkus is a Musical Storyteller\, Song Craftsman & Folk Activist. http://elielkus.com \nTo request accommodations contact Holly Johnson at 413-665-4683 or hjohnson@cwmars.org Please allow at least three days to arrange accommodation. \nRain Location: Deerfield Town Hall \nThis program is supported in part by a grant from the Deerﬁeld Cultural Council\, a local agency which is supported by the Mass Cultural Council\, a state agency.
URL:https://www.tiltonlibrary.org/event/musical-storytelling-with-eli-elkus/
LOCATION:Deerfield Elementary School Grounds\, 21 Pleasant St\, South Deerfield\, MA\, 1373\, United States
CATEGORIES:Music,Summer Library Program
ATTACH;FMTTYPE=image/png:https://www.tiltonlibrary.org/wp-content/uploads/2025/05/FBWEB-Eli-elkus-1-e1748886582435.png
END:VEVENT
BEGIN:VEVENT
DTSTART;TZID=America/New_York:20250707T103000
DTEND;TZID=America/New_York:20250707T233000
DTSTAMP:20260421T092035
CREATED:20210112T133006Z
LAST-MODIFIED:20210114T225915Z
UID:10003969-1751884200-1751931000@www.tiltonlibrary.org
SUMMARY:VIRTUAL WEEKLY CLASS: Qigong for Adults
DESCRIPTION:TILTON IS CO-HOSTING THIS FREE WEEKLY CLASS\, SPONSORED BY SUNDERLAND LIBRARY. \nDvora Eisenstein leads this free weekly Qigong class on Zoom. Qigong is an ancient Chinese health care system integrating slow movements\, breathing techniques\, and focused intention. Qigong calms your mind\, improves your balance\, and enhances health. This practice is suitable for all levels of ability and ages. Anyone may join this free class at any time. \nTO JOIN\, CLICK THIS ZOOM LINK:\nhttps://zoom.us/j/117278043
URL:https://www.tiltonlibrary.org/event/virtual-weekly-class-qigong-for-adults-10/2025-07-07/
CATEGORIES:Activity,Workshop
ATTACH;FMTTYPE=image/png:https://www.tiltonlibrary.org/wp-content/uploads/2021/01/Power-of-QI-e1610457620188.png
END:VEVENT
BEGIN:VEVENT
DTSTART;TZID=America/New_York:20250708T103000
DTEND;TZID=America/New_York:20250708T113000
DTSTAMP:20260421T092035
CREATED:20230620T182412Z
LAST-MODIFIED:20260318T192342Z
UID:10004575-1751970600-1751974200@www.tiltonlibrary.org
SUMMARY:Story Time
DESCRIPTION:All ages & abilities welcome!  Drop in the children’s room for a relaxed story hour\, listen to books\, play\, make crafts\, and visit our bearded dragon! To request accommodations contact Holly Johnson at 413-665-4683 or hjohnson@cwmars.org. Please allow at least three days to arrange accommodation. \nThe library is closed on Tuesdays at 10:30\, but our door will be open for Story time families.
URL:https://www.tiltonlibrary.org/event/story-time-34/2025-07-08/
LOCATION:Tilton Library\, 75 North Main Street\, South Deerfield\, MA\, 01373\, United States
CATEGORIES:Story Time
ATTACH;FMTTYPE=image/png:https://www.tiltonlibrary.org/wp-content/uploads/2023/06/Copy-of-31826-Story-time-1920-x-1080-px-1-1-e1773861791549.png
END:VEVENT
BEGIN:VEVENT
DTSTART;TZID=America/New_York:20250712T103000
DTEND;TZID=America/New_York:20250712T120000
DTSTAMP:20260421T092035
CREATED:20250513T173556Z
LAST-MODIFIED:20250624T171529Z
UID:10005409-1752316200-1752321600@www.tiltonlibrary.org
SUMMARY:Trevor "The Games Man"
DESCRIPTION:TREVOR “The Games Man” is a trained and certified New Games Leader & Cooperative Play Specialist\, Professional Stiltwalker\, a Cooperative Games Educator\, and multiple award-winning entertainer. Join us at the pavilion behind Deerfield Elementary school for an uproarious\, participatory stage show and craft for kids & families. This is a free event. \nTo request accommodations contact Holly Johnson at 413-665-4683 or hjohnson@cwmars.org Please allow at least three days to arrange accommodation. \nRain Location: Deerfield Town Hall \nFunded in part by a grant from the Deerfield Cultural Council\, a local agency which is supported by the Mass Cultural Council\, a state agency. \nFunded in part by the Friends of Tilton Library.
URL:https://www.tiltonlibrary.org/event/trevor-the-games-man/
LOCATION:Deerfield Elementary School Grounds\, 21 Pleasant St\, South Deerfield\, MA\, 1373\, United States
CATEGORIES:Summer Library Program
ATTACH;FMTTYPE=image/png:https://www.tiltonlibrary.org/wp-content/uploads/2025/05/FBWEB-Trevor-the-games-man-1920-x-1080-px-e1747156844878.png
END:VEVENT
BEGIN:VEVENT
DTSTART;TZID=America/New_York:20250714T103000
DTEND;TZID=America/New_York:20250714T233000
DTSTAMP:20260421T092035
CREATED:20210112T133006Z
LAST-MODIFIED:20210114T225915Z
UID:10003970-1752489000-1752535800@www.tiltonlibrary.org
SUMMARY:VIRTUAL WEEKLY CLASS: Qigong for Adults
DESCRIPTION:TILTON IS CO-HOSTING THIS FREE WEEKLY CLASS\, SPONSORED BY SUNDERLAND LIBRARY. \nDvora Eisenstein leads this free weekly Qigong class on Zoom. Qigong is an ancient Chinese health care system integrating slow movements\, breathing techniques\, and focused intention. Qigong calms your mind\, improves your balance\, and enhances health. This practice is suitable for all levels of ability and ages. Anyone may join this free class at any time. \nTO JOIN\, CLICK THIS ZOOM LINK:\nhttps://zoom.us/j/117278043
URL:https://www.tiltonlibrary.org/event/virtual-weekly-class-qigong-for-adults-10/2025-07-14/
CATEGORIES:Activity,Workshop
ATTACH;FMTTYPE=image/png:https://www.tiltonlibrary.org/wp-content/uploads/2021/01/Power-of-QI-e1610457620188.png
END:VEVENT
BEGIN:VEVENT
DTSTART;TZID=America/New_York:20250715T103000
DTEND;TZID=America/New_York:20250715T113000
DTSTAMP:20260421T092035
CREATED:20230620T182412Z
LAST-MODIFIED:20260318T192342Z
UID:10004576-1752575400-1752579000@www.tiltonlibrary.org
SUMMARY:Story Time
DESCRIPTION:All ages & abilities welcome!  Drop in the children’s room for a relaxed story hour\, listen to books\, play\, make crafts\, and visit our bearded dragon! To request accommodations contact Holly Johnson at 413-665-4683 or hjohnson@cwmars.org. Please allow at least three days to arrange accommodation. \nThe library is closed on Tuesdays at 10:30\, but our door will be open for Story time families.
URL:https://www.tiltonlibrary.org/event/story-time-34/2025-07-15/
LOCATION:Tilton Library\, 75 North Main Street\, South Deerfield\, MA\, 01373\, United States
CATEGORIES:Story Time
ATTACH;FMTTYPE=image/png:https://www.tiltonlibrary.org/wp-content/uploads/2023/06/Copy-of-31826-Story-time-1920-x-1080-px-1-1-e1773861791549.png
END:VEVENT
BEGIN:VEVENT
DTSTART;TZID=America/New_York:20250721T103000
DTEND;TZID=America/New_York:20250721T233000
DTSTAMP:20260421T092035
CREATED:20210112T133006Z
LAST-MODIFIED:20210114T225915Z
UID:10003971-1753093800-1753140600@www.tiltonlibrary.org
SUMMARY:VIRTUAL WEEKLY CLASS: Qigong for Adults
DESCRIPTION:TILTON IS CO-HOSTING THIS FREE WEEKLY CLASS\, SPONSORED BY SUNDERLAND LIBRARY. \nDvora Eisenstein leads this free weekly Qigong class on Zoom. Qigong is an ancient Chinese health care system integrating slow movements\, breathing techniques\, and focused intention. Qigong calms your mind\, improves your balance\, and enhances health. This practice is suitable for all levels of ability and ages. Anyone may join this free class at any time. \nTO JOIN\, CLICK THIS ZOOM LINK:\nhttps://zoom.us/j/117278043
URL:https://www.tiltonlibrary.org/event/virtual-weekly-class-qigong-for-adults-10/2025-07-21/
CATEGORIES:Activity,Workshop
ATTACH;FMTTYPE=image/png:https://www.tiltonlibrary.org/wp-content/uploads/2021/01/Power-of-QI-e1610457620188.png
END:VEVENT
BEGIN:VEVENT
DTSTART;TZID=America/New_York:20250728T103000
DTEND;TZID=America/New_York:20250728T233000
DTSTAMP:20260421T092035
CREATED:20210112T133006Z
LAST-MODIFIED:20210114T225915Z
UID:10003972-1753698600-1753745400@www.tiltonlibrary.org
SUMMARY:VIRTUAL WEEKLY CLASS: Qigong for Adults
DESCRIPTION:TILTON IS CO-HOSTING THIS FREE WEEKLY CLASS\, SPONSORED BY SUNDERLAND LIBRARY. \nDvora Eisenstein leads this free weekly Qigong class on Zoom. Qigong is an ancient Chinese health care system integrating slow movements\, breathing techniques\, and focused intention. Qigong calms your mind\, improves your balance\, and enhances health. This practice is suitable for all levels of ability and ages. Anyone may join this free class at any time. \nTO JOIN\, CLICK THIS ZOOM LINK:\nhttps://zoom.us/j/117278043
URL:https://www.tiltonlibrary.org/event/virtual-weekly-class-qigong-for-adults-10/2025-07-28/
CATEGORIES:Activity,Workshop
ATTACH;FMTTYPE=image/png:https://www.tiltonlibrary.org/wp-content/uploads/2021/01/Power-of-QI-e1610457620188.png
END:VEVENT
BEGIN:VEVENT
DTSTART;TZID=America/New_York:20250729T103000
DTEND;TZID=America/New_York:20250729T113000
DTSTAMP:20260421T092035
CREATED:20230620T182412Z
LAST-MODIFIED:20260318T192342Z
UID:10004578-1753785000-1753788600@www.tiltonlibrary.org
SUMMARY:Story Time
DESCRIPTION:All ages & abilities welcome!  Drop in the children’s room for a relaxed story hour\, listen to books\, play\, make crafts\, and visit our bearded dragon! To request accommodations contact Holly Johnson at 413-665-4683 or hjohnson@cwmars.org. Please allow at least three days to arrange accommodation. \nThe library is closed on Tuesdays at 10:30\, but our door will be open for Story time families.
URL:https://www.tiltonlibrary.org/event/story-time-34/2025-07-29/
LOCATION:Tilton Library\, 75 North Main Street\, South Deerfield\, MA\, 01373\, United States
CATEGORIES:Story Time
ATTACH;FMTTYPE=image/png:https://www.tiltonlibrary.org/wp-content/uploads/2023/06/Copy-of-31826-Story-time-1920-x-1080-px-1-1-e1773861791549.png
END:VEVENT
END:VCALENDAR