BEGIN:VCALENDAR
VERSION:2.0
PRODID:-//Tilton Library - ECPv6.15.3//NONSGML v1.0//EN
CALSCALE:GREGORIAN
METHOD:PUBLISH
X-WR-CALNAME:Tilton Library
X-ORIGINAL-URL:https://www.tiltonlibrary.org
X-WR-CALDESC:Events for Tilton Library
REFRESH-INTERVAL;VALUE=DURATION:PT1H
X-Robots-Tag:noindex
X-PUBLISHED-TTL:PT1H
BEGIN:VTIMEZONE
TZID:America/New_York
BEGIN:DAYLIGHT
TZOFFSETFROM:-0500
TZOFFSETTO:-0400
TZNAME:EDT
DTSTART:20270314T070000
END:DAYLIGHT
BEGIN:STANDARD
TZOFFSETFROM:-0400
TZOFFSETTO:-0500
TZNAME:EST
DTSTART:20271107T060000
END:STANDARD
END:VTIMEZONE
BEGIN:VEVENT
DTSTART;TZID=America/New_York:20270402T133000
DTEND;TZID=America/New_York:20270402T150000
DTSTAMP:20260421T222604
CREATED:20260401T143012Z
LAST-MODIFIED:20260401T143012Z
UID:10006146-1806672600-1806678000@www.tiltonlibrary.org
SUMMARY:Lego Club
DESCRIPTION:Drop in the children’s room for an afternoon of building! For all ages and skill levels. Duplos will be available for young children. To request accommodations contact Holly Johnson at 413-665-4683 or hjohnson@cwmars.org. Please allow at least three days to arrange accommodation.
URL:https://www.tiltonlibrary.org/event/lego-club-2/2027-04-02/
LOCATION:Tilton Library\, 75 North Main Street\, South Deerfield\, MA\, 01373\, United States
CATEGORIES:Kids Room
ATTACH;FMTTYPE=image/png:https://www.tiltonlibrary.org/wp-content/uploads/2026/04/Copy-of-Lego-club-1920-x-1080-px-1-e1775052459247.png
END:VEVENT
BEGIN:VEVENT
DTSTART;TZID=America/New_York:20270406T103000
DTEND;TZID=America/New_York:20270406T113000
DTSTAMP:20260421T222604
CREATED:20230620T182412Z
LAST-MODIFIED:20260318T192342Z
UID:10004717-1807007400-1807011000@www.tiltonlibrary.org
SUMMARY:Story Time
DESCRIPTION:All ages & abilities welcome!  Drop in the children’s room for a relaxed story hour\, listen to books\, play\, make crafts\, and visit our bearded dragon! To request accommodations contact Holly Johnson at 413-665-4683 or hjohnson@cwmars.org. Please allow at least three days to arrange accommodation. \nThe library is closed on Tuesdays at 10:30\, but our door will be open for Story time families.
URL:https://www.tiltonlibrary.org/event/story-time-34/2027-04-06/
LOCATION:Tilton Library\, 75 North Main Street\, South Deerfield\, MA\, 01373\, United States
CATEGORIES:Story Time
ATTACH;FMTTYPE=image/png:https://www.tiltonlibrary.org/wp-content/uploads/2023/06/Copy-of-31826-Story-time-1920-x-1080-px-1-1-e1773861791549.png
END:VEVENT
BEGIN:VEVENT
DTSTART;TZID=America/New_York:20270407T100000
DTEND;TZID=America/New_York:20270407T110000
DTSTAMP:20260421T222604
CREATED:20260122T194311Z
LAST-MODIFIED:20260122T194311Z
UID:10005527-1807092000-1807095600@www.tiltonlibrary.org
SUMMARY:Union 38 Tot Time @ the Tilton Library
DESCRIPTION:
URL:https://www.tiltonlibrary.org/event/union-38-tot-time-the-tilton-library/2027-04-07/
LOCATION:Tilton Library\, 75 North Main Street\, South Deerfield\, MA\, 01373\, United States
ATTACH;FMTTYPE=image/png:https://www.tiltonlibrary.org/wp-content/uploads/2026/01/Copy-of-Copy-of-childrens-page-tot-and-talk-1920-×-1080-px-US-Letter.png
END:VEVENT
BEGIN:VEVENT
DTSTART;TZID=America/New_York:20270409T133000
DTEND;TZID=America/New_York:20270409T150000
DTSTAMP:20260421T222604
CREATED:20260401T143012Z
LAST-MODIFIED:20260401T143012Z
UID:10006147-1807277400-1807282800@www.tiltonlibrary.org
SUMMARY:Lego Club
DESCRIPTION:Drop in the children’s room for an afternoon of building! For all ages and skill levels. Duplos will be available for young children. To request accommodations contact Holly Johnson at 413-665-4683 or hjohnson@cwmars.org. Please allow at least three days to arrange accommodation.
URL:https://www.tiltonlibrary.org/event/lego-club-2/2027-04-09/
LOCATION:Tilton Library\, 75 North Main Street\, South Deerfield\, MA\, 01373\, United States
CATEGORIES:Kids Room
ATTACH;FMTTYPE=image/png:https://www.tiltonlibrary.org/wp-content/uploads/2026/04/Copy-of-Lego-club-1920-x-1080-px-1-e1775052459247.png
END:VEVENT
BEGIN:VEVENT
DTSTART;TZID=America/New_York:20270413T103000
DTEND;TZID=America/New_York:20270413T113000
DTSTAMP:20260421T222604
CREATED:20230620T182412Z
LAST-MODIFIED:20260318T192342Z
UID:10004718-1807612200-1807615800@www.tiltonlibrary.org
SUMMARY:Story Time
DESCRIPTION:All ages & abilities welcome!  Drop in the children’s room for a relaxed story hour\, listen to books\, play\, make crafts\, and visit our bearded dragon! To request accommodations contact Holly Johnson at 413-665-4683 or hjohnson@cwmars.org. Please allow at least three days to arrange accommodation. \nThe library is closed on Tuesdays at 10:30\, but our door will be open for Story time families.
URL:https://www.tiltonlibrary.org/event/story-time-34/2027-04-13/
LOCATION:Tilton Library\, 75 North Main Street\, South Deerfield\, MA\, 01373\, United States
CATEGORIES:Story Time
ATTACH;FMTTYPE=image/png:https://www.tiltonlibrary.org/wp-content/uploads/2023/06/Copy-of-31826-Story-time-1920-x-1080-px-1-1-e1773861791549.png
END:VEVENT
BEGIN:VEVENT
DTSTART;TZID=America/New_York:20270414T100000
DTEND;TZID=America/New_York:20270414T110000
DTSTAMP:20260421T222604
CREATED:20260122T194311Z
LAST-MODIFIED:20260122T194311Z
UID:10005528-1807696800-1807700400@www.tiltonlibrary.org
SUMMARY:Union 38 Tot Time @ the Tilton Library
DESCRIPTION:
URL:https://www.tiltonlibrary.org/event/union-38-tot-time-the-tilton-library/2027-04-14/
LOCATION:Tilton Library\, 75 North Main Street\, South Deerfield\, MA\, 01373\, United States
ATTACH;FMTTYPE=image/png:https://www.tiltonlibrary.org/wp-content/uploads/2026/01/Copy-of-Copy-of-childrens-page-tot-and-talk-1920-×-1080-px-US-Letter.png
END:VEVENT
BEGIN:VEVENT
DTSTART;TZID=America/New_York:20270416T133000
DTEND;TZID=America/New_York:20270416T150000
DTSTAMP:20260421T222604
CREATED:20260401T143012Z
LAST-MODIFIED:20260401T143012Z
UID:10006148-1807882200-1807887600@www.tiltonlibrary.org
SUMMARY:Lego Club
DESCRIPTION:Drop in the children’s room for an afternoon of building! For all ages and skill levels. Duplos will be available for young children. To request accommodations contact Holly Johnson at 413-665-4683 or hjohnson@cwmars.org. Please allow at least three days to arrange accommodation.
URL:https://www.tiltonlibrary.org/event/lego-club-2/2027-04-16/
LOCATION:Tilton Library\, 75 North Main Street\, South Deerfield\, MA\, 01373\, United States
CATEGORIES:Kids Room
ATTACH;FMTTYPE=image/png:https://www.tiltonlibrary.org/wp-content/uploads/2026/04/Copy-of-Lego-club-1920-x-1080-px-1-e1775052459247.png
END:VEVENT
BEGIN:VEVENT
DTSTART;TZID=America/New_York:20270420T103000
DTEND;TZID=America/New_York:20270420T113000
DTSTAMP:20260421T222604
CREATED:20230620T182412Z
LAST-MODIFIED:20260318T192342Z
UID:10004719-1808217000-1808220600@www.tiltonlibrary.org
SUMMARY:Story Time
DESCRIPTION:All ages & abilities welcome!  Drop in the children’s room for a relaxed story hour\, listen to books\, play\, make crafts\, and visit our bearded dragon! To request accommodations contact Holly Johnson at 413-665-4683 or hjohnson@cwmars.org. Please allow at least three days to arrange accommodation. \nThe library is closed on Tuesdays at 10:30\, but our door will be open for Story time families.
URL:https://www.tiltonlibrary.org/event/story-time-34/2027-04-20/
LOCATION:Tilton Library\, 75 North Main Street\, South Deerfield\, MA\, 01373\, United States
CATEGORIES:Story Time
ATTACH;FMTTYPE=image/png:https://www.tiltonlibrary.org/wp-content/uploads/2023/06/Copy-of-31826-Story-time-1920-x-1080-px-1-1-e1773861791549.png
END:VEVENT
BEGIN:VEVENT
DTSTART;TZID=America/New_York:20270421T100000
DTEND;TZID=America/New_York:20270421T110000
DTSTAMP:20260421T222604
CREATED:20260122T194311Z
LAST-MODIFIED:20260122T194311Z
UID:10005529-1808301600-1808305200@www.tiltonlibrary.org
SUMMARY:Union 38 Tot Time @ the Tilton Library
DESCRIPTION:
URL:https://www.tiltonlibrary.org/event/union-38-tot-time-the-tilton-library/2027-04-21/
LOCATION:Tilton Library\, 75 North Main Street\, South Deerfield\, MA\, 01373\, United States
ATTACH;FMTTYPE=image/png:https://www.tiltonlibrary.org/wp-content/uploads/2026/01/Copy-of-Copy-of-childrens-page-tot-and-talk-1920-×-1080-px-US-Letter.png
END:VEVENT
BEGIN:VEVENT
DTSTART;TZID=America/New_York:20270423T133000
DTEND;TZID=America/New_York:20270423T150000
DTSTAMP:20260421T222604
CREATED:20260401T143012Z
LAST-MODIFIED:20260401T143012Z
UID:10006149-1808487000-1808492400@www.tiltonlibrary.org
SUMMARY:Lego Club
DESCRIPTION:Drop in the children’s room for an afternoon of building! For all ages and skill levels. Duplos will be available for young children. To request accommodations contact Holly Johnson at 413-665-4683 or hjohnson@cwmars.org. Please allow at least three days to arrange accommodation.
URL:https://www.tiltonlibrary.org/event/lego-club-2/2027-04-23/
LOCATION:Tilton Library\, 75 North Main Street\, South Deerfield\, MA\, 01373\, United States
CATEGORIES:Kids Room
ATTACH;FMTTYPE=image/png:https://www.tiltonlibrary.org/wp-content/uploads/2026/04/Copy-of-Lego-club-1920-x-1080-px-1-e1775052459247.png
END:VEVENT
BEGIN:VEVENT
DTSTART;TZID=America/New_York:20270427T103000
DTEND;TZID=America/New_York:20270427T113000
DTSTAMP:20260421T222604
CREATED:20230620T182412Z
LAST-MODIFIED:20260318T192342Z
UID:10004720-1808821800-1808825400@www.tiltonlibrary.org
SUMMARY:Story Time
DESCRIPTION:All ages & abilities welcome!  Drop in the children’s room for a relaxed story hour\, listen to books\, play\, make crafts\, and visit our bearded dragon! To request accommodations contact Holly Johnson at 413-665-4683 or hjohnson@cwmars.org. Please allow at least three days to arrange accommodation. \nThe library is closed on Tuesdays at 10:30\, but our door will be open for Story time families.
URL:https://www.tiltonlibrary.org/event/story-time-34/2027-04-27/
LOCATION:Tilton Library\, 75 North Main Street\, South Deerfield\, MA\, 01373\, United States
CATEGORIES:Story Time
ATTACH;FMTTYPE=image/png:https://www.tiltonlibrary.org/wp-content/uploads/2023/06/Copy-of-31826-Story-time-1920-x-1080-px-1-1-e1773861791549.png
END:VEVENT
BEGIN:VEVENT
DTSTART;TZID=America/New_York:20270428T100000
DTEND;TZID=America/New_York:20270428T110000
DTSTAMP:20260421T222604
CREATED:20260122T194311Z
LAST-MODIFIED:20260122T194311Z
UID:10005530-1808906400-1808910000@www.tiltonlibrary.org
SUMMARY:Union 38 Tot Time @ the Tilton Library
DESCRIPTION:
URL:https://www.tiltonlibrary.org/event/union-38-tot-time-the-tilton-library/2027-04-28/
LOCATION:Tilton Library\, 75 North Main Street\, South Deerfield\, MA\, 01373\, United States
ATTACH;FMTTYPE=image/png:https://www.tiltonlibrary.org/wp-content/uploads/2026/01/Copy-of-Copy-of-childrens-page-tot-and-talk-1920-×-1080-px-US-Letter.png
END:VEVENT
BEGIN:VEVENT
DTSTART;TZID=America/New_York:20270430T133000
DTEND;TZID=America/New_York:20270430T150000
DTSTAMP:20260421T222604
CREATED:20260401T143012Z
LAST-MODIFIED:20260401T143012Z
UID:10006150-1809091800-1809097200@www.tiltonlibrary.org
SUMMARY:Lego Club
DESCRIPTION:Drop in the children’s room for an afternoon of building! For all ages and skill levels. Duplos will be available for young children. To request accommodations contact Holly Johnson at 413-665-4683 or hjohnson@cwmars.org. Please allow at least three days to arrange accommodation.
URL:https://www.tiltonlibrary.org/event/lego-club-2/2027-04-30/
LOCATION:Tilton Library\, 75 North Main Street\, South Deerfield\, MA\, 01373\, United States
CATEGORIES:Kids Room
ATTACH;FMTTYPE=image/png:https://www.tiltonlibrary.org/wp-content/uploads/2026/04/Copy-of-Lego-club-1920-x-1080-px-1-e1775052459247.png
END:VEVENT
END:VCALENDAR