BEGIN:VCALENDAR
VERSION:2.0
PRODID:-//Tilton Library - ECPv6.15.3//NONSGML v1.0//EN
CALSCALE:GREGORIAN
METHOD:PUBLISH
X-ORIGINAL-URL:https://www.tiltonlibrary.org
X-WR-CALDESC:Events for Tilton Library
REFRESH-INTERVAL;VALUE=DURATION:PT1H
X-Robots-Tag:noindex
X-PUBLISHED-TTL:PT1H
BEGIN:VTIMEZONE
TZID:America/New_York
BEGIN:DAYLIGHT
TZOFFSETFROM:-0500
TZOFFSETTO:-0400
TZNAME:EDT
DTSTART:20270314T070000
END:DAYLIGHT
BEGIN:STANDARD
TZOFFSETFROM:-0400
TZOFFSETTO:-0500
TZNAME:EST
DTSTART:20271107T060000
END:STANDARD
END:VTIMEZONE
BEGIN:VEVENT
DTSTART;TZID=America/New_York:20271001T133000
DTEND;TZID=America/New_York:20271001T150000
DTSTAMP:20260422T192238
CREATED:20260401T143012Z
LAST-MODIFIED:20260401T143012Z
UID:10006172-1822397400-1822402800@www.tiltonlibrary.org
SUMMARY:Lego Club
DESCRIPTION:Drop in the children’s room for an afternoon of building! For all ages and skill levels. Duplos will be available for young children. To request accommodations contact Holly Johnson at 413-665-4683 or hjohnson@cwmars.org. Please allow at least three days to arrange accommodation.
URL:https://www.tiltonlibrary.org/event/lego-club-2/2027-10-01/
LOCATION:Tilton Library\, 75 North Main Street\, South Deerfield\, MA\, 01373\, United States
CATEGORIES:Kids Room
ATTACH;FMTTYPE=image/png:https://www.tiltonlibrary.org/wp-content/uploads/2026/04/Copy-of-Lego-club-1920-x-1080-px-1-e1775052459247.png
END:VEVENT
BEGIN:VEVENT
DTSTART;TZID=America/New_York:20271005T103000
DTEND;TZID=America/New_York:20271005T113000
DTSTAMP:20260422T192238
CREATED:20230620T182412Z
LAST-MODIFIED:20260318T192342Z
UID:10004743-1822732200-1822735800@www.tiltonlibrary.org
SUMMARY:Story Time
DESCRIPTION:All ages & abilities welcome!  Drop in the children’s room for a relaxed story hour\, listen to books\, play\, make crafts\, and visit our bearded dragon! To request accommodations contact Holly Johnson at 413-665-4683 or hjohnson@cwmars.org. Please allow at least three days to arrange accommodation. \nThe library is closed on Tuesdays at 10:30\, but our door will be open for Story time families.
URL:https://www.tiltonlibrary.org/event/story-time-34/2027-10-05/
LOCATION:Tilton Library\, 75 North Main Street\, South Deerfield\, MA\, 01373\, United States
CATEGORIES:Story Time
ATTACH;FMTTYPE=image/png:https://www.tiltonlibrary.org/wp-content/uploads/2023/06/Copy-of-31826-Story-time-1920-x-1080-px-1-1-e1773861791549.png
END:VEVENT
BEGIN:VEVENT
DTSTART;TZID=America/New_York:20271008T133000
DTEND;TZID=America/New_York:20271008T150000
DTSTAMP:20260422T192238
CREATED:20260401T143012Z
LAST-MODIFIED:20260401T143012Z
UID:10006173-1823002200-1823007600@www.tiltonlibrary.org
SUMMARY:Lego Club
DESCRIPTION:Drop in the children’s room for an afternoon of building! For all ages and skill levels. Duplos will be available for young children. To request accommodations contact Holly Johnson at 413-665-4683 or hjohnson@cwmars.org. Please allow at least three days to arrange accommodation.
URL:https://www.tiltonlibrary.org/event/lego-club-2/2027-10-08/
LOCATION:Tilton Library\, 75 North Main Street\, South Deerfield\, MA\, 01373\, United States
CATEGORIES:Kids Room
ATTACH;FMTTYPE=image/png:https://www.tiltonlibrary.org/wp-content/uploads/2026/04/Copy-of-Lego-club-1920-x-1080-px-1-e1775052459247.png
END:VEVENT
BEGIN:VEVENT
DTSTART;TZID=America/New_York:20271012T103000
DTEND;TZID=America/New_York:20271012T113000
DTSTAMP:20260422T192238
CREATED:20230620T182412Z
LAST-MODIFIED:20260318T192342Z
UID:10004744-1823337000-1823340600@www.tiltonlibrary.org
SUMMARY:Story Time
DESCRIPTION:All ages & abilities welcome!  Drop in the children’s room for a relaxed story hour\, listen to books\, play\, make crafts\, and visit our bearded dragon! To request accommodations contact Holly Johnson at 413-665-4683 or hjohnson@cwmars.org. Please allow at least three days to arrange accommodation. \nThe library is closed on Tuesdays at 10:30\, but our door will be open for Story time families.
URL:https://www.tiltonlibrary.org/event/story-time-34/2027-10-12/
LOCATION:Tilton Library\, 75 North Main Street\, South Deerfield\, MA\, 01373\, United States
CATEGORIES:Story Time
ATTACH;FMTTYPE=image/png:https://www.tiltonlibrary.org/wp-content/uploads/2023/06/Copy-of-31826-Story-time-1920-x-1080-px-1-1-e1773861791549.png
END:VEVENT
BEGIN:VEVENT
DTSTART;TZID=America/New_York:20271015T133000
DTEND;TZID=America/New_York:20271015T150000
DTSTAMP:20260422T192238
CREATED:20260401T143012Z
LAST-MODIFIED:20260401T143012Z
UID:10006174-1823607000-1823612400@www.tiltonlibrary.org
SUMMARY:Lego Club
DESCRIPTION:Drop in the children’s room for an afternoon of building! For all ages and skill levels. Duplos will be available for young children. To request accommodations contact Holly Johnson at 413-665-4683 or hjohnson@cwmars.org. Please allow at least three days to arrange accommodation.
URL:https://www.tiltonlibrary.org/event/lego-club-2/2027-10-15/
LOCATION:Tilton Library\, 75 North Main Street\, South Deerfield\, MA\, 01373\, United States
CATEGORIES:Kids Room
ATTACH;FMTTYPE=image/png:https://www.tiltonlibrary.org/wp-content/uploads/2026/04/Copy-of-Lego-club-1920-x-1080-px-1-e1775052459247.png
END:VEVENT
BEGIN:VEVENT
DTSTART;TZID=America/New_York:20271019T103000
DTEND;TZID=America/New_York:20271019T113000
DTSTAMP:20260422T192238
CREATED:20230620T182412Z
LAST-MODIFIED:20260318T192342Z
UID:10004745-1823941800-1823945400@www.tiltonlibrary.org
SUMMARY:Story Time
DESCRIPTION:All ages & abilities welcome!  Drop in the children’s room for a relaxed story hour\, listen to books\, play\, make crafts\, and visit our bearded dragon! To request accommodations contact Holly Johnson at 413-665-4683 or hjohnson@cwmars.org. Please allow at least three days to arrange accommodation. \nThe library is closed on Tuesdays at 10:30\, but our door will be open for Story time families.
URL:https://www.tiltonlibrary.org/event/story-time-34/2027-10-19/
LOCATION:Tilton Library\, 75 North Main Street\, South Deerfield\, MA\, 01373\, United States
CATEGORIES:Story Time
ATTACH;FMTTYPE=image/png:https://www.tiltonlibrary.org/wp-content/uploads/2023/06/Copy-of-31826-Story-time-1920-x-1080-px-1-1-e1773861791549.png
END:VEVENT
BEGIN:VEVENT
DTSTART;TZID=America/New_York:20271022T133000
DTEND;TZID=America/New_York:20271022T150000
DTSTAMP:20260422T192238
CREATED:20260401T143012Z
LAST-MODIFIED:20260401T143012Z
UID:10006175-1824211800-1824217200@www.tiltonlibrary.org
SUMMARY:Lego Club
DESCRIPTION:Drop in the children’s room for an afternoon of building! For all ages and skill levels. Duplos will be available for young children. To request accommodations contact Holly Johnson at 413-665-4683 or hjohnson@cwmars.org. Please allow at least three days to arrange accommodation.
URL:https://www.tiltonlibrary.org/event/lego-club-2/2027-10-22/
LOCATION:Tilton Library\, 75 North Main Street\, South Deerfield\, MA\, 01373\, United States
CATEGORIES:Kids Room
ATTACH;FMTTYPE=image/png:https://www.tiltonlibrary.org/wp-content/uploads/2026/04/Copy-of-Lego-club-1920-x-1080-px-1-e1775052459247.png
END:VEVENT
BEGIN:VEVENT
DTSTART;TZID=America/New_York:20271026T103000
DTEND;TZID=America/New_York:20271026T113000
DTSTAMP:20260422T192238
CREATED:20230620T182412Z
LAST-MODIFIED:20260318T192342Z
UID:10004746-1824546600-1824550200@www.tiltonlibrary.org
SUMMARY:Story Time
DESCRIPTION:All ages & abilities welcome!  Drop in the children’s room for a relaxed story hour\, listen to books\, play\, make crafts\, and visit our bearded dragon! To request accommodations contact Holly Johnson at 413-665-4683 or hjohnson@cwmars.org. Please allow at least three days to arrange accommodation. \nThe library is closed on Tuesdays at 10:30\, but our door will be open for Story time families.
URL:https://www.tiltonlibrary.org/event/story-time-34/2027-10-26/
LOCATION:Tilton Library\, 75 North Main Street\, South Deerfield\, MA\, 01373\, United States
CATEGORIES:Story Time
ATTACH;FMTTYPE=image/png:https://www.tiltonlibrary.org/wp-content/uploads/2023/06/Copy-of-31826-Story-time-1920-x-1080-px-1-1-e1773861791549.png
END:VEVENT
BEGIN:VEVENT
DTSTART;TZID=America/New_York:20271029T133000
DTEND;TZID=America/New_York:20271029T150000
DTSTAMP:20260422T192238
CREATED:20260401T143012Z
LAST-MODIFIED:20260401T143012Z
UID:10006176-1824816600-1824822000@www.tiltonlibrary.org
SUMMARY:Lego Club
DESCRIPTION:Drop in the children’s room for an afternoon of building! For all ages and skill levels. Duplos will be available for young children. To request accommodations contact Holly Johnson at 413-665-4683 or hjohnson@cwmars.org. Please allow at least three days to arrange accommodation.
URL:https://www.tiltonlibrary.org/event/lego-club-2/2027-10-29/
LOCATION:Tilton Library\, 75 North Main Street\, South Deerfield\, MA\, 01373\, United States
CATEGORIES:Kids Room
ATTACH;FMTTYPE=image/png:https://www.tiltonlibrary.org/wp-content/uploads/2026/04/Copy-of-Lego-club-1920-x-1080-px-1-e1775052459247.png
END:VEVENT
END:VCALENDAR