BEGIN:VCALENDAR
VERSION:2.0
PRODID:-//Tilton Library - ECPv6.15.3//NONSGML v1.0//EN
CALSCALE:GREGORIAN
METHOD:PUBLISH
X-WR-CALNAME:Tilton Library
X-ORIGINAL-URL:https://www.tiltonlibrary.org
X-WR-CALDESC:Events for Tilton Library
REFRESH-INTERVAL;VALUE=DURATION:PT1H
X-Robots-Tag:noindex
X-PUBLISHED-TTL:PT1H
BEGIN:VTIMEZONE
TZID:America/New_York
BEGIN:DAYLIGHT
TZOFFSETFROM:-0500
TZOFFSETTO:-0400
TZNAME:EDT
DTSTART:20220313T070000
END:DAYLIGHT
BEGIN:STANDARD
TZOFFSETFROM:-0400
TZOFFSETTO:-0500
TZNAME:EST
DTSTART:20221106T060000
END:STANDARD
END:VTIMEZONE
BEGIN:VEVENT
DTSTART;TZID=America/New_York:20220110T103000
DTEND;TZID=America/New_York:20220110T233000
DTSTAMP:20260423T204424
CREATED:20210112T133006Z
LAST-MODIFIED:20210114T225915Z
UID:10003787-1641810600-1641857400@www.tiltonlibrary.org
SUMMARY:VIRTUAL WEEKLY CLASS: Qigong for Adults
DESCRIPTION:TILTON IS CO-HOSTING THIS FREE WEEKLY CLASS\, SPONSORED BY SUNDERLAND LIBRARY. \nDvora Eisenstein leads this free weekly Qigong class on Zoom. Qigong is an ancient Chinese health care system integrating slow movements\, breathing techniques\, and focused intention. Qigong calms your mind\, improves your balance\, and enhances health. This practice is suitable for all levels of ability and ages. Anyone may join this free class at any time. \nTO JOIN\, CLICK THIS ZOOM LINK:\nhttps://zoom.us/j/117278043
URL:https://www.tiltonlibrary.org/event/virtual-weekly-class-qigong-for-adults-10/2022-01-10/
CATEGORIES:Activity,Workshop
ATTACH;FMTTYPE=image/png:https://www.tiltonlibrary.org/wp-content/uploads/2021/01/Power-of-QI-e1610457620188.png
END:VEVENT
BEGIN:VEVENT
DTSTART;TZID=America/New_York:20220110T110000
DTEND;TZID=America/New_York:20220110T160000
DTSTAMP:20260423T204424
CREATED:20220101T191821Z
LAST-MODIFIED:20220103T011420Z
UID:10003223-1641812400-1641830400@www.tiltonlibrary.org
SUMMARY:Art @ Tilton: "Moments of Stillness\," through 2/10/22
DESCRIPTION:Drawings by Anne Buchanan \nExhibit may be viewed during Tilton open hours.
URL:https://www.tiltonlibrary.org/event/art-tilton-moments-of-stillness-by-anne-buchanan/2022-01-10/
LOCATION:Tilton Library\, 75 North Main Street\, South Deerfield\, MA\, 01373\, United States
CATEGORIES:Exhibits
ATTACH;FMTTYPE=image/jpeg:https://www.tiltonlibrary.org/wp-content/uploads/2022/01/image_74639555-1.jpg
END:VEVENT
BEGIN:VEVENT
DTSTART;TZID=America/New_York:20220111T130000
DTEND;TZID=America/New_York:20220111T190000
DTSTAMP:20260423T204424
CREATED:20231027T233349Z
LAST-MODIFIED:20231027T233349Z
UID:10003240-1641906000-1641927600@www.tiltonlibrary.org
SUMMARY:Art @ Tilton: "Moments of Stillness\," through 2/10/22
DESCRIPTION:Drawings by Anne Buchanan \nExhibit may be viewed during Tilton open hours.
URL:https://www.tiltonlibrary.org/event/art-tilton-moments-of-stillness-by-anne-buchanan/2022-01-11/
LOCATION:Tilton Library\, 75 North Main Street\, South Deerfield\, MA\, 01373\, United States
CATEGORIES:Exhibits
ATTACH;FMTTYPE=image/jpeg:https://www.tiltonlibrary.org/wp-content/uploads/2022/01/image_74639555-1.jpg
END:VEVENT
BEGIN:VEVENT
DTSTART;TZID=America/New_York:20220112T110000
DTEND;TZID=America/New_York:20220112T160000
DTSTAMP:20260423T204425
CREATED:20231027T233349Z
LAST-MODIFIED:20231027T233349Z
UID:10003229-1641985200-1642003200@www.tiltonlibrary.org
SUMMARY:Art @ Tilton: "Moments of Stillness\," through 2/10/22
DESCRIPTION:Drawings by Anne Buchanan \nExhibit may be viewed during Tilton open hours.
URL:https://www.tiltonlibrary.org/event/art-tilton-moments-of-stillness-by-anne-buchanan/2022-01-12/
LOCATION:Tilton Library\, 75 North Main Street\, South Deerfield\, MA\, 01373\, United States
CATEGORIES:Exhibits
ATTACH;FMTTYPE=image/jpeg:https://www.tiltonlibrary.org/wp-content/uploads/2022/01/image_74639555-1.jpg
END:VEVENT
BEGIN:VEVENT
DTSTART;TZID=America/New_York:20220113T130000
DTEND;TZID=America/New_York:20220113T190000
DTSTAMP:20260423T204425
CREATED:20231027T233349Z
LAST-MODIFIED:20231027T233349Z
UID:10003246-1642078800-1642100400@www.tiltonlibrary.org
SUMMARY:Art @ Tilton: "Moments of Stillness\," through 2/10/22
DESCRIPTION:Drawings by Anne Buchanan \nExhibit may be viewed during Tilton open hours.
URL:https://www.tiltonlibrary.org/event/art-tilton-moments-of-stillness-by-anne-buchanan/2022-01-13/
LOCATION:Tilton Library\, 75 North Main Street\, South Deerfield\, MA\, 01373\, United States
CATEGORIES:Exhibits
ATTACH;FMTTYPE=image/jpeg:https://www.tiltonlibrary.org/wp-content/uploads/2022/01/image_74639555-1.jpg
END:VEVENT
BEGIN:VEVENT
DTSTART;TZID=America/New_York:20220113T190000
DTEND;TZID=America/New_York:20220113T200000
DTSTAMP:20260423T204425
CREATED:20220102T161301Z
LAST-MODIFIED:20220112T171656Z
UID:10004209-1642100400-1642104000@www.tiltonlibrary.org
SUMMARY:Virtual Open Mic Night
DESCRIPTION:Tilton is co-hosting this online event….\nJoin people from all over the region for our very first Virtual Open Mic featuring music and spoken word\, hosted by Libraries in the Woods\, the collaborative entity made up of 27 local rural libraries.\n\nSign up for a slot here: https://www.signupgenius.com/…/10C0D45A9AB22A4FAC61…\n\nThe Zoom link will be shared closer to the event.
URL:https://www.tiltonlibrary.org/event/virtual-open-mic-night/
CATEGORIES:Music,Reading Event
ATTACH;FMTTYPE=image/jpeg:https://www.tiltonlibrary.org/wp-content/uploads/2022/01/virtual-open-mic-e1641139938620.jpeg
END:VEVENT
BEGIN:VEVENT
DTSTART;TZID=America/New_York:20220115T110000
DTEND;TZID=America/New_York:20220115T160000
DTSTAMP:20260423T204425
CREATED:20231027T233349Z
LAST-MODIFIED:20231027T233349Z
UID:10003235-1642244400-1642262400@www.tiltonlibrary.org
SUMMARY:Art @ Tilton: "Moments of Stillness\," through 2/10/22
DESCRIPTION:Drawings by Anne Buchanan \nExhibit may be viewed during Tilton open hours.
URL:https://www.tiltonlibrary.org/event/art-tilton-moments-of-stillness-by-anne-buchanan/2022-01-15/
LOCATION:Tilton Library\, 75 North Main Street\, South Deerfield\, MA\, 01373\, United States
CATEGORIES:Exhibits
ATTACH;FMTTYPE=image/jpeg:https://www.tiltonlibrary.org/wp-content/uploads/2022/01/image_74639555-1.jpg
END:VEVENT
END:VCALENDAR