BEGIN:VCALENDAR
VERSION:2.0
PRODID:-//Tilton Library - ECPv6.15.3//NONSGML v1.0//EN
CALSCALE:GREGORIAN
METHOD:PUBLISH
X-ORIGINAL-URL:https://www.tiltonlibrary.org
X-WR-CALDESC:Events for Tilton Library
REFRESH-INTERVAL;VALUE=DURATION:PT1H
X-Robots-Tag:noindex
X-PUBLISHED-TTL:PT1H
BEGIN:VTIMEZONE
TZID:America/New_York
BEGIN:DAYLIGHT
TZOFFSETFROM:-0500
TZOFFSETTO:-0400
TZNAME:EDT
DTSTART:20220313T070000
END:DAYLIGHT
BEGIN:STANDARD
TZOFFSETFROM:-0400
TZOFFSETTO:-0500
TZNAME:EST
DTSTART:20221106T060000
END:STANDARD
END:VTIMEZONE
BEGIN:VEVENT
DTSTART;TZID=America/New_York:20220131T103000
DTEND;TZID=America/New_York:20220131T233000
DTSTAMP:20260423T054530
CREATED:20210112T133006Z
LAST-MODIFIED:20210114T225915Z
UID:10003790-1643625000-1643671800@www.tiltonlibrary.org
SUMMARY:VIRTUAL WEEKLY CLASS: Qigong for Adults
DESCRIPTION:TILTON IS CO-HOSTING THIS FREE WEEKLY CLASS\, SPONSORED BY SUNDERLAND LIBRARY. \nDvora Eisenstein leads this free weekly Qigong class on Zoom. Qigong is an ancient Chinese health care system integrating slow movements\, breathing techniques\, and focused intention. Qigong calms your mind\, improves your balance\, and enhances health. This practice is suitable for all levels of ability and ages. Anyone may join this free class at any time. \nTO JOIN\, CLICK THIS ZOOM LINK:\nhttps://zoom.us/j/117278043
URL:https://www.tiltonlibrary.org/event/virtual-weekly-class-qigong-for-adults-10/2022-01-31/
CATEGORIES:Activity,Workshop
ATTACH;FMTTYPE=image/png:https://www.tiltonlibrary.org/wp-content/uploads/2021/01/Power-of-QI-e1610457620188.png
END:VEVENT
BEGIN:VEVENT
DTSTART;TZID=America/New_York:20220131T110000
DTEND;TZID=America/New_York:20220131T160000
DTSTAMP:20260423T054530
CREATED:20220101T191821Z
LAST-MODIFIED:20220103T011420Z
UID:10003226-1643626800-1643644800@www.tiltonlibrary.org
SUMMARY:Art @ Tilton: "Moments of Stillness\," through 2/10/22
DESCRIPTION:Drawings by Anne Buchanan \nExhibit may be viewed during Tilton open hours.
URL:https://www.tiltonlibrary.org/event/art-tilton-moments-of-stillness-by-anne-buchanan/2022-01-31/
LOCATION:Tilton Library\, 75 North Main Street\, South Deerfield\, MA\, 01373\, United States
CATEGORIES:Exhibits
ATTACH;FMTTYPE=image/jpeg:https://www.tiltonlibrary.org/wp-content/uploads/2022/01/image_74639555-1.jpg
END:VEVENT
BEGIN:VEVENT
DTSTART;TZID=America/New_York:20220201T130000
DTEND;TZID=America/New_York:20220201T190000
DTSTAMP:20260423T054530
CREATED:20231027T233349Z
LAST-MODIFIED:20231027T233349Z
UID:10003243-1643720400-1643742000@www.tiltonlibrary.org
SUMMARY:Art @ Tilton: "Moments of Stillness\," through 2/10/22
DESCRIPTION:Drawings by Anne Buchanan \nExhibit may be viewed during Tilton open hours.
URL:https://www.tiltonlibrary.org/event/art-tilton-moments-of-stillness-by-anne-buchanan/2022-02-01/
LOCATION:Tilton Library\, 75 North Main Street\, South Deerfield\, MA\, 01373\, United States
CATEGORIES:Exhibits
ATTACH;FMTTYPE=image/jpeg:https://www.tiltonlibrary.org/wp-content/uploads/2022/01/image_74639555-1.jpg
END:VEVENT
BEGIN:VEVENT
DTSTART;TZID=America/New_York:20220202T110000
DTEND;TZID=America/New_York:20220202T160000
DTSTAMP:20260423T054530
CREATED:20231027T233349Z
LAST-MODIFIED:20231027T233349Z
UID:10003232-1643799600-1643817600@www.tiltonlibrary.org
SUMMARY:Art @ Tilton: "Moments of Stillness\," through 2/10/22
DESCRIPTION:Drawings by Anne Buchanan \nExhibit may be viewed during Tilton open hours.
URL:https://www.tiltonlibrary.org/event/art-tilton-moments-of-stillness-by-anne-buchanan/2022-02-02/
LOCATION:Tilton Library\, 75 North Main Street\, South Deerfield\, MA\, 01373\, United States
CATEGORIES:Exhibits
ATTACH;FMTTYPE=image/jpeg:https://www.tiltonlibrary.org/wp-content/uploads/2022/01/image_74639555-1.jpg
END:VEVENT
BEGIN:VEVENT
DTSTART;TZID=America/New_York:20220203T130000
DTEND;TZID=America/New_York:20220203T190000
DTSTAMP:20260423T054531
CREATED:20231027T233349Z
LAST-MODIFIED:20231027T233349Z
UID:10003249-1643893200-1643914800@www.tiltonlibrary.org
SUMMARY:Art @ Tilton: "Moments of Stillness\," through 2/10/22
DESCRIPTION:Drawings by Anne Buchanan \nExhibit may be viewed during Tilton open hours.
URL:https://www.tiltonlibrary.org/event/art-tilton-moments-of-stillness-by-anne-buchanan/2022-02-03/
LOCATION:Tilton Library\, 75 North Main Street\, South Deerfield\, MA\, 01373\, United States
CATEGORIES:Exhibits
ATTACH;FMTTYPE=image/jpeg:https://www.tiltonlibrary.org/wp-content/uploads/2022/01/image_74639555-1.jpg
END:VEVENT
BEGIN:VEVENT
DTSTART;TZID=America/New_York:20220205T110000
DTEND;TZID=America/New_York:20220205T160000
DTSTAMP:20260423T054531
CREATED:20231027T233349Z
LAST-MODIFIED:20231027T233349Z
UID:10003238-1644058800-1644076800@www.tiltonlibrary.org
SUMMARY:Art @ Tilton: "Moments of Stillness\," through 2/10/22
DESCRIPTION:Drawings by Anne Buchanan \nExhibit may be viewed during Tilton open hours.
URL:https://www.tiltonlibrary.org/event/art-tilton-moments-of-stillness-by-anne-buchanan/2022-02-05/
LOCATION:Tilton Library\, 75 North Main Street\, South Deerfield\, MA\, 01373\, United States
CATEGORIES:Exhibits
ATTACH;FMTTYPE=image/jpeg:https://www.tiltonlibrary.org/wp-content/uploads/2022/01/image_74639555-1.jpg
END:VEVENT
END:VCALENDAR