BEGIN:VCALENDAR
VERSION:2.0
PRODID:-//Tilton Library - ECPv6.15.3//NONSGML v1.0//EN
CALSCALE:GREGORIAN
METHOD:PUBLISH
X-ORIGINAL-URL:https://www.tiltonlibrary.org
X-WR-CALDESC:Events for Tilton Library
REFRESH-INTERVAL;VALUE=DURATION:PT1H
X-Robots-Tag:noindex
X-PUBLISHED-TTL:PT1H
BEGIN:VTIMEZONE
TZID:America/New_York
BEGIN:DAYLIGHT
TZOFFSETFROM:-0500
TZOFFSETTO:-0400
TZNAME:EDT
DTSTART:20220313T070000
END:DAYLIGHT
BEGIN:STANDARD
TZOFFSETFROM:-0400
TZOFFSETTO:-0500
TZNAME:EST
DTSTART:20221106T060000
END:STANDARD
END:VTIMEZONE
BEGIN:VEVENT
DTSTART;TZID=America/New_York:20220314T100000
DTEND;TZID=America/New_York:20220314T103000
DTSTAMP:20260422T181252
CREATED:20220214T201907Z
LAST-MODIFIED:20220214T201907Z
UID:10004216-1647252000-1647253800@www.tiltonlibrary.org
SUMMARY:Little Roots Music
DESCRIPTION:We are collaborating with Union 38 Family Network and the Sunderland and Whately Public Libraries to bring a MONTH of music with LITTLE ROOTS! \nRegister here for a zoom code: https://forms.gle/MvAgASq6iQ8vcw7u8
URL:https://www.tiltonlibrary.org/event/little-roots-music/2022-03-14/
LOCATION:ZOOM
CATEGORIES:Kids Room,Music
ATTACH;FMTTYPE=image/jpeg:https://www.tiltonlibrary.org/wp-content/uploads/2022/02/little-roots-event-e1644868984243.jpg
END:VEVENT
BEGIN:VEVENT
DTSTART;TZID=America/New_York:20220314T103000
DTEND;TZID=America/New_York:20220314T233000
DTSTAMP:20260422T181252
CREATED:20210112T133006Z
LAST-MODIFIED:20210114T225915Z
UID:10003796-1647253800-1647300600@www.tiltonlibrary.org
SUMMARY:VIRTUAL WEEKLY CLASS: Qigong for Adults
DESCRIPTION:TILTON IS CO-HOSTING THIS FREE WEEKLY CLASS\, SPONSORED BY SUNDERLAND LIBRARY. \nDvora Eisenstein leads this free weekly Qigong class on Zoom. Qigong is an ancient Chinese health care system integrating slow movements\, breathing techniques\, and focused intention. Qigong calms your mind\, improves your balance\, and enhances health. This practice is suitable for all levels of ability and ages. Anyone may join this free class at any time. \nTO JOIN\, CLICK THIS ZOOM LINK:\nhttps://zoom.us/j/117278043
URL:https://www.tiltonlibrary.org/event/virtual-weekly-class-qigong-for-adults-10/2022-03-14/
CATEGORIES:Activity,Workshop
ATTACH;FMTTYPE=image/png:https://www.tiltonlibrary.org/wp-content/uploads/2021/01/Power-of-QI-e1610457620188.png
END:VEVENT
BEGIN:VEVENT
DTSTART;TZID=America/New_York:20220314T110000
DTEND;TZID=America/New_York:20220314T160000
DTSTAMP:20260422T181252
CREATED:20231027T233811Z
LAST-MODIFIED:20231027T233811Z
UID:10004231-1647255600-1647273600@www.tiltonlibrary.org
SUMMARY:Art @ Tilton: "Japanese Landscape & Pop Art\," through 3/31/22
DESCRIPTION:Paintings by Kimiko Donohoe \nExhibit may be viewed during Tilton open hours.
URL:https://www.tiltonlibrary.org/event/art-tilton-japanese-landscape-pop-art-through-3-31-22/2022-03-14/
LOCATION:Tilton Library\, 75 North Main Street\, South Deerfield\, MA\, 01373\, United States
CATEGORIES:Exhibits
ATTACH;FMTTYPE=image/jpeg:https://www.tiltonlibrary.org/wp-content/uploads/2022/02/Copy-of-Kimiko-Donohue-web-banner-e1644807145616.jpg
END:VEVENT
BEGIN:VEVENT
DTSTART;TZID=America/New_York:20220315T130000
DTEND;TZID=America/New_York:20220315T190000
DTSTAMP:20260422T181252
CREATED:20231027T233811Z
LAST-MODIFIED:20231027T233811Z
UID:10004245-1647349200-1647370800@www.tiltonlibrary.org
SUMMARY:Art @ Tilton: "Japanese Landscape & Pop Art\," through 3/31/22
DESCRIPTION:Paintings by Kimiko Donohoe \nExhibit may be viewed during Tilton open hours.
URL:https://www.tiltonlibrary.org/event/art-tilton-japanese-landscape-pop-art-through-3-31-22/2022-03-15/
LOCATION:Tilton Library\, 75 North Main Street\, South Deerfield\, MA\, 01373\, United States
CATEGORIES:Exhibits
ATTACH;FMTTYPE=image/jpeg:https://www.tiltonlibrary.org/wp-content/uploads/2022/02/Copy-of-Kimiko-Donohue-web-banner-e1644807145616.jpg
END:VEVENT
BEGIN:VEVENT
DTSTART;TZID=America/New_York:20220316T110000
DTEND;TZID=America/New_York:20220316T160000
DTSTAMP:20260422T181252
CREATED:20231027T233811Z
LAST-MODIFIED:20231027T233811Z
UID:10004238-1647428400-1647446400@www.tiltonlibrary.org
SUMMARY:Art @ Tilton: "Japanese Landscape & Pop Art\," through 3/31/22
DESCRIPTION:Paintings by Kimiko Donohoe \nExhibit may be viewed during Tilton open hours.
URL:https://www.tiltonlibrary.org/event/art-tilton-japanese-landscape-pop-art-through-3-31-22/2022-03-16/
LOCATION:Tilton Library\, 75 North Main Street\, South Deerfield\, MA\, 01373\, United States
CATEGORIES:Exhibits
ATTACH;FMTTYPE=image/jpeg:https://www.tiltonlibrary.org/wp-content/uploads/2022/02/Copy-of-Kimiko-Donohue-web-banner-e1644807145616.jpg
END:VEVENT
BEGIN:VEVENT
DTSTART;TZID=America/New_York:20220317T100000
DTEND;TZID=America/New_York:20220317T103000
DTSTAMP:20260422T181253
CREATED:20220214T201907Z
LAST-MODIFIED:20220214T201907Z
UID:10004217-1647511200-1647513000@www.tiltonlibrary.org
SUMMARY:Little Roots Music
DESCRIPTION:We are collaborating with Union 38 Family Network and the Sunderland and Whately Public Libraries to bring a MONTH of music with LITTLE ROOTS! \nRegister here for a zoom code: https://forms.gle/MvAgASq6iQ8vcw7u8
URL:https://www.tiltonlibrary.org/event/little-roots-music/2022-03-17/
LOCATION:ZOOM
CATEGORIES:Kids Room,Music
ATTACH;FMTTYPE=image/jpeg:https://www.tiltonlibrary.org/wp-content/uploads/2022/02/little-roots-event-e1644868984243.jpg
END:VEVENT
BEGIN:VEVENT
DTSTART;TZID=America/New_York:20220317T130000
DTEND;TZID=America/New_York:20220317T190000
DTSTAMP:20260422T181253
CREATED:20231027T233811Z
LAST-MODIFIED:20231027T233811Z
UID:10004252-1647522000-1647543600@www.tiltonlibrary.org
SUMMARY:Art @ Tilton: "Japanese Landscape & Pop Art\," through 3/31/22
DESCRIPTION:Paintings by Kimiko Donohoe \nExhibit may be viewed during Tilton open hours.
URL:https://www.tiltonlibrary.org/event/art-tilton-japanese-landscape-pop-art-through-3-31-22/2022-03-17/
LOCATION:Tilton Library\, 75 North Main Street\, South Deerfield\, MA\, 01373\, United States
CATEGORIES:Exhibits
ATTACH;FMTTYPE=image/jpeg:https://www.tiltonlibrary.org/wp-content/uploads/2022/02/Copy-of-Kimiko-Donohue-web-banner-e1644807145616.jpg
END:VEVENT
BEGIN:VEVENT
DTSTART;TZID=America/New_York:20220319T110000
DTEND;TZID=America/New_York:20220319T160000
DTSTAMP:20260422T181253
CREATED:20220214T025249Z
LAST-MODIFIED:20220214T025249Z
UID:10004225-1647687600-1647705600@www.tiltonlibrary.org
SUMMARY:Art @ Tilton: "Japanese Landscape & Pop Art\," through 3/31/22
DESCRIPTION:Paintings by Kimiko Donohoe \nExhibit may be viewed during Tilton open hours.
URL:https://www.tiltonlibrary.org/event/art-tilton-japanese-landscape-pop-art-through-3-31-22/2022-03-19/
LOCATION:Tilton Library\, 75 North Main Street\, South Deerfield\, MA\, 01373\, United States
CATEGORIES:Exhibits
ATTACH;FMTTYPE=image/jpeg:https://www.tiltonlibrary.org/wp-content/uploads/2022/02/Copy-of-Kimiko-Donohue-web-banner-e1644807145616.jpg
END:VEVENT
END:VCALENDAR