BEGIN:VCALENDAR
VERSION:2.0
PRODID:-//Tilton Library - ECPv6.15.3//NONSGML v1.0//EN
CALSCALE:GREGORIAN
METHOD:PUBLISH
X-WR-CALNAME:Tilton Library
X-ORIGINAL-URL:https://www.tiltonlibrary.org
X-WR-CALDESC:Events for Tilton Library
REFRESH-INTERVAL;VALUE=DURATION:PT1H
X-Robots-Tag:noindex
X-PUBLISHED-TTL:PT1H
BEGIN:VTIMEZONE
TZID:America/New_York
BEGIN:DAYLIGHT
TZOFFSETFROM:-0500
TZOFFSETTO:-0400
TZNAME:EDT
DTSTART:20220313T070000
END:DAYLIGHT
BEGIN:STANDARD
TZOFFSETFROM:-0400
TZOFFSETTO:-0500
TZNAME:EST
DTSTART:20221106T060000
END:STANDARD
END:VTIMEZONE
BEGIN:VEVENT
DTSTART;TZID=America/New_York:20220328T103000
DTEND;TZID=America/New_York:20220328T233000
DTSTAMP:20260422T181125
CREATED:20210112T133006Z
LAST-MODIFIED:20210114T225915Z
UID:10003798-1648463400-1648510200@www.tiltonlibrary.org
SUMMARY:VIRTUAL WEEKLY CLASS: Qigong for Adults
DESCRIPTION:TILTON IS CO-HOSTING THIS FREE WEEKLY CLASS\, SPONSORED BY SUNDERLAND LIBRARY. \nDvora Eisenstein leads this free weekly Qigong class on Zoom. Qigong is an ancient Chinese health care system integrating slow movements\, breathing techniques\, and focused intention. Qigong calms your mind\, improves your balance\, and enhances health. This practice is suitable for all levels of ability and ages. Anyone may join this free class at any time. \nTO JOIN\, CLICK THIS ZOOM LINK:\nhttps://zoom.us/j/117278043
URL:https://www.tiltonlibrary.org/event/virtual-weekly-class-qigong-for-adults-10/2022-03-28/
CATEGORIES:Activity,Workshop
ATTACH;FMTTYPE=image/png:https://www.tiltonlibrary.org/wp-content/uploads/2021/01/Power-of-QI-e1610457620188.png
END:VEVENT
BEGIN:VEVENT
DTSTART;TZID=America/New_York:20220328T110000
DTEND;TZID=America/New_York:20220328T160000
DTSTAMP:20260422T181125
CREATED:20231027T233811Z
LAST-MODIFIED:20231027T233811Z
UID:10004233-1648465200-1648483200@www.tiltonlibrary.org
SUMMARY:Art @ Tilton: "Japanese Landscape & Pop Art\," through 3/31/22
DESCRIPTION:Paintings by Kimiko Donohoe \nExhibit may be viewed during Tilton open hours.
URL:https://www.tiltonlibrary.org/event/art-tilton-japanese-landscape-pop-art-through-3-31-22/2022-03-28/
LOCATION:Tilton Library\, 75 North Main Street\, South Deerfield\, MA\, 01373\, United States
CATEGORIES:Exhibits
ATTACH;FMTTYPE=image/jpeg:https://www.tiltonlibrary.org/wp-content/uploads/2022/02/Copy-of-Kimiko-Donohue-web-banner-e1644807145616.jpg
END:VEVENT
BEGIN:VEVENT
DTSTART;TZID=America/New_York:20220329T103000
DTEND;TZID=America/New_York:20220329T113000
DTSTAMP:20260422T181125
CREATED:20220319T180629Z
LAST-MODIFIED:20220319T180629Z
UID:10004257-1648549800-1648553400@www.tiltonlibrary.org
SUMMARY:Story Time with Holly
DESCRIPTION:No need to register\, Just drop in! We’ll practice mindfulness\, read\, chat\, and have fun!
URL:https://www.tiltonlibrary.org/event/story-time-with-holly/2022-03-29/
LOCATION:Tilton Library\, 75 North Main Street\, South Deerfield\, MA\, 01373\, United States
CATEGORIES:Activity,Kids Room,Story Time
ATTACH;FMTTYPE=image/jpeg:https://www.tiltonlibrary.org/wp-content/uploads/2022/03/BEAR-READING-e1647713160327.jpg
END:VEVENT
BEGIN:VEVENT
DTSTART;TZID=America/New_York:20220329T130000
DTEND;TZID=America/New_York:20220329T190000
DTSTAMP:20260422T181125
CREATED:20231027T233811Z
LAST-MODIFIED:20231027T233811Z
UID:10004247-1648558800-1648580400@www.tiltonlibrary.org
SUMMARY:Art @ Tilton: "Japanese Landscape & Pop Art\," through 3/31/22
DESCRIPTION:Paintings by Kimiko Donohoe \nExhibit may be viewed during Tilton open hours.
URL:https://www.tiltonlibrary.org/event/art-tilton-japanese-landscape-pop-art-through-3-31-22/2022-03-29/
LOCATION:Tilton Library\, 75 North Main Street\, South Deerfield\, MA\, 01373\, United States
CATEGORIES:Exhibits
ATTACH;FMTTYPE=image/jpeg:https://www.tiltonlibrary.org/wp-content/uploads/2022/02/Copy-of-Kimiko-Donohue-web-banner-e1644807145616.jpg
END:VEVENT
BEGIN:VEVENT
DTSTART;TZID=America/New_York:20220329T190000
DTEND;TZID=America/New_York:20220329T200000
DTSTAMP:20260422T181125
CREATED:20220317T201008Z
LAST-MODIFIED:20220324T121852Z
UID:10004256-1648580400-1648584000@www.tiltonlibrary.org
SUMMARY:NASA Ambassador Talks About Mars
DESCRIPTION:MARS: PAST\, PRESENT\, AND FUTURE \nMars has been studied via spacecraft over the past 60 years\, giving scientists a better understanding of the planet and its history. However\, we have yet to discover life on Mars. What are the chances there was life there in the past? And is it possible to find evidence of past life\, such as fossils? Join our talk with NASA Ambassador Charity Southworth on what Mars was like billions of years ago\, highlighting discoveries made via space missions and what the future of Mars missions may look like. \n  \nRSVP by emailing us at tiltonlibrary@cwmars.org to get the zoom link.\n  \nThis program is sponsored in part by Science Friday\, a Tilton Library partner\, in relation to the Spring 2022 SciFri Book Club title Sirens of Mars.
URL:https://www.tiltonlibrary.org/event/nasa-ambassador-talks-about-mars/
CATEGORIES:Workshop
ATTACH;FMTTYPE=image/png:https://www.tiltonlibrary.org/wp-content/uploads/2022/03/NASA-MArs-Talk-Web-Graphic-e1647547735591.png
END:VEVENT
BEGIN:VEVENT
DTSTART;TZID=America/New_York:20220330T110000
DTEND;TZID=America/New_York:20220330T160000
DTSTAMP:20260422T181125
CREATED:20231027T233811Z
LAST-MODIFIED:20231027T233811Z
UID:10004240-1648638000-1648656000@www.tiltonlibrary.org
SUMMARY:Art @ Tilton: "Japanese Landscape & Pop Art\," through 3/31/22
DESCRIPTION:Paintings by Kimiko Donohoe \nExhibit may be viewed during Tilton open hours.
URL:https://www.tiltonlibrary.org/event/art-tilton-japanese-landscape-pop-art-through-3-31-22/2022-03-30/
LOCATION:Tilton Library\, 75 North Main Street\, South Deerfield\, MA\, 01373\, United States
CATEGORIES:Exhibits
ATTACH;FMTTYPE=image/jpeg:https://www.tiltonlibrary.org/wp-content/uploads/2022/02/Copy-of-Kimiko-Donohue-web-banner-e1644807145616.jpg
END:VEVENT
BEGIN:VEVENT
DTSTART;TZID=America/New_York:20220331T130000
DTEND;TZID=America/New_York:20220331T190000
DTSTAMP:20260422T181125
CREATED:20231027T233811Z
LAST-MODIFIED:20231027T233811Z
UID:10004254-1648731600-1648753200@www.tiltonlibrary.org
SUMMARY:Art @ Tilton: "Japanese Landscape & Pop Art\," through 3/31/22
DESCRIPTION:Paintings by Kimiko Donohoe \nExhibit may be viewed during Tilton open hours.
URL:https://www.tiltonlibrary.org/event/art-tilton-japanese-landscape-pop-art-through-3-31-22/2022-03-31/
LOCATION:Tilton Library\, 75 North Main Street\, South Deerfield\, MA\, 01373\, United States
CATEGORIES:Exhibits
ATTACH;FMTTYPE=image/jpeg:https://www.tiltonlibrary.org/wp-content/uploads/2022/02/Copy-of-Kimiko-Donohue-web-banner-e1644807145616.jpg
END:VEVENT
END:VCALENDAR