BEGIN:VCALENDAR
VERSION:2.0
PRODID:-//Tilton Library - ECPv6.15.3//NONSGML v1.0//EN
CALSCALE:GREGORIAN
METHOD:PUBLISH
X-ORIGINAL-URL:https://www.tiltonlibrary.org
X-WR-CALDESC:Events for Tilton Library
REFRESH-INTERVAL;VALUE=DURATION:PT1H
X-Robots-Tag:noindex
X-PUBLISHED-TTL:PT1H
BEGIN:VTIMEZONE
TZID:America/New_York
BEGIN:DAYLIGHT
TZOFFSETFROM:-0500
TZOFFSETTO:-0400
TZNAME:EDT
DTSTART:20220313T070000
END:DAYLIGHT
BEGIN:STANDARD
TZOFFSETFROM:-0400
TZOFFSETTO:-0500
TZNAME:EST
DTSTART:20221106T060000
END:STANDARD
END:VTIMEZONE
BEGIN:VEVENT
DTSTART;TZID=America/New_York:20220425T103000
DTEND;TZID=America/New_York:20220425T233000
DTSTAMP:20260422T163348
CREATED:20210112T133006Z
LAST-MODIFIED:20210114T225915Z
UID:10003802-1650882600-1650929400@www.tiltonlibrary.org
SUMMARY:VIRTUAL WEEKLY CLASS: Qigong for Adults
DESCRIPTION:TILTON IS CO-HOSTING THIS FREE WEEKLY CLASS\, SPONSORED BY SUNDERLAND LIBRARY. \nDvora Eisenstein leads this free weekly Qigong class on Zoom. Qigong is an ancient Chinese health care system integrating slow movements\, breathing techniques\, and focused intention. Qigong calms your mind\, improves your balance\, and enhances health. This practice is suitable for all levels of ability and ages. Anyone may join this free class at any time. \nTO JOIN\, CLICK THIS ZOOM LINK:\nhttps://zoom.us/j/117278043
URL:https://www.tiltonlibrary.org/event/virtual-weekly-class-qigong-for-adults-10/2022-04-25/
CATEGORIES:Activity,Workshop
ATTACH;FMTTYPE=image/png:https://www.tiltonlibrary.org/wp-content/uploads/2021/01/Power-of-QI-e1610457620188.png
END:VEVENT
BEGIN:VEVENT
DTSTART;TZID=America/New_York:20220426T103000
DTEND;TZID=America/New_York:20220426T113000
DTSTAMP:20260422T163348
CREATED:20220319T180629Z
LAST-MODIFIED:20220319T180629Z
UID:10004261-1650969000-1650972600@www.tiltonlibrary.org
SUMMARY:Story Time with Holly
DESCRIPTION:No need to register\, Just drop in! We’ll practice mindfulness\, read\, chat\, and have fun!
URL:https://www.tiltonlibrary.org/event/story-time-with-holly/2022-04-26/
LOCATION:Tilton Library\, 75 North Main Street\, South Deerfield\, MA\, 01373\, United States
CATEGORIES:Activity,Kids Room,Story Time
ATTACH;FMTTYPE=image/jpeg:https://www.tiltonlibrary.org/wp-content/uploads/2022/03/BEAR-READING-e1647713160327.jpg
END:VEVENT
BEGIN:VEVENT
DTSTART;TZID=America/New_York:20220428T183000
DTEND;TZID=America/New_York:20220428T200000
DTSTAMP:20260422T163348
CREATED:20211014T200836Z
LAST-MODIFIED:20220120T142119Z
UID:10004186-1651170600-1651176000@www.tiltonlibrary.org
SUMMARY:Community Dialogue on Culturally Responsive Education series
DESCRIPTION:TO REGISTER PLEASE CLICK HERE: bit.ly/FRSU38DIALOGUE\nYou will receive a Zoom link via email close to the workshop dates. PLEASE NOTE: REGISTRATION CLOSES THE DAY OF THE WORKSHOP.\n  \n\nBROUGHT TO YOU BY THE FRONTIER REGIONAL SCHOOLS\, AND TILTON AND SUNDERLAND LIBRARIES: Four online sessions\, facilitated by consultants from the Collaborative for Educational Services.\n  \nCulturally Responsive Education is a form of teaching that aims to reflect and honor the rich tapestry of cultures and ways of knowing that make up our diverse society. \nDialogue is a vehicle for discussing the experiences and values underlying one’s own views while respecting the views of others\, and committing to listening\, even when we don’t agree. \n  \nWe ask that you make your best effort to attend all four sessions:\nThursday\, November 18\, 2021: \nListening comes first: exploring what is at the heart of the matter for each of us \nThursday\, February 17\, 2022: \nCulturally Responsive Education: hopes and concerns \nThursday\, March 24\, 2022: \nDigging deeper with connected conversations \nThursday\, April 28\, 2022: \nWhere do we go from here? \n  \nAll sessions will start at 6:30 pm\, and all will be on Zoom. \n  \n 
URL:https://www.tiltonlibrary.org/event/community-dialogue-on-culturally-responsive-education-series/2022-04-28/
CATEGORIES:Workshop
ATTACH;FMTTYPE=image/png:https://www.tiltonlibrary.org/wp-content/uploads/2021/10/Culturally-Responsive-Ed-series-web-banner-e1634242021473.png
END:VEVENT
END:VCALENDAR