BEGIN:VCALENDAR
VERSION:2.0
PRODID:-//Tilton Library - ECPv6.15.3//NONSGML v1.0//EN
CALSCALE:GREGORIAN
METHOD:PUBLISH
X-WR-CALNAME:Tilton Library
X-ORIGINAL-URL:https://www.tiltonlibrary.org
X-WR-CALDESC:Events for Tilton Library
REFRESH-INTERVAL;VALUE=DURATION:PT1H
X-Robots-Tag:noindex
X-PUBLISHED-TTL:PT1H
BEGIN:VTIMEZONE
TZID:America/New_York
BEGIN:DAYLIGHT
TZOFFSETFROM:-0500
TZOFFSETTO:-0400
TZNAME:EDT
DTSTART:20220313T070000
END:DAYLIGHT
BEGIN:STANDARD
TZOFFSETFROM:-0400
TZOFFSETTO:-0500
TZNAME:EST
DTSTART:20221106T060000
END:STANDARD
END:VTIMEZONE
BEGIN:VEVENT
DTSTART;TZID=America/New_York:20220606T103000
DTEND;TZID=America/New_York:20220606T233000
DTSTAMP:20260422T150301
CREATED:20210112T133006Z
LAST-MODIFIED:20210114T225915Z
UID:10003808-1654511400-1654558200@www.tiltonlibrary.org
SUMMARY:VIRTUAL WEEKLY CLASS: Qigong for Adults
DESCRIPTION:TILTON IS CO-HOSTING THIS FREE WEEKLY CLASS\, SPONSORED BY SUNDERLAND LIBRARY. \nDvora Eisenstein leads this free weekly Qigong class on Zoom. Qigong is an ancient Chinese health care system integrating slow movements\, breathing techniques\, and focused intention. Qigong calms your mind\, improves your balance\, and enhances health. This practice is suitable for all levels of ability and ages. Anyone may join this free class at any time. \nTO JOIN\, CLICK THIS ZOOM LINK:\nhttps://zoom.us/j/117278043
URL:https://www.tiltonlibrary.org/event/virtual-weekly-class-qigong-for-adults-10/2022-06-06/
CATEGORIES:Activity,Workshop
ATTACH;FMTTYPE=image/png:https://www.tiltonlibrary.org/wp-content/uploads/2021/01/Power-of-QI-e1610457620188.png
END:VEVENT
BEGIN:VEVENT
DTSTART;TZID=America/New_York:20220611T110000
DTEND;TZID=America/New_York:20220611T123000
DTSTAMP:20260422T150301
CREATED:20220530T165300Z
LAST-MODIFIED:20220606T134400Z
UID:10004284-1654945200-1654950600@www.tiltonlibrary.org
SUMMARY:POSTPONED\, DATE TBD:Nuts and Bolts Tool Making Program
DESCRIPTION:****EVENT POSTPONED\, DATE TBD****\n  \nBASIC NUTS AND BOLTS \n  \nEXPLORE EARLY TOOL MANUFACTURING IN DEERFIELD WITH JAY STRYKER AND MUSEUM OF OUR INDUSTRIAL HERITAGE. PERHAPS WIN A CHANCE TO MAKE YOUR OWN NUT OR BOLT.   \nALL AGES WELCOME. \n  \n(RAIN DATE JUNE 18 11:00AM) \n  \nSponsors: 350th Anniversary Steering Committee and Tilton Library. \nFunded by the Deerfield Cultural Council
URL:https://www.tiltonlibrary.org/event/nuts-and-bolts-tool-making-program/
CATEGORIES:Activity,Workshop
ATTACH;FMTTYPE=image/jpeg:https://www.tiltonlibrary.org/wp-content/uploads/2022/05/nuts-bolts1-e1653929527298.jpg
END:VEVENT
BEGIN:VEVENT
DTSTART;TZID=America/New_York:20220611T110000
DTEND;TZID=America/New_York:20220611T160000
DTSTAMP:20260422T150301
CREATED:20220521T180628Z
LAST-MODIFIED:20220606T155936Z
UID:10004279-1654945200-1654963200@www.tiltonlibrary.org
SUMMARY:Summer Reading Program Kick Off Event
DESCRIPTION:This year’s theme is Read Beyond the Beaten Path. \nSign up for summer reading to get a coupon for a FREE milkshake from LEO’s TABLE! The first 25 kids to sign up also get a coupon for a free plant start from Atlas Farms! \nHelp name our program mascot! \nPainting\, Bubbles\, Lawn Games\, and Popsicles! \n*RAIN DATE 6/18 \nAlso: MAD SCIENCE MAGNETIC MAGIC @ 2PM\n\nHands on experimenting swinging compasses & motorized devices\nNO RAIN DATE\, event will be moved inside\n\nREGISTRATION REQUIRED – SPACE LIMITED!\nCONTACT THE LIBRARY
URL:https://www.tiltonlibrary.org/event/summer-reading-program-kick-off-event/
LOCATION:Tilton Library\, 75 North Main Street\, South Deerfield\, MA\, 01373\, United States
CATEGORIES:Activity,Kids Room,Summer Library Program
ATTACH;FMTTYPE=image/png:https://www.tiltonlibrary.org/wp-content/uploads/2022/05/summer-kick-off-2022-event-pic-e1653156305268.png
END:VEVENT
BEGIN:VEVENT
DTSTART;TZID=America/New_York:20220611T140000
DTEND;TZID=America/New_York:20220611T150000
DTSTAMP:20260422T150301
CREATED:20220521T184717Z
LAST-MODIFIED:20220530T171324Z
UID:10004280-1654956000-1654959600@www.tiltonlibrary.org
SUMMARY:Mad Science Magnetic Magic Workshop
DESCRIPTION:Registration Required\, Space Limited\nChildren learn how and why magnets behave by testing the basic physical principles governing magnetism.  They learn how to create magnets and how magnetism is lost. Children use compasses to gain a better understanding of how humans benefit from the Earth’s magnetic force.  Hands-on experimenting-from swinging compasses to motorized devices- allows children to explore the role of magnetism in our everyday lives. \nTilton Backyard\, will be moved inside for rain. \nCall or email the library to register.\nSponsored by the Friends of Tilton Library.
URL:https://www.tiltonlibrary.org/event/mad-science-magnetic-magic-workshop/
LOCATION:Tilton Library\, 75 North Main Street\, South Deerfield\, MA\, 01373\, United States
CATEGORIES:Activity,Summer Library Program,Workshop
ATTACH;FMTTYPE=image/png:https://www.tiltonlibrary.org/wp-content/uploads/2022/05/mad-science-event-cover-e1653158708857.png
END:VEVENT
END:VCALENDAR