BEGIN:VCALENDAR
VERSION:2.0
PRODID:-//Tilton Library - ECPv6.15.3//NONSGML v1.0//EN
CALSCALE:GREGORIAN
METHOD:PUBLISH
X-WR-CALNAME:Tilton Library
X-ORIGINAL-URL:https://www.tiltonlibrary.org
X-WR-CALDESC:Events for Tilton Library
REFRESH-INTERVAL;VALUE=DURATION:PT1H
X-Robots-Tag:noindex
X-PUBLISHED-TTL:PT1H
BEGIN:VTIMEZONE
TZID:America/New_York
BEGIN:DAYLIGHT
TZOFFSETFROM:-0500
TZOFFSETTO:-0400
TZNAME:EDT
DTSTART:20220313T070000
END:DAYLIGHT
BEGIN:STANDARD
TZOFFSETFROM:-0400
TZOFFSETTO:-0500
TZNAME:EST
DTSTART:20221106T060000
END:STANDARD
END:VTIMEZONE
BEGIN:VEVENT
DTSTART;TZID=America/New_York:20220704T103000
DTEND;TZID=America/New_York:20220704T233000
DTSTAMP:20260422T051347
CREATED:20210112T133006Z
LAST-MODIFIED:20210114T225915Z
UID:10003812-1656930600-1656977400@www.tiltonlibrary.org
SUMMARY:VIRTUAL WEEKLY CLASS: Qigong for Adults
DESCRIPTION:TILTON IS CO-HOSTING THIS FREE WEEKLY CLASS\, SPONSORED BY SUNDERLAND LIBRARY. \nDvora Eisenstein leads this free weekly Qigong class on Zoom. Qigong is an ancient Chinese health care system integrating slow movements\, breathing techniques\, and focused intention. Qigong calms your mind\, improves your balance\, and enhances health. This practice is suitable for all levels of ability and ages. Anyone may join this free class at any time. \nTO JOIN\, CLICK THIS ZOOM LINK:\nhttps://zoom.us/j/117278043
URL:https://www.tiltonlibrary.org/event/virtual-weekly-class-qigong-for-adults-10/2022-07-04/
CATEGORIES:Activity,Workshop
ATTACH;FMTTYPE=image/png:https://www.tiltonlibrary.org/wp-content/uploads/2021/01/Power-of-QI-e1610457620188.png
END:VEVENT
BEGIN:VEVENT
DTSTART;TZID=America/New_York:20220707T183000
DTEND;TZID=America/New_York:20220707T200000
DTSTAMP:20260422T051347
CREATED:20220524T185930Z
LAST-MODIFIED:20220707T143337Z
UID:10004282-1657218600-1657224000@www.tiltonlibrary.org
SUMMARY:CANCELLED - Big Destiny Live Show
DESCRIPTION:UPDATE 7/7: Tilton Library in Deerfield is sad to report that tonight’s Big Destiny teen band concert has been cancelled due to illness. We will reschedule sometime later this summer. We wish the band members quick healing!
URL:https://www.tiltonlibrary.org/event/big-destiny-live-show/
CATEGORIES:Activity,Music,Party,Summer Library Program
ATTACH;FMTTYPE=image/jpeg:https://www.tiltonlibrary.org/wp-content/uploads/2022/05/Big-Destiny-Web-Graphic-e1655226588151.jpg
END:VEVENT
BEGIN:VEVENT
DTSTART;TZID=America/New_York:20220709T110000
DTEND;TZID=America/New_York:20220709T120000
DTSTAMP:20260422T051347
CREATED:20220616T170226Z
LAST-MODIFIED:20220616T170226Z
UID:10004285-1657364400-1657368000@www.tiltonlibrary.org
SUMMARY:Dinosaurs in Deerfield; Reading the Rocks
DESCRIPTION:Presented by Amherst College students. \nScientists examine rocks to learn about life in the distant past. Some rocks tell us a bit about what critters may have looked liked\, while other rocks give us a sense of what the critters used to do. Some of the first people to notice these special rocks once lived and worked in Deerfield many years ago. One of the earliest discoveries was made by a local teenager. \nExplore fossils and gems from the Rock\, Fossil and Dinosaur Shop.
URL:https://www.tiltonlibrary.org/event/dinosaurs-in-deerfield-reading-the-rocks/
LOCATION:Tilton Library\, 75 North Main Street\, South Deerfield\, MA\, 01373\, United States
CATEGORIES:Activity,Kids Room,Presentation,Summer Library Program
ATTACH;FMTTYPE=image/png:https://www.tiltonlibrary.org/wp-content/uploads/2022/06/DINOSAURS.png
END:VEVENT
BEGIN:VEVENT
DTSTART;TZID=America/New_York:20220709T120000
DTEND;TZID=America/New_York:20220709T130000
DTSTAMP:20260422T051347
CREATED:20220629T165039Z
LAST-MODIFIED:20220629T165039Z
UID:10004293-1657368000-1657371600@www.tiltonlibrary.org
SUMMARY:The 3 MusKEtEErs
DESCRIPTION:Part of the Serenade From The Stairs Series \nThe 3 MusKEtEErs are a local trio of sibling violin players (7\,10\,13) who have been playing classical music since they were 4 years old\, They are primarily soloists\, but do play a few pieces together. They started playing the violin when they were living in Europe and have continued their musical journey in the US. Their favorite musicians are Ray Chen and Hilary Hahn\, In their spare time they love all types of team and individual sports but have been focusing primarily on skiing in the winter and rowing in the summer.
URL:https://www.tiltonlibrary.org/event/the-3-musketeers/
LOCATION:Tilton Library\, 75 North Main Street\, South Deerfield\, MA\, 01373\, United States
CATEGORIES:Music
ATTACH;FMTTYPE=image/png:https://www.tiltonlibrary.org/wp-content/uploads/2022/06/image-e1656521394846.png
END:VEVENT
END:VCALENDAR