BEGIN:VCALENDAR
VERSION:2.0
PRODID:-//Tilton Library - ECPv6.15.3//NONSGML v1.0//EN
CALSCALE:GREGORIAN
METHOD:PUBLISH
X-ORIGINAL-URL:https://www.tiltonlibrary.org
X-WR-CALDESC:Events for Tilton Library
REFRESH-INTERVAL;VALUE=DURATION:PT1H
X-Robots-Tag:noindex
X-PUBLISHED-TTL:PT1H
BEGIN:VTIMEZONE
TZID:America/New_York
BEGIN:DAYLIGHT
TZOFFSETFROM:-0500
TZOFFSETTO:-0400
TZNAME:EDT
DTSTART:20220313T070000
END:DAYLIGHT
BEGIN:STANDARD
TZOFFSETFROM:-0400
TZOFFSETTO:-0500
TZNAME:EST
DTSTART:20221106T060000
END:STANDARD
END:VTIMEZONE
BEGIN:VEVENT
DTSTART;TZID=America/New_York:20220711T103000
DTEND;TZID=America/New_York:20220711T233000
DTSTAMP:20260422T014232
CREATED:20210112T133006Z
LAST-MODIFIED:20210114T225915Z
UID:10003813-1657535400-1657582200@www.tiltonlibrary.org
SUMMARY:VIRTUAL WEEKLY CLASS: Qigong for Adults
DESCRIPTION:TILTON IS CO-HOSTING THIS FREE WEEKLY CLASS\, SPONSORED BY SUNDERLAND LIBRARY. \nDvora Eisenstein leads this free weekly Qigong class on Zoom. Qigong is an ancient Chinese health care system integrating slow movements\, breathing techniques\, and focused intention. Qigong calms your mind\, improves your balance\, and enhances health. This practice is suitable for all levels of ability and ages. Anyone may join this free class at any time. \nTO JOIN\, CLICK THIS ZOOM LINK:\nhttps://zoom.us/j/117278043
URL:https://www.tiltonlibrary.org/event/virtual-weekly-class-qigong-for-adults-10/2022-07-11/
CATEGORIES:Activity,Workshop
ATTACH;FMTTYPE=image/png:https://www.tiltonlibrary.org/wp-content/uploads/2021/01/Power-of-QI-e1610457620188.png
END:VEVENT
BEGIN:VEVENT
DTSTART;TZID=America/New_York:20220711T190000
DTEND;TZID=America/New_York:20220711T200000
DTSTAMP:20260422T014232
CREATED:20220606T135109Z
LAST-MODIFIED:20220719T145809Z
UID:10004286-1657566000-1657569600@www.tiltonlibrary.org
SUMMARY:Monday Night Music series
DESCRIPTION:Mark your calendars!\nMonday Night Music returns to Tilton Library at 7 pm \nFrom July 11th through August 15th\nFree for everyone! Outside on our lawn.Bring a chair and a friend. We’ll move inside in case\nof inclement weather.
URL:https://www.tiltonlibrary.org/event/monday-night-music-series/2022-07-11/
CATEGORIES:Music,Summer Library Program
END:VEVENT
BEGIN:VEVENT
DTSTART;TZID=America/New_York:20220712T103000
DTEND;TZID=America/New_York:20220712T113000
DTSTAMP:20260422T014232
CREATED:20220708T130808Z
LAST-MODIFIED:20221212T203844Z
UID:10004294-1657621800-1657625400@www.tiltonlibrary.org
SUMMARY:Story Time with Holly
DESCRIPTION:All ages and abilities welcome! Drop in for a relaxed story hour\, listen to books\, play\, make a seasonal craft\, and chat with other grown ups!\nMasks encouraged
URL:https://www.tiltonlibrary.org/event/story-time-with-holly-2/2022-07-12/
LOCATION:Tilton Library\, 75 North Main Street\, South Deerfield\, MA\, 01373\, United States
CATEGORIES:Activity,Kids Room,Story Time
ATTACH;FMTTYPE=image/jpeg:https://www.tiltonlibrary.org/wp-content/uploads/2022/11/new-story-time-flyer-92022-1920-×-1080-px-e1668630353756.jpg
END:VEVENT
BEGIN:VEVENT
DTSTART;TZID=America/New_York:20220713T160000
DTEND;TZID=America/New_York:20220713T160000
DTSTAMP:20260422T014232
CREATED:20220630T162931Z
LAST-MODIFIED:20220630T162931Z
UID:10004291-1657728000-1657728000@www.tiltonlibrary.org
SUMMARY:Julie Stepanek's Ukulele Workshop & Playalong Campfire Songs!
DESCRIPTION:Want to try an instrument that is fun and easy to play?\nJoin Julie Stepanek as she shows the fundamentals of ukulele playing. You’ll learn how to tune\, strum and read chords. After a short lesson\, you’ll be able to play songs. By the end we will have everyone playing a few campfire songs. No experience necessary. Bring your own ukulele or borrow one of hers.
URL:https://www.tiltonlibrary.org/event/julie-stepaneks-ukulele-workshop-playalong-campfire-songs/
LOCATION:Tilton Library\, 75 North Main Street\, South Deerfield\, MA\, 01373\, United States
CATEGORIES:Music
ATTACH;FMTTYPE=image/jpeg:https://www.tiltonlibrary.org/wp-content/uploads/2022/06/julie-stepanek-scaled-e1656606473277.jpg
END:VEVENT
BEGIN:VEVENT
DTSTART;TZID=America/New_York:20220716T100000
DTEND;TZID=America/New_York:20220716T110000
DTSTAMP:20260422T014232
CREATED:20220616T181712Z
LAST-MODIFIED:20220616T181712Z
UID:10004292-1657965600-1657969200@www.tiltonlibrary.org
SUMMARY:Dr. Rosie Helps the Animals Author & Illustrator Visit
DESCRIPTION:Do animals get earaches? Sore throats? Stomachaches?  Who can help if they can’t talk? Dr. Rosie can!  \nMeet the local author\, Jennifer Welborn and the illustrator\, Rozilla MH \nLearn How Dr. Rosie helps animals and practice helping stuffed animals yourself!  Bring a stuffed animal if you can. \nBook Signings\, Book Reading & Hands-On Activities ! \nContact the library to sign up
URL:https://www.tiltonlibrary.org/event/dr-rosie-helps-the-animals-author-illustrator-visit/
LOCATION:Tilton Library\, 75 North Main Street\, South Deerfield\, MA\, 01373\, United States
CATEGORIES:Activity,Artist Talk,Author Visits & Talks,Book Discussions,Kids Room,Reading Event,Summer Library Program
ATTACH;FMTTYPE=image/png:https://www.tiltonlibrary.org/wp-content/uploads/2022/06/Dr-Rosie-website-e1655403392994.png
END:VEVENT
BEGIN:VEVENT
DTSTART;TZID=America/New_York:20220716T110000
DTEND;TZID=America/New_York:20220716T120000
DTSTAMP:20260422T014232
CREATED:20220710T150808Z
LAST-MODIFIED:20220710T150808Z
UID:10004342-1657969200-1657972800@www.tiltonlibrary.org
SUMMARY:Aden Gray\, Guitarist
DESCRIPTION:
URL:https://www.tiltonlibrary.org/event/aden-gray-guitarist/
CATEGORIES:Music
END:VEVENT
END:VCALENDAR