BEGIN:VCALENDAR
VERSION:2.0
PRODID:-//Tilton Library - ECPv6.15.3//NONSGML v1.0//EN
CALSCALE:GREGORIAN
METHOD:PUBLISH
X-ORIGINAL-URL:https://www.tiltonlibrary.org
X-WR-CALDESC:Events for Tilton Library
REFRESH-INTERVAL;VALUE=DURATION:PT1H
X-Robots-Tag:noindex
X-PUBLISHED-TTL:PT1H
BEGIN:VTIMEZONE
TZID:America/New_York
BEGIN:DAYLIGHT
TZOFFSETFROM:-0500
TZOFFSETTO:-0400
TZNAME:EDT
DTSTART:20220313T070000
END:DAYLIGHT
BEGIN:STANDARD
TZOFFSETFROM:-0400
TZOFFSETTO:-0500
TZNAME:EST
DTSTART:20221106T060000
END:STANDARD
END:VTIMEZONE
BEGIN:VEVENT
DTSTART;TZID=America/New_York:20220822T103000
DTEND;TZID=America/New_York:20220822T233000
DTSTAMP:20260421T154028
CREATED:20210112T133006Z
LAST-MODIFIED:20210114T225915Z
UID:10003819-1661164200-1661211000@www.tiltonlibrary.org
SUMMARY:VIRTUAL WEEKLY CLASS: Qigong for Adults
DESCRIPTION:TILTON IS CO-HOSTING THIS FREE WEEKLY CLASS\, SPONSORED BY SUNDERLAND LIBRARY. \nDvora Eisenstein leads this free weekly Qigong class on Zoom. Qigong is an ancient Chinese health care system integrating slow movements\, breathing techniques\, and focused intention. Qigong calms your mind\, improves your balance\, and enhances health. This practice is suitable for all levels of ability and ages. Anyone may join this free class at any time. \nTO JOIN\, CLICK THIS ZOOM LINK:\nhttps://zoom.us/j/117278043
URL:https://www.tiltonlibrary.org/event/virtual-weekly-class-qigong-for-adults-10/2022-08-22/
CATEGORIES:Activity,Workshop
ATTACH;FMTTYPE=image/png:https://www.tiltonlibrary.org/wp-content/uploads/2021/01/Power-of-QI-e1610457620188.png
END:VEVENT
BEGIN:VEVENT
DTSTART;TZID=America/New_York:20220823T103000
DTEND;TZID=America/New_York:20220823T113000
DTSTAMP:20260421T154028
CREATED:20220708T130808Z
LAST-MODIFIED:20221212T203844Z
UID:10004299-1661250600-1661254200@www.tiltonlibrary.org
SUMMARY:Story Time with Holly
DESCRIPTION:All ages and abilities welcome! Drop in for a relaxed story hour\, listen to books\, play\, make a seasonal craft\, and chat with other grown ups!\nMasks encouraged
URL:https://www.tiltonlibrary.org/event/story-time-with-holly-2/2022-08-23/
LOCATION:Tilton Library\, 75 North Main Street\, South Deerfield\, MA\, 01373\, United States
CATEGORIES:Activity,Kids Room,Story Time
ATTACH;FMTTYPE=image/jpeg:https://www.tiltonlibrary.org/wp-content/uploads/2022/11/new-story-time-flyer-92022-1920-×-1080-px-e1668630353756.jpg
END:VEVENT
END:VCALENDAR