BEGIN:VCALENDAR
VERSION:2.0
PRODID:-//Tilton Library - ECPv6.15.3//NONSGML v1.0//EN
CALSCALE:GREGORIAN
METHOD:PUBLISH
X-WR-CALNAME:Tilton Library
X-ORIGINAL-URL:https://www.tiltonlibrary.org
X-WR-CALDESC:Events for Tilton Library
REFRESH-INTERVAL;VALUE=DURATION:PT1H
X-Robots-Tag:noindex
X-PUBLISHED-TTL:PT1H
BEGIN:VTIMEZONE
TZID:America/New_York
BEGIN:DAYLIGHT
TZOFFSETFROM:-0500
TZOFFSETTO:-0400
TZNAME:EDT
DTSTART:20220313T070000
END:DAYLIGHT
BEGIN:STANDARD
TZOFFSETFROM:-0400
TZOFFSETTO:-0500
TZNAME:EST
DTSTART:20221106T060000
END:STANDARD
END:VTIMEZONE
BEGIN:VEVENT
DTSTART;TZID=America/New_York:20220905T103000
DTEND;TZID=America/New_York:20220905T233000
DTSTAMP:20260421T125042
CREATED:20210112T133006Z
LAST-MODIFIED:20210114T225915Z
UID:10003821-1662373800-1662420600@www.tiltonlibrary.org
SUMMARY:VIRTUAL WEEKLY CLASS: Qigong for Adults
DESCRIPTION:TILTON IS CO-HOSTING THIS FREE WEEKLY CLASS\, SPONSORED BY SUNDERLAND LIBRARY. \nDvora Eisenstein leads this free weekly Qigong class on Zoom. Qigong is an ancient Chinese health care system integrating slow movements\, breathing techniques\, and focused intention. Qigong calms your mind\, improves your balance\, and enhances health. This practice is suitable for all levels of ability and ages. Anyone may join this free class at any time. \nTO JOIN\, CLICK THIS ZOOM LINK:\nhttps://zoom.us/j/117278043
URL:https://www.tiltonlibrary.org/event/virtual-weekly-class-qigong-for-adults-10/2022-09-05/
CATEGORIES:Activity,Workshop
ATTACH;FMTTYPE=image/png:https://www.tiltonlibrary.org/wp-content/uploads/2021/01/Power-of-QI-e1610457620188.png
END:VEVENT
BEGIN:VEVENT
DTSTART;TZID=America/New_York:20220906T103000
DTEND;TZID=America/New_York:20220906T113000
DTSTAMP:20260421T125042
CREATED:20220708T130808Z
LAST-MODIFIED:20220823T172414Z
UID:10004341-1662460200-1662463800@www.tiltonlibrary.org
SUMMARY:Story Time & Read to a Dog
DESCRIPTION:Therapy dog\, J-lo & her handler\, Corlene will be joining our regular story time this week!\nNo need to register\, Just drop in\, listen to stories and read to J-lo! Masks required
URL:https://www.tiltonlibrary.org/event/story-time-with-holly-2-2022-09-06/
LOCATION:Tilton Library\, 75 North Main Street\, South Deerfield\, MA\, 01373\, United States
CATEGORIES:Activity,Kids Room,Story Time
ATTACH;FMTTYPE=image/jpeg:https://www.tiltonlibrary.org/wp-content/uploads/2022/07/J-lo-thereapy-dog-facebook-event-cover-e1661270066300.jpg
END:VEVENT
BEGIN:VEVENT
DTSTART;TZID=America/New_York:20220908T190000
DTEND;TZID=America/New_York:20220908T200000
DTSTAMP:20260421T125042
CREATED:20220819T194818Z
LAST-MODIFIED:20220819T194818Z
UID:10003268-1662663600-1662667200@www.tiltonlibrary.org
SUMMARY:Flower Pounding Workshop
DESCRIPTION:SIGN UP:  LIMITED TO 12 PEOPLE\n413-665-4683\n  \nJoin us for this hands-on workshop and learn an ancient method of preserving flowers & leaves that takes little time and minimal tools. Create a design on fabric and personalized stationery with flowers & foliage. Be prepared to pound! \n\nBring a hammer with a flat head\, a terry cloth work towel\, and a few blooms from your garden.\nThe instructor will provide treated fabric\, stationary\, masking tape\, wax paper\, as well as a variety of flowers and foliage.\n\n  \nSIGN UP:  LIMITED TO 12 PEOPLE\n413-665-4683\n  \nFunded by the Friends of the Tilton Library
URL:https://www.tiltonlibrary.org/event/flower-pounding-workshop/
CATEGORIES:Activity,Workshop
ATTACH;FMTTYPE=image/jpeg:https://www.tiltonlibrary.org/wp-content/uploads/2022/08/Flower-Pounding-Web-Graphic-e1660938485157.jpg
END:VEVENT
BEGIN:VEVENT
DTSTART;TZID=America/New_York:20220910T110000
DTEND;TZID=America/New_York:20220910T120000
DTSTAMP:20260421T125042
CREATED:20220824T172018Z
LAST-MODIFIED:20220824T172018Z
UID:10003272-1662807600-1662811200@www.tiltonlibrary.org
SUMMARY:Bubba's Reptile Experience
DESCRIPTION:Join us in the Tilton Library backyard for an interactive reptile experience! Learn about\, touch and even hold different reptiles! \nIn the case of cold or rainy weather the event will be moved inside with masks required.
URL:https://www.tiltonlibrary.org/event/bubbas-reptile-experience/
LOCATION:Tilton Library\, 75 North Main Street\, South Deerfield\, MA\, 01373\, United States
CATEGORIES:Activity
ATTACH;FMTTYPE=image/jpeg:https://www.tiltonlibrary.org/wp-content/uploads/2022/08/Bubbas-Reptiles-fb-cover-e1661361569234.jpg
END:VEVENT
END:VCALENDAR