BEGIN:VCALENDAR
VERSION:2.0
PRODID:-//Tilton Library - ECPv6.15.3//NONSGML v1.0//EN
CALSCALE:GREGORIAN
METHOD:PUBLISH
X-ORIGINAL-URL:https://www.tiltonlibrary.org
X-WR-CALDESC:Events for Tilton Library
REFRESH-INTERVAL;VALUE=DURATION:PT1H
X-Robots-Tag:noindex
X-PUBLISHED-TTL:PT1H
BEGIN:VTIMEZONE
TZID:America/New_York
BEGIN:DAYLIGHT
TZOFFSETFROM:-0500
TZOFFSETTO:-0400
TZNAME:EDT
DTSTART:20220313T070000
END:DAYLIGHT
BEGIN:STANDARD
TZOFFSETFROM:-0400
TZOFFSETTO:-0500
TZNAME:EST
DTSTART:20221106T060000
END:STANDARD
END:VTIMEZONE
BEGIN:VEVENT
DTSTART;TZID=America/New_York:20220926T103000
DTEND;TZID=America/New_York:20220926T233000
DTSTAMP:20260421T125225
CREATED:20210112T133006Z
LAST-MODIFIED:20210114T225915Z
UID:10003824-1664188200-1664235000@www.tiltonlibrary.org
SUMMARY:VIRTUAL WEEKLY CLASS: Qigong for Adults
DESCRIPTION:TILTON IS CO-HOSTING THIS FREE WEEKLY CLASS\, SPONSORED BY SUNDERLAND LIBRARY. \nDvora Eisenstein leads this free weekly Qigong class on Zoom. Qigong is an ancient Chinese health care system integrating slow movements\, breathing techniques\, and focused intention. Qigong calms your mind\, improves your balance\, and enhances health. This practice is suitable for all levels of ability and ages. Anyone may join this free class at any time. \nTO JOIN\, CLICK THIS ZOOM LINK:\nhttps://zoom.us/j/117278043
URL:https://www.tiltonlibrary.org/event/virtual-weekly-class-qigong-for-adults-10/2022-09-26/
CATEGORIES:Activity,Workshop
ATTACH;FMTTYPE=image/png:https://www.tiltonlibrary.org/wp-content/uploads/2021/01/Power-of-QI-e1610457620188.png
END:VEVENT
BEGIN:VEVENT
DTSTART;TZID=America/New_York:20220927T103000
DTEND;TZID=America/New_York:20220927T113000
DTSTAMP:20260421T125225
CREATED:20220708T130808Z
LAST-MODIFIED:20221212T203844Z
UID:10004303-1664274600-1664278200@www.tiltonlibrary.org
SUMMARY:Story Time with Holly
DESCRIPTION:All ages and abilities welcome! Drop in for a relaxed story hour\, listen to books\, play\, make a seasonal craft\, and chat with other grown ups!\nMasks encouraged
URL:https://www.tiltonlibrary.org/event/story-time-with-holly-2/2022-09-27/
LOCATION:Tilton Library\, 75 North Main Street\, South Deerfield\, MA\, 01373\, United States
CATEGORIES:Activity,Kids Room,Story Time
ATTACH;FMTTYPE=image/jpeg:https://www.tiltonlibrary.org/wp-content/uploads/2022/11/new-story-time-flyer-92022-1920-×-1080-px-e1668630353756.jpg
END:VEVENT
BEGIN:VEVENT
DTSTART;TZID=America/New_York:20220927T170000
DTEND;TZID=America/New_York:20220927T180000
DTSTAMP:20260421T125225
CREATED:20220908T174330Z
LAST-MODIFIED:20220921T151443Z
UID:10004345-1664298000-1664301600@www.tiltonlibrary.org
SUMMARY:TREE I.D. WALK Mt. Sugarloaf
DESCRIPTION:Part of a FREE series hosted by Tilton and Sunderland Libraries at Mt. Sugarloaf this fall:\nTREE I.D. WALK: Tues 9/27\, 5-6pm (rain date 9/29) Sugarloaf Parking Lot\n\n\n\nLaura Beltran\, Teacher/Naturalist with Mass Audubon Arcadia Wildlife Sanctuary\, will lead a casual walk at the base of Mt. Sugarloaf\, exploring trees and changing autumn foliage. Discover tree leaves\, buds\, and bark as clues to identification. Learn about our forest communities\, how they are changing\, and what we can do to improve forest health. \n\n\n\nLIMITED TO 15 PARTICIPANTS. PLEASE SIGN UP BELOW:\n \n \n\n\n \n \n\n\n \n  \n\n\n \n  \n \n 
URL:https://www.tiltonlibrary.org/event/tree-i-d-walk-mt-sugarloaf/
CATEGORIES:Activity,Workshop
ATTACH;FMTTYPE=image/jpeg:https://www.tiltonlibrary.org/wp-content/uploads/2022/09/You-Are-Here-Web-Graphic-1-1.jpg
END:VEVENT
BEGIN:VEVENT
DTSTART;TZID=America/New_York:20220929T173000
DTEND;TZID=America/New_York:20220929T190000
DTSTAMP:20260421T125225
CREATED:20220919T193443Z
LAST-MODIFIED:20220919T193923Z
UID:10004354-1664472600-1664478000@www.tiltonlibrary.org
SUMMARY:Virtual Q&A for Tilton Building Expansion
DESCRIPTION:PLEASE EMAIL TILTONLIBRARY@CWMARS.ORG\nFOR ZOOM LINK.\n  \n \nPLEASE EMAIL TILTONLIBRARY@CWMARS.ORG\nFOR ZOOM LINK.
URL:https://www.tiltonlibrary.org/event/virtual-qa-for-tilton-building-expansion/
CATEGORIES:Meeting
END:VEVENT
BEGIN:VEVENT
DTSTART;TZID=America/New_York:20220930T183000
DTEND;TZID=America/New_York:20220930T203000
DTSTAMP:20260421T125225
CREATED:20220823T181816Z
LAST-MODIFIED:20220823T181816Z
UID:10003271-1664562600-1664569800@www.tiltonlibrary.org
SUMMARY:Young Adult Outdoor Movie Night
DESCRIPTION:Teen Movie Pick: the Hunt for the Wilderpeople. \nCome enjoy this quirky\, heartfelt comedy\, from director Taika Waititi\, out on the Tilton Library lawn. Watch as an unlikely duo\, one troubled kid and his reluctant foster dad\, after they find themselves on the run and depending on each other for survival. Refreshments included. Movie starts at 7 p.m.\, but attendees are welcome to start setting up at 6:30 p.m. Bring your own camping chairs and blankets. 
URL:https://www.tiltonlibrary.org/event/young-adult-outdoor-movie-night/
LOCATION:Tilton Library\, 75 North Main Street\, South Deerfield\, MA\, 01373\, United States
CATEGORIES:Activity,Party
END:VEVENT
BEGIN:VEVENT
DTSTART;VALUE=DATE:20221001
DTEND;VALUE=DATE:20221101
DTSTAMP:20260421T125225
CREATED:20211006T170240Z
LAST-MODIFIED:20221002T005544Z
UID:10004168-1664582400-1667260799@www.tiltonlibrary.org
SUMMARY:Autumn Wish List Tree Fundraiser
DESCRIPTION:A FRIENDS OF THE TILTON LIBRARY BENEFIT:\n\nAutumn Wish List Tree\n\nParticipate in this self-serve donation activity to help the library fund the things you want!\n\n• Pick a “wish list leaf”\n• Put your donation inside\n• Leave it inside the library’s secure drop box…OR hand it to a Tilton Library staff person.\n\nMake checks out to Friends of Tilton Library.\n\nOutside the library for the month of October.
URL:https://www.tiltonlibrary.org/event/autumn-wish-list-tree-fundraiser-2/
CATEGORIES:Activity,Library Fundraising Event
ATTACH;FMTTYPE=image/jpeg:https://www.tiltonlibrary.org/wp-content/uploads/2021/10/Wish-List-Tree-Flyer-1-e1664672037852.jpg
END:VEVENT
BEGIN:VEVENT
DTSTART;TZID=America/New_York:20221002T090000
DTEND;TZID=America/New_York:20221002T120000
DTSTAMP:20260421T125225
CREATED:20220916T143650Z
LAST-MODIFIED:20221002T012257Z
UID:10004353-1664701200-1664712000@www.tiltonlibrary.org
SUMMARY:Fall Festival & Book Sale
DESCRIPTION:PUPPET SHOW AT 10AM AND LIVE MUSIC AT 11AM!\n  \n \n  \n 
URL:https://www.tiltonlibrary.org/event/fall-festival-book-sale/
CATEGORIES:Book Sales,Music,Party
END:VEVENT
END:VCALENDAR