BEGIN:VCALENDAR
VERSION:2.0
PRODID:-//Tilton Library - ECPv6.15.3//NONSGML v1.0//EN
CALSCALE:GREGORIAN
METHOD:PUBLISH
X-ORIGINAL-URL:https://www.tiltonlibrary.org
X-WR-CALDESC:Events for Tilton Library
REFRESH-INTERVAL;VALUE=DURATION:PT1H
X-Robots-Tag:noindex
X-PUBLISHED-TTL:PT1H
BEGIN:VTIMEZONE
TZID:America/New_York
BEGIN:DAYLIGHT
TZOFFSETFROM:-0500
TZOFFSETTO:-0400
TZNAME:EDT
DTSTART:20230312T070000
END:DAYLIGHT
BEGIN:STANDARD
TZOFFSETFROM:-0400
TZOFFSETTO:-0500
TZNAME:EST
DTSTART:20231105T060000
END:STANDARD
END:VTIMEZONE
BEGIN:VEVENT
DTSTART;TZID=America/New_York:20230306T103000
DTEND;TZID=America/New_York:20230306T233000
DTSTAMP:20260422T163345
CREATED:20210112T133006Z
LAST-MODIFIED:20210114T225915Z
UID:10003847-1678098600-1678145400@www.tiltonlibrary.org
SUMMARY:VIRTUAL WEEKLY CLASS: Qigong for Adults
DESCRIPTION:TILTON IS CO-HOSTING THIS FREE WEEKLY CLASS\, SPONSORED BY SUNDERLAND LIBRARY. \nDvora Eisenstein leads this free weekly Qigong class on Zoom. Qigong is an ancient Chinese health care system integrating slow movements\, breathing techniques\, and focused intention. Qigong calms your mind\, improves your balance\, and enhances health. This practice is suitable for all levels of ability and ages. Anyone may join this free class at any time. \nTO JOIN\, CLICK THIS ZOOM LINK:\nhttps://zoom.us/j/117278043
URL:https://www.tiltonlibrary.org/event/virtual-weekly-class-qigong-for-adults-10/2023-03-06/
CATEGORIES:Activity,Workshop
ATTACH;FMTTYPE=image/png:https://www.tiltonlibrary.org/wp-content/uploads/2021/01/Power-of-QI-e1610457620188.png
END:VEVENT
BEGIN:VEVENT
DTSTART;TZID=America/New_York:20230307T100000
DTEND;TZID=America/New_York:20230307T114500
DTSTAMP:20260422T163345
CREATED:20221024T152743Z
LAST-MODIFIED:20221024T152743Z
UID:10004382-1678183200-1678189500@www.tiltonlibrary.org
SUMMARY:Knit & Crafts Circle
DESCRIPTION:Hosted by Sheep & Shawl (Liz Sorenson) at Tilton Library \nBring crafts of your choosing – knitting\, crochet\, spinning\, rug-hooking\, mending\, any portable craft. Free. The indoor crafts circle requires registration as seats are limited. (But up to 12 are allowed as we will meet upstairs this year!) Masks are strongly recommended. Email  liz@sheepandshawl.com to learn more & get on the registration list or waiting list (updates weekly if seats become available when someone knows they will be away).
URL:https://www.tiltonlibrary.org/event/knit-crafts-circle/2023-03-07/
LOCATION:Tilton Library\, 75 North Main Street\, South Deerfield\, MA\, 01373\, United States
CATEGORIES:Activity,Workshop
ATTACH;FMTTYPE=image/jpeg:https://www.tiltonlibrary.org/wp-content/uploads/2021/05/knit-and-craft-e1621435804513.jpg
END:VEVENT
BEGIN:VEVENT
DTSTART;TZID=America/New_York:20230307T103000
DTEND;TZID=America/New_York:20230307T113000
DTSTAMP:20260422T163345
CREATED:20220708T130808Z
LAST-MODIFIED:20221212T203844Z
UID:10004326-1678185000-1678188600@www.tiltonlibrary.org
SUMMARY:Story Time with Holly
DESCRIPTION:All ages and abilities welcome! Drop in for a relaxed story hour\, listen to books\, play\, make a seasonal craft\, and chat with other grown ups!\nMasks encouraged
URL:https://www.tiltonlibrary.org/event/story-time-with-holly-2/2023-03-07/
LOCATION:Tilton Library\, 75 North Main Street\, South Deerfield\, MA\, 01373\, United States
CATEGORIES:Activity,Kids Room,Story Time
ATTACH;FMTTYPE=image/jpeg:https://www.tiltonlibrary.org/wp-content/uploads/2022/11/new-story-time-flyer-92022-1920-×-1080-px-e1668630353756.jpg
END:VEVENT
BEGIN:VEVENT
DTSTART;TZID=America/New_York:20230307T103000
DTEND;TZID=America/New_York:20230307T113000
DTSTAMP:20260422T163345
CREATED:20231027T233837Z
LAST-MODIFIED:20231027T233837Z
UID:10004416-1678185000-1678188600@www.tiltonlibrary.org
SUMMARY:Visit With J-Lo
DESCRIPTION:J-lo is a trained therapy dog and she will be visiting the children’s room twice a month. \nThe First Tuesday of the Month\, 10:30-11:30am at Story Time \nThe Third or Fourth Tuesday of the Month\, 3-4pm After School \nStop by to read her a story or just give her some love!
URL:https://www.tiltonlibrary.org/event/visit-with-j-lo/2023-03-07/
CATEGORIES:Kids Room
ATTACH;FMTTYPE=image/jpeg:https://www.tiltonlibrary.org/wp-content/uploads/2022/12/FBWebsite-Visit-WIth-J-Lo-1920-×-1080-px-e1672158996864.jpg
END:VEVENT
BEGIN:VEVENT
DTSTART;TZID=America/New_York:20230308T100000
DTEND;TZID=America/New_York:20230308T110000
DTSTAMP:20260422T163345
CREATED:20230202T180817Z
LAST-MODIFIED:20230607T172520Z
UID:10003298-1678269600-1678273200@www.tiltonlibrary.org
SUMMARY:Tot-Time Talk & Play
DESCRIPTION:Join us for this special series of caregiver talk and baby/toddler play time! \nContact Amy Battisti with questions amy.battisti@frsu38.org
URL:https://www.tiltonlibrary.org/event/tot-time-talk-play-2/2023-03-08/
LOCATION:Tilton Library\, 75 North Main Street\, South Deerfield\, MA\, 01373\, United States
CATEGORIES:Kids Room
ATTACH;FMTTYPE=image/jpeg:https://www.tiltonlibrary.org/wp-content/uploads/2022/11/tot-and-talk-1920-×-1080-px-e1667843247348.jpg
END:VEVENT
BEGIN:VEVENT
DTSTART;TZID=America/New_York:20230308T173000
DTEND;TZID=America/New_York:20230308T183000
DTSTAMP:20260422T163346
CREATED:20230130T183501Z
LAST-MODIFIED:20230306T181108Z
UID:10004423-1678296600-1678300200@www.tiltonlibrary.org
SUMMARY:CANCELLED - Community Nature Observation with iNaturalist
DESCRIPTION:THIS EVENT HAS BEEN CANCELLED. \nWE WILL SCHEDULE ANOTHER DATE\, TBA.\n  \nWith over 125 million observations\, iNaturalist – a joint initiative of the California Academy of Sciences and the National Geographic Society – is one of the world’s largest online platforms and communities for sharing and discussing nature observations. Learn the iNaturalist basics like how to make and identify observations\, see what others are seeing\, and how observations have been used by researchers. See why the New York Times calls this “The Nicest Place Online…As civil discourse online and off increasingly proves elusive\, a website devoted to identifying plants and animals may be teaching humans how to get along.”
URL:https://www.tiltonlibrary.org/event/inaturalist/
CATEGORIES:Presentation,Workshop
ATTACH;FMTTYPE=image/jpeg:https://www.tiltonlibrary.org/wp-content/uploads/2023/01/iNaturalist-talk-Web-Graphic-1-2-e1675386966941.jpg
END:VEVENT
END:VCALENDAR