BEGIN:VCALENDAR
VERSION:2.0
PRODID:-//Tilton Library - ECPv6.15.3//NONSGML v1.0//EN
CALSCALE:GREGORIAN
METHOD:PUBLISH
X-WR-CALNAME:Tilton Library
X-ORIGINAL-URL:https://www.tiltonlibrary.org
X-WR-CALDESC:Events for Tilton Library
REFRESH-INTERVAL;VALUE=DURATION:PT1H
X-Robots-Tag:noindex
X-PUBLISHED-TTL:PT1H
BEGIN:VTIMEZONE
TZID:America/New_York
BEGIN:DAYLIGHT
TZOFFSETFROM:-0500
TZOFFSETTO:-0400
TZNAME:EDT
DTSTART:20230312T070000
END:DAYLIGHT
BEGIN:STANDARD
TZOFFSETFROM:-0400
TZOFFSETTO:-0500
TZNAME:EST
DTSTART:20231105T060000
END:STANDARD
END:VTIMEZONE
BEGIN:VEVENT
DTSTART;TZID=America/New_York:20230515T103000
DTEND;TZID=America/New_York:20230515T233000
DTSTAMP:20260425T170035
CREATED:20210112T133006Z
LAST-MODIFIED:20210114T225915Z
UID:10003857-1684146600-1684193400@www.tiltonlibrary.org
SUMMARY:VIRTUAL WEEKLY CLASS: Qigong for Adults
DESCRIPTION:TILTON IS CO-HOSTING THIS FREE WEEKLY CLASS\, SPONSORED BY SUNDERLAND LIBRARY. \nDvora Eisenstein leads this free weekly Qigong class on Zoom. Qigong is an ancient Chinese health care system integrating slow movements\, breathing techniques\, and focused intention. Qigong calms your mind\, improves your balance\, and enhances health. This practice is suitable for all levels of ability and ages. Anyone may join this free class at any time. \nTO JOIN\, CLICK THIS ZOOM LINK:\nhttps://zoom.us/j/117278043
URL:https://www.tiltonlibrary.org/event/virtual-weekly-class-qigong-for-adults-10/2023-05-15/
CATEGORIES:Activity,Workshop
ATTACH;FMTTYPE=image/png:https://www.tiltonlibrary.org/wp-content/uploads/2021/01/Power-of-QI-e1610457620188.png
END:VEVENT
BEGIN:VEVENT
DTSTART;TZID=America/New_York:20230515T173000
DTEND;TZID=America/New_York:20230515T183000
DTSTAMP:20260425T170035
CREATED:20230416T142317Z
LAST-MODIFIED:20230416T142317Z
UID:10004430-1684171800-1684175400@www.tiltonlibrary.org
SUMMARY:MINDFUL MONDAYS: Sign-up Required
DESCRIPTION:Registration is required. Stop by the library\, call 413-665-4683\, or send an email to tiltonlibrary@cwmars.org to reserve your spot.\nLearn to slow down\, relax\, and experience mindfulness in this free four-week workshop. We’ll explore the principles of mindfulness and teach meditation strategies including breath work\, mindful movement\, and mindful writing.Led by community members and mindfulness practitioners Jennie Donohue\, Erika Higgins Ross\, and Sara Coblyn. \n\nLimited to eight people\, 18 years and older.\nPlease wear comfortable clothing and feel free to bring a yoga mat\, blanket\, and pillow or cushion to sit on.. \n 
URL:https://www.tiltonlibrary.org/event/mindful-mondays-sign-up-required/2023-05-15/
CATEGORIES:Activity,Workshop
ATTACH;FMTTYPE=image/jpeg:https://www.tiltonlibrary.org/wp-content/uploads/2023/04/mindful-mondays-may-flyer-Facebook-Cover-e1681654984642.jpg
END:VEVENT
BEGIN:VEVENT
DTSTART;TZID=America/New_York:20230516T103000
DTEND;TZID=America/New_York:20230516T113000
DTSTAMP:20260425T170035
CREATED:20220708T130808Z
LAST-MODIFIED:20221212T203844Z
UID:10004336-1684233000-1684236600@www.tiltonlibrary.org
SUMMARY:Story Time with Holly
DESCRIPTION:All ages and abilities welcome! Drop in for a relaxed story hour\, listen to books\, play\, make a seasonal craft\, and chat with other grown ups!\nMasks encouraged
URL:https://www.tiltonlibrary.org/event/story-time-with-holly-2/2023-05-16/
LOCATION:Tilton Library\, 75 North Main Street\, South Deerfield\, MA\, 01373\, United States
CATEGORIES:Activity,Kids Room,Story Time
ATTACH;FMTTYPE=image/jpeg:https://www.tiltonlibrary.org/wp-content/uploads/2022/11/new-story-time-flyer-92022-1920-×-1080-px-e1668630353756.jpg
END:VEVENT
BEGIN:VEVENT
DTSTART;TZID=America/New_York:20230516T150000
DTEND;TZID=America/New_York:20230516T160000
DTSTAMP:20260425T170035
CREATED:20221227T163806Z
LAST-MODIFIED:20230207T192119Z
UID:10004414-1684249200-1684252800@www.tiltonlibrary.org
SUMMARY:Visit With J-Lo
DESCRIPTION:J-lo is a trained therapy dog and she will be visiting the children’s room twice a month. \nThe First Tuesday of the Month\, 10:30-11:30am at Story Time \nThe Third or Fourth Tuesday of the Month\, 3-4pm After School \nStop by to read her a story or just give her some love!
URL:https://www.tiltonlibrary.org/event/visit-with-j-lo/2023-05-16/
CATEGORIES:Kids Room
ATTACH;FMTTYPE=image/jpeg:https://www.tiltonlibrary.org/wp-content/uploads/2022/12/FBWebsite-Visit-WIth-J-Lo-1920-×-1080-px-e1672158996864.jpg
END:VEVENT
BEGIN:VEVENT
DTSTART;TZID=America/New_York:20230516T180000
DTEND;TZID=America/New_York:20230516T193000
DTSTAMP:20260425T170035
CREATED:20230423T192913Z
LAST-MODIFIED:20230426T015155Z
UID:10004433-1684260000-1684265400@www.tiltonlibrary.org
SUMMARY:Updated Design: Forum at Town Hall
DESCRIPTION:Save the date! Join the Tilton Library Building Committee\, Board of Library Trustees\, Library Director\, Architect and Project Manager for the public forum where the Deerfield community can see the unveiling of the revised Building Expansion design\, ask questions\, and give feedback. This forum will take place at Town Hall in South Deerfield on May 16 at 6pm- we look forward to seeing you there!
URL:https://www.tiltonlibrary.org/event/updated-design-forum-at-town-hall/
CATEGORIES:Announcement,Meeting,Planning & Design Grant,Presentation
ATTACH;FMTTYPE=image/jpeg:https://www.tiltonlibrary.org/wp-content/uploads/2023/04/save-the-date-public-forum-flyer-Facebook-Cover-6-e1682473895528.jpg
END:VEVENT
BEGIN:VEVENT
DTSTART;TZID=America/New_York:20230517T100000
DTEND;TZID=America/New_York:20230517T110000
DTSTAMP:20260425T170035
CREATED:20230202T180817Z
LAST-MODIFIED:20230607T172520Z
UID:10003308-1684317600-1684321200@www.tiltonlibrary.org
SUMMARY:Tot-Time Talk & Play
DESCRIPTION:Join us for this special series of caregiver talk and baby/toddler play time! \nContact Amy Battisti with questions amy.battisti@frsu38.org
URL:https://www.tiltonlibrary.org/event/tot-time-talk-play-2/2023-05-17/
LOCATION:Tilton Library\, 75 North Main Street\, South Deerfield\, MA\, 01373\, United States
CATEGORIES:Kids Room
ATTACH;FMTTYPE=image/jpeg:https://www.tiltonlibrary.org/wp-content/uploads/2022/11/tot-and-talk-1920-×-1080-px-e1667843247348.jpg
END:VEVENT
END:VCALENDAR