BEGIN:VCALENDAR
VERSION:2.0
PRODID:-//Tilton Library - ECPv6.15.3//NONSGML v1.0//EN
CALSCALE:GREGORIAN
METHOD:PUBLISH
X-WR-CALNAME:Tilton Library
X-ORIGINAL-URL:https://www.tiltonlibrary.org
X-WR-CALDESC:Events for Tilton Library
REFRESH-INTERVAL;VALUE=DURATION:PT1H
X-Robots-Tag:noindex
X-PUBLISHED-TTL:PT1H
BEGIN:VTIMEZONE
TZID:America/New_York
BEGIN:DAYLIGHT
TZOFFSETFROM:-0500
TZOFFSETTO:-0400
TZNAME:EDT
DTSTART:20230312T070000
END:DAYLIGHT
BEGIN:STANDARD
TZOFFSETFROM:-0400
TZOFFSETTO:-0500
TZNAME:EST
DTSTART:20231105T060000
END:STANDARD
END:VTIMEZONE
BEGIN:VEVENT
DTSTART;TZID=America/New_York:20230522T103000
DTEND;TZID=America/New_York:20230522T233000
DTSTAMP:20260425T134611
CREATED:20210112T133006Z
LAST-MODIFIED:20210114T225915Z
UID:10003858-1684751400-1684798200@www.tiltonlibrary.org
SUMMARY:VIRTUAL WEEKLY CLASS: Qigong for Adults
DESCRIPTION:TILTON IS CO-HOSTING THIS FREE WEEKLY CLASS\, SPONSORED BY SUNDERLAND LIBRARY. \nDvora Eisenstein leads this free weekly Qigong class on Zoom. Qigong is an ancient Chinese health care system integrating slow movements\, breathing techniques\, and focused intention. Qigong calms your mind\, improves your balance\, and enhances health. This practice is suitable for all levels of ability and ages. Anyone may join this free class at any time. \nTO JOIN\, CLICK THIS ZOOM LINK:\nhttps://zoom.us/j/117278043
URL:https://www.tiltonlibrary.org/event/virtual-weekly-class-qigong-for-adults-10/2023-05-22/
CATEGORIES:Activity,Workshop
ATTACH;FMTTYPE=image/png:https://www.tiltonlibrary.org/wp-content/uploads/2021/01/Power-of-QI-e1610457620188.png
END:VEVENT
BEGIN:VEVENT
DTSTART;TZID=America/New_York:20230522T173000
DTEND;TZID=America/New_York:20230522T183000
DTSTAMP:20260425T134612
CREATED:20230416T142317Z
LAST-MODIFIED:20230416T142317Z
UID:10004431-1684776600-1684780200@www.tiltonlibrary.org
SUMMARY:MINDFUL MONDAYS: Sign-up Required
DESCRIPTION:Registration is required. Stop by the library\, call 413-665-4683\, or send an email to tiltonlibrary@cwmars.org to reserve your spot.\nLearn to slow down\, relax\, and experience mindfulness in this free four-week workshop. We’ll explore the principles of mindfulness and teach meditation strategies including breath work\, mindful movement\, and mindful writing.Led by community members and mindfulness practitioners Jennie Donohue\, Erika Higgins Ross\, and Sara Coblyn. \n\nLimited to eight people\, 18 years and older.\nPlease wear comfortable clothing and feel free to bring a yoga mat\, blanket\, and pillow or cushion to sit on.. \n 
URL:https://www.tiltonlibrary.org/event/mindful-mondays-sign-up-required/2023-05-22/
CATEGORIES:Activity,Workshop
ATTACH;FMTTYPE=image/jpeg:https://www.tiltonlibrary.org/wp-content/uploads/2023/04/mindful-mondays-may-flyer-Facebook-Cover-e1681654984642.jpg
END:VEVENT
BEGIN:VEVENT
DTSTART;TZID=America/New_York:20230522T190000
DTEND;TZID=America/New_York:20230522T203000
DTSTAMP:20260425T134612
CREATED:20230508T153249Z
LAST-MODIFIED:20230508T160018Z
UID:10004434-1684782000-1684787400@www.tiltonlibrary.org
SUMMARY:David Sibley at Tree House: A Library Benefit
DESCRIPTION:TICKETS ON SALE NOW: https://www.eventbrite.com/e/david-sibley-at-tree-house-brewing-company-tickets-621723149677 \nThe Tilton Fund invites you to join us for an evening with Deerfield’s own award-winning\, nationally acclaimed author and illustrator of Sibley Guide to Birds\, and What It’s Like to be a Bird\, at Treehouse Brewing’s state of the art theater. Bring your birding questions! \nHave dinner and drinks before the talk inside the Tree House taproom. Ticket options include the addition of a beer ticket and a copy of the author’s latest book. \nTICKETS ON SALE NOW: https://www.eventbrite.com/e/david-sibley-at-tree-house-brewing-company-tickets-621723149677 \nA benefit for the Tilton Library Expansion Project. \nFor more information call 413-665-4683
URL:https://www.tiltonlibrary.org/event/david-sibley-at-tree-house-a-library-benefit/
CATEGORIES:Library Fundraising Event,Presentation
ATTACH;FMTTYPE=image/jpeg:https://www.tiltonlibrary.org/wp-content/uploads/2023/05/Sibley-talk-8.5-×-11-in-Facebook-Cover-Facebook-Cover-2-e1683559948771.jpg
END:VEVENT
BEGIN:VEVENT
DTSTART;TZID=America/New_York:20230523T103000
DTEND;TZID=America/New_York:20230523T113000
DTSTAMP:20260425T134612
CREATED:20220708T130808Z
LAST-MODIFIED:20221212T203844Z
UID:10004337-1684837800-1684841400@www.tiltonlibrary.org
SUMMARY:Story Time with Holly
DESCRIPTION:All ages and abilities welcome! Drop in for a relaxed story hour\, listen to books\, play\, make a seasonal craft\, and chat with other grown ups!\nMasks encouraged
URL:https://www.tiltonlibrary.org/event/story-time-with-holly-2/2023-05-23/
LOCATION:Tilton Library\, 75 North Main Street\, South Deerfield\, MA\, 01373\, United States
CATEGORIES:Activity,Kids Room,Story Time
ATTACH;FMTTYPE=image/jpeg:https://www.tiltonlibrary.org/wp-content/uploads/2022/11/new-story-time-flyer-92022-1920-×-1080-px-e1668630353756.jpg
END:VEVENT
BEGIN:VEVENT
DTSTART;TZID=America/New_York:20230524T100000
DTEND;TZID=America/New_York:20230524T110000
DTSTAMP:20260425T134612
CREATED:20230202T180817Z
LAST-MODIFIED:20230607T172520Z
UID:10003309-1684922400-1684926000@www.tiltonlibrary.org
SUMMARY:Tot-Time Talk & Play
DESCRIPTION:Join us for this special series of caregiver talk and baby/toddler play time! \nContact Amy Battisti with questions amy.battisti@frsu38.org
URL:https://www.tiltonlibrary.org/event/tot-time-talk-play-2/2023-05-24/
LOCATION:Tilton Library\, 75 North Main Street\, South Deerfield\, MA\, 01373\, United States
CATEGORIES:Kids Room
ATTACH;FMTTYPE=image/jpeg:https://www.tiltonlibrary.org/wp-content/uploads/2022/11/tot-and-talk-1920-×-1080-px-e1667843247348.jpg
END:VEVENT
BEGIN:VEVENT
DTSTART;TZID=America/New_York:20230524T183000
DTEND;TZID=America/New_York:20230524T193000
DTSTAMP:20260425T134612
CREATED:20230510T180630Z
LAST-MODIFIED:20230523T194121Z
UID:10004437-1684953000-1684956600@www.tiltonlibrary.org
SUMMARY:Body Kindness - CANCELLED
DESCRIPTION:
URL:https://www.tiltonlibrary.org/event/body-kindness/
CATEGORIES:Activity,Presentation
ATTACH;FMTTYPE=image/jpeg:https://www.tiltonlibrary.org/wp-content/uploads/2023/05/Union-38Tilton-Body-Kindness-Presentation-Flyerv3-1-e1683741940281.jpg
END:VEVENT
END:VCALENDAR