BEGIN:VCALENDAR
VERSION:2.0
PRODID:-//Tilton Library - ECPv6.15.3//NONSGML v1.0//EN
CALSCALE:GREGORIAN
METHOD:PUBLISH
X-ORIGINAL-URL:https://www.tiltonlibrary.org
X-WR-CALDESC:Events for Tilton Library
REFRESH-INTERVAL;VALUE=DURATION:PT1H
X-Robots-Tag:noindex
X-PUBLISHED-TTL:PT1H
BEGIN:VTIMEZONE
TZID:America/New_York
BEGIN:DAYLIGHT
TZOFFSETFROM:-0500
TZOFFSETTO:-0400
TZNAME:EDT
DTSTART:20230312T070000
END:DAYLIGHT
BEGIN:STANDARD
TZOFFSETFROM:-0400
TZOFFSETTO:-0500
TZNAME:EST
DTSTART:20231105T060000
END:STANDARD
END:VTIMEZONE
BEGIN:VEVENT
DTSTART;TZID=America/New_York:20230619T103000
DTEND;TZID=America/New_York:20230619T233000
DTSTAMP:20260425T170102
CREATED:20210112T133006Z
LAST-MODIFIED:20210114T225915Z
UID:10003862-1687170600-1687217400@www.tiltonlibrary.org
SUMMARY:VIRTUAL WEEKLY CLASS: Qigong for Adults
DESCRIPTION:TILTON IS CO-HOSTING THIS FREE WEEKLY CLASS\, SPONSORED BY SUNDERLAND LIBRARY. \nDvora Eisenstein leads this free weekly Qigong class on Zoom. Qigong is an ancient Chinese health care system integrating slow movements\, breathing techniques\, and focused intention. Qigong calms your mind\, improves your balance\, and enhances health. This practice is suitable for all levels of ability and ages. Anyone may join this free class at any time. \nTO JOIN\, CLICK THIS ZOOM LINK:\nhttps://zoom.us/j/117278043
URL:https://www.tiltonlibrary.org/event/virtual-weekly-class-qigong-for-adults-10/2023-06-19/
CATEGORIES:Activity,Workshop
ATTACH;FMTTYPE=image/png:https://www.tiltonlibrary.org/wp-content/uploads/2021/01/Power-of-QI-e1610457620188.png
END:VEVENT
BEGIN:VEVENT
DTSTART;TZID=America/New_York:20230620T100000
DTEND;TZID=America/New_York:20230620T120000
DTSTAMP:20260425T170102
CREATED:20230529T142704Z
LAST-MODIFIED:20230530T144559Z
UID:10004443-1687255200-1687262400@www.tiltonlibrary.org
SUMMARY:Outdoor Knit & Crafts Circle
DESCRIPTION:Knit & Crafts Circle is hosted by Sheep & Shawl (Liz Sorenson) at Tilton Library\, South Deerfield. No registration required. Come one\, come all! This is a social knit & crafts circle in the library’s backyard in the breezy shade of two big trees. A bathroom is available. You must bring your own chair\, snacks\, water\, sunhat\, sunglasses\, crafts of your choosing – knitting\, crochet\, spinning\, rug-hooking\, mending\, any portable craft …. If you need a table to work on (instead of your lap) there are several picnic tables. You may want to bring a plastic bag or tablecloth to keep your items clean on the table. If we get a rainy day\, we will be inside! Email liz@sheepandshawl.com with any questions.
URL:https://www.tiltonlibrary.org/event/outdoor-knit-crafts-circle/2023-06-20/
LOCATION:Tilton Library\, 75 North Main Street\, South Deerfield\, MA\, 01373\, United States
CATEGORIES:Activity
ATTACH;FMTTYPE=image/jpeg:https://www.tiltonlibrary.org/wp-content/uploads/2021/05/knit-and-craft-e1621435804513.jpg
END:VEVENT
BEGIN:VEVENT
DTSTART;TZID=America/New_York:20230620T103000
DTEND;TZID=America/New_York:20230620T113000
DTSTAMP:20260425T170102
CREATED:20230620T182412Z
LAST-MODIFIED:20260318T192342Z
UID:10004471-1687257000-1687260600@www.tiltonlibrary.org
SUMMARY:Story Time
DESCRIPTION:All ages & abilities welcome!  Drop in the children’s room for a relaxed story hour\, listen to books\, play\, make crafts\, and visit our bearded dragon! To request accommodations contact Holly Johnson at 413-665-4683 or hjohnson@cwmars.org. Please allow at least three days to arrange accommodation. \nThe library is closed on Tuesdays at 10:30\, but our door will be open for Story time families.
URL:https://www.tiltonlibrary.org/event/story-time-34/2023-06-20/
LOCATION:Tilton Library\, 75 North Main Street\, South Deerfield\, MA\, 01373\, United States
CATEGORIES:Story Time
ATTACH;FMTTYPE=image/png:https://www.tiltonlibrary.org/wp-content/uploads/2023/06/Copy-of-31826-Story-time-1920-x-1080-px-1-1-e1773861791549.png
END:VEVENT
BEGIN:VEVENT
DTSTART;TZID=America/New_York:20230621T163000
DTEND;TZID=America/New_York:20230621T180000
DTSTAMP:20260425T170102
CREATED:20230528T034654Z
LAST-MODIFIED:20230614T181916Z
UID:10004439-1687365000-1687370400@www.tiltonlibrary.org
SUMMARY:Stories on Simmer: A Library Benefit
DESCRIPTION:TICKETS ON SALE NOW: https://www.eventbrite.com/e/stories-on-simmer-tickets-641707252667 \nPart of Tilton Library’s Local Excellence Series: \nThe Tilton Fund invites you to join us at the stunning Quonquont Farm for James Beard award-winning chef and author Sandy D’Amato’s stories and cooking demo as well as a tasting of a mouth watering dessert from his memoir and cookbook GOOD STOCK: Life on a Low Simmer. Light fare and signature drinks included. Books will be available for sale and signed by Sandy.\nSandy D’Amato has cooked for the Dalai Lama and was personally chosen by Julia Child to cook for her 80th Birthday Celebration. Sandy and his wife Angie run a cooking school called Good Stock Farm in Hatfield. \nTICKETS ON SALE NOW: https://www.eventbrite.com/e/stories-on-simmer-tickets-641707252667 \nA benefit for the Tilton Library Expansion Project. \nFor more information call 413-665-4683
URL:https://www.tiltonlibrary.org/event/stories-on-simmer-a-library-benefit/
CATEGORIES:Library Fundraising Event
ATTACH;FMTTYPE=image/jpeg:https://www.tiltonlibrary.org/wp-content/uploads/2023/05/FINAL-good-stock-quonquont-flyer-Facebook-Cover-2-e1686766743891.jpg
END:VEVENT
BEGIN:VEVENT
DTSTART;TZID=America/New_York:20230624T103000
DTEND;TZID=America/New_York:20230624T113000
DTSTAMP:20260425T170102
CREATED:20230614T163859Z
LAST-MODIFIED:20230614T164156Z
UID:10004463-1687602600-1687606200@www.tiltonlibrary.org
SUMMARY:Kindness Rocks
DESCRIPTION:Behind the Tilton Library (will move indoors in the event of rain) \nThis free program is open to all ages Bring your imagination & wear painting clothes\nWe will supply the rocks and acrylic paint materials At the end of the program you can take your rocks home or leave them at the library to be sealed and placed in front of the library. \nFunded by the Friends of Tilton Library
URL:https://www.tiltonlibrary.org/event/kindness-rocks/
LOCATION:Tilton Library\, 75 North Main Street\, South Deerfield\, MA\, 01373\, United States
CATEGORIES:Summer Library Program
ATTACH;FMTTYPE=image/png:https://www.tiltonlibrary.org/wp-content/uploads/2023/06/webfb-Kindness-rocks-program-1920-×-1080-px-e1686760692945.png
END:VEVENT
END:VCALENDAR