BEGIN:VCALENDAR
VERSION:2.0
PRODID:-//Tilton Library - ECPv6.15.3//NONSGML v1.0//EN
CALSCALE:GREGORIAN
METHOD:PUBLISH
X-WR-CALNAME:Tilton Library
X-ORIGINAL-URL:https://www.tiltonlibrary.org
X-WR-CALDESC:Events for Tilton Library
REFRESH-INTERVAL;VALUE=DURATION:PT1H
X-Robots-Tag:noindex
X-PUBLISHED-TTL:PT1H
BEGIN:VTIMEZONE
TZID:America/New_York
BEGIN:DAYLIGHT
TZOFFSETFROM:-0500
TZOFFSETTO:-0400
TZNAME:EDT
DTSTART:20230312T070000
END:DAYLIGHT
BEGIN:STANDARD
TZOFFSETFROM:-0400
TZOFFSETTO:-0500
TZNAME:EST
DTSTART:20231105T060000
END:STANDARD
END:VTIMEZONE
BEGIN:VEVENT
DTSTART;TZID=America/New_York:20230626T103000
DTEND;TZID=America/New_York:20230626T233000
DTSTAMP:20260425T170036
CREATED:20210112T133006Z
LAST-MODIFIED:20210114T225915Z
UID:10003863-1687775400-1687822200@www.tiltonlibrary.org
SUMMARY:VIRTUAL WEEKLY CLASS: Qigong for Adults
DESCRIPTION:TILTON IS CO-HOSTING THIS FREE WEEKLY CLASS\, SPONSORED BY SUNDERLAND LIBRARY. \nDvora Eisenstein leads this free weekly Qigong class on Zoom. Qigong is an ancient Chinese health care system integrating slow movements\, breathing techniques\, and focused intention. Qigong calms your mind\, improves your balance\, and enhances health. This practice is suitable for all levels of ability and ages. Anyone may join this free class at any time. \nTO JOIN\, CLICK THIS ZOOM LINK:\nhttps://zoom.us/j/117278043
URL:https://www.tiltonlibrary.org/event/virtual-weekly-class-qigong-for-adults-10/2023-06-26/
CATEGORIES:Activity,Workshop
ATTACH;FMTTYPE=image/png:https://www.tiltonlibrary.org/wp-content/uploads/2021/01/Power-of-QI-e1610457620188.png
END:VEVENT
BEGIN:VEVENT
DTSTART;TZID=America/New_York:20230627T100000
DTEND;TZID=America/New_York:20230627T120000
DTSTAMP:20260425T170036
CREATED:20230529T142704Z
LAST-MODIFIED:20230530T144559Z
UID:10004444-1687860000-1687867200@www.tiltonlibrary.org
SUMMARY:Outdoor Knit & Crafts Circle
DESCRIPTION:Knit & Crafts Circle is hosted by Sheep & Shawl (Liz Sorenson) at Tilton Library\, South Deerfield. No registration required. Come one\, come all! This is a social knit & crafts circle in the library’s backyard in the breezy shade of two big trees. A bathroom is available. You must bring your own chair\, snacks\, water\, sunhat\, sunglasses\, crafts of your choosing – knitting\, crochet\, spinning\, rug-hooking\, mending\, any portable craft …. If you need a table to work on (instead of your lap) there are several picnic tables. You may want to bring a plastic bag or tablecloth to keep your items clean on the table. If we get a rainy day\, we will be inside! Email liz@sheepandshawl.com with any questions.
URL:https://www.tiltonlibrary.org/event/outdoor-knit-crafts-circle/2023-06-27/
LOCATION:Tilton Library\, 75 North Main Street\, South Deerfield\, MA\, 01373\, United States
CATEGORIES:Activity
ATTACH;FMTTYPE=image/jpeg:https://www.tiltonlibrary.org/wp-content/uploads/2021/05/knit-and-craft-e1621435804513.jpg
END:VEVENT
BEGIN:VEVENT
DTSTART;TZID=America/New_York:20230627T103000
DTEND;TZID=America/New_York:20230627T113000
DTSTAMP:20260425T170036
CREATED:20230620T182412Z
LAST-MODIFIED:20260318T192342Z
UID:10004472-1687861800-1687865400@www.tiltonlibrary.org
SUMMARY:Story Time
DESCRIPTION:All ages & abilities welcome!  Drop in the children’s room for a relaxed story hour\, listen to books\, play\, make crafts\, and visit our bearded dragon! To request accommodations contact Holly Johnson at 413-665-4683 or hjohnson@cwmars.org. Please allow at least three days to arrange accommodation. \nThe library is closed on Tuesdays at 10:30\, but our door will be open for Story time families.
URL:https://www.tiltonlibrary.org/event/story-time-34/2023-06-27/
LOCATION:Tilton Library\, 75 North Main Street\, South Deerfield\, MA\, 01373\, United States
CATEGORIES:Story Time
ATTACH;FMTTYPE=image/png:https://www.tiltonlibrary.org/wp-content/uploads/2023/06/Copy-of-31826-Story-time-1920-x-1080-px-1-1-e1773861791549.png
END:VEVENT
BEGIN:VEVENT
DTSTART;TZID=America/New_York:20230701T100000
DTEND;TZID=America/New_York:20230701T110000
DTSTAMP:20260425T170036
CREATED:20230614T175121Z
LAST-MODIFIED:20230614T175121Z
UID:10004462-1688205600-1688209200@www.tiltonlibrary.org
SUMMARY:Dinosaurs in Deerfield Reading the Rocks
DESCRIPTION:Presented by Amherst College Students behind the Tilton Library. Explore fossils and gems from the Rock\, Fossil and Dinosaur Shop. Scientists examine rocks to learn about life in the distant past. Some rocks tell us a bit about what critters may have looked liked\, while other rocks give us a sense of what the critters used to do. Some of the first people to notice these special rocks once lived and worked in Deerfield many years ago. One of the earliest discoveries was made by a local teenager.
URL:https://www.tiltonlibrary.org/event/dinosaurs-in-deerfield-reading-the-rocks-2/
LOCATION:Tilton Library\, 75 North Main Street\, South Deerfield\, MA\, 01373\, United States
CATEGORIES:Summer Library Program
ATTACH;FMTTYPE=image/png:https://www.tiltonlibrary.org/wp-content/uploads/2023/06/Dinosaurs-in-Deerfield-facebook-event-cover-2-e1686765070583.png
END:VEVENT
END:VCALENDAR